BEGIN:VCALENDAR
VERSION:2.0
PRODID:-//UACDC - ECPv6.15.20//NONSGML v1.0//EN
CALSCALE:GREGORIAN
METHOD:PUBLISH
X-ORIGINAL-URL:https://www.uacdc.org
X-WR-CALDESC:Events for UACDC
REFRESH-INTERVAL;VALUE=DURATION:PT1H
X-Robots-Tag:noindex
X-PUBLISHED-TTL:PT1H
BEGIN:VTIMEZONE
TZID:America/New_York
BEGIN:DAYLIGHT
TZOFFSETFROM:-0500
TZOFFSETTO:-0400
TZNAME:EDT
DTSTART:20250309T070000
END:DAYLIGHT
BEGIN:STANDARD
TZOFFSETFROM:-0400
TZOFFSETTO:-0500
TZNAME:EST
DTSTART:20251102T060000
END:STANDARD
BEGIN:DAYLIGHT
TZOFFSETFROM:-0500
TZOFFSETTO:-0400
TZNAME:EDT
DTSTART:20260308T070000
END:DAYLIGHT
BEGIN:STANDARD
TZOFFSETFROM:-0400
TZOFFSETTO:-0500
TZNAME:EST
DTSTART:20261101T060000
END:STANDARD
BEGIN:DAYLIGHT
TZOFFSETFROM:-0500
TZOFFSETTO:-0400
TZNAME:EDT
DTSTART:20270314T070000
END:DAYLIGHT
BEGIN:STANDARD
TZOFFSETFROM:-0400
TZOFFSETTO:-0500
TZNAME:EST
DTSTART:20271107T060000
END:STANDARD
END:VTIMEZONE
BEGIN:VTIMEZONE
TZID:UTC
BEGIN:STANDARD
TZOFFSETFROM:+0000
TZOFFSETTO:+0000
TZNAME:UTC
DTSTART:20250101T000000
END:STANDARD
END:VTIMEZONE
BEGIN:VEVENT
DTSTART;TZID=America/New_York:20260110T160000
DTEND;TZID=America/New_York:20260110T190000
DTSTAMP:20260423T050802
CREATED:20250912T175924Z
LAST-MODIFIED:20250912T175924Z
UID:10020938-1768060800-1768071600@www.uacdc.org
SUMMARY:Lets Go Fishing
DESCRIPTION:Lets Go Fishing  FLYER \nFREE YOUTH FISHING PROGRAM!\nFOR AGES 7-18\nLIMITED SPACE: 15 Spots available! \nQuestions? Devin Curry at 813.455.0202 | dcurry@uacdc.org • Zakeia Smith at 610.4534017 | zsmith@uacdc.org \nHarvest Hope Park\n4pm – 7pm \nOctober 11th & 25th\nNovember 8th & 22nd\nDecember 6th & 20th\nJanuary 10th & 24th\nFebruary 7th & 21st\nMarch 7th & 21st\nApril 4th & 18th\nMay 9th & 23rd
URL:https://www.uacdc.org/event_general/lets-go-fishing-5/2026-01-10/
LOCATION:FL
CATEGORIES:Education,Get Moving,Youth,Youth Classes
ATTACH;FMTTYPE=image/png:https://www.uacdc.org/wp-content/uploads/2025/09/WEB-CALENDAR-2026-01.png
END:VEVENT
BEGIN:VEVENT
DTSTART;TZID=UTC:20260110T170000
DTEND;TZID=UTC:20260110T190000
DTSTAMP:20260423T050802
CREATED:20230829T202315Z
LAST-MODIFIED:20250408T180932Z
UID:10005111-1768064400-1768071600@www.uacdc.org
SUMMARY:Youth Soccer
DESCRIPTION:Get Moving! Youth Soccer w/Coach Romeo/Coach Julian \nYouth Ages 7 – 14\nHarvest Hope Park: 13704 N 20th St.\, Tampa FL 33613\nFridays | 5:00 pm – 7:00 pm \nGet Moving! is a community-based program. If you are interested in participating or have any questions\, please contact Ronnie Oliver\, Health & Wellness Coordinator\, at (813) 558-1149.
URL:https://www.uacdc.org/event_general/youth-soccer-harvest-hope-park/2026-01-10/
LOCATION:Harvest Hope Park\, 13704 N 20th St\, Tampa\, FL\, 33613\, United States
CATEGORIES:Get Moving,Youth,Youth Sports
ATTACH;FMTTYPE=image/png:https://www.uacdc.org/wp-content/uploads/2025/04/GM_soccer.png
ORGANIZER;CN="Get Moving! Program":MAILTO:roliver@uacdc.org
END:VEVENT
END:VCALENDAR