BEGIN:VCALENDAR
VERSION:2.0
PRODID:-//UACDC - ECPv6.15.20//NONSGML v1.0//EN
CALSCALE:GREGORIAN
METHOD:PUBLISH
X-ORIGINAL-URL:https://www.uacdc.org
X-WR-CALDESC:Events for UACDC
REFRESH-INTERVAL;VALUE=DURATION:PT1H
X-Robots-Tag:noindex
X-PUBLISHED-TTL:PT1H
BEGIN:VTIMEZONE
TZID:America/New_York
BEGIN:DAYLIGHT
TZOFFSETFROM:-0500
TZOFFSETTO:-0400
TZNAME:EDT
DTSTART:20240310T070000
END:DAYLIGHT
BEGIN:STANDARD
TZOFFSETFROM:-0400
TZOFFSETTO:-0500
TZNAME:EST
DTSTART:20241103T060000
END:STANDARD
BEGIN:DAYLIGHT
TZOFFSETFROM:-0500
TZOFFSETTO:-0400
TZNAME:EDT
DTSTART:20250309T070000
END:DAYLIGHT
BEGIN:STANDARD
TZOFFSETFROM:-0400
TZOFFSETTO:-0500
TZNAME:EST
DTSTART:20251102T060000
END:STANDARD
BEGIN:DAYLIGHT
TZOFFSETFROM:-0500
TZOFFSETTO:-0400
TZNAME:EDT
DTSTART:20260308T070000
END:DAYLIGHT
BEGIN:STANDARD
TZOFFSETFROM:-0400
TZOFFSETTO:-0500
TZNAME:EST
DTSTART:20261101T060000
END:STANDARD
END:VTIMEZONE
BEGIN:VTIMEZONE
TZID:UTC
BEGIN:STANDARD
TZOFFSETFROM:+0000
TZOFFSETTO:+0000
TZNAME:UTC
DTSTART:20240101T000000
END:STANDARD
END:VTIMEZONE
BEGIN:VEVENT
DTSTART;TZID=America/New_York:20250910T110000
DTEND;TZID=America/New_York:20250910T120000
DTSTAMP:20260420T061808
CREATED:20250819T130903Z
LAST-MODIFIED:20250819T130903Z
UID:10020398-1757502000-1757505600@www.uacdc.org
SUMMARY:Adult Visual Arts for Adults w/Lorena
DESCRIPTION:Adult Visual Arts for Adults w/Lorena \nFLYER \nWednesdays | 11am – 12pm\nVictor Crist Community Center | 14013 N 22nd St\, Tampa FL 33613 \nRegistration applications can be found at www.uacdc.org/prodigyregistration.
URL:https://www.uacdc.org/event_general/adult-visual-arts-for-adults-w-lorena-2/2025-09-10/
LOCATION:Victor Crist Community Center\, 14013 N 22nd Street\, Tampa\, FL\, 33613\, United States
CATEGORIES:Adult,Adult Classes,Education,Prodigy,Prodigy Moves
ATTACH;FMTTYPE=image/png:https://www.uacdc.org/wp-content/uploads/2025/08/Pro_vISUAL_Art-Adult-F25.png
ORGANIZER;CN="Prodigy Moves!":MAILTO:jgreen@uacdc.org
END:VEVENT
BEGIN:VEVENT
DTSTART;TZID=America/New_York:20250910T150000
DTEND;TZID=America/New_York:20250910T180000
DTSTAMP:20260420T061808
CREATED:20250819T124230Z
LAST-MODIFIED:20250819T124230Z
UID:10018482-1757516400-1757527200@www.uacdc.org
SUMMARY:Painting w/ Ms. Angela (ages 5-9)
DESCRIPTION:Painting w/ Ms. Angela- Prodigy® Tampa I (ages 5-9) \nWednesday | 3pm – 6pm\nVictor Crist Community Center | 14013 N 22nd St\, Tampa FL 33613 \nFor more info\, contact Bryan at bmartinez@uacdc.org (English). Registration applications can also be found at www.uacdc.org/prodigyregistration.
URL:https://www.uacdc.org/event_general/painting-w-ms-angela-ages-5-9-2/2025-09-10/
LOCATION:Victor Crist Community Center\, 14013 N 22nd Street\, Tampa\, FL\, 33613\, United States
CATEGORIES:Education,Prodigy,Youth,Youth Special Events
ATTACH;FMTTYPE=image/png:https://www.uacdc.org/wp-content/uploads/2025/08/Pro_Art02-F25.png
ORGANIZER;CN="Prodigy - Tampa I":MAILTO:bmartinez@uacdc.org
END:VEVENT
BEGIN:VEVENT
DTSTART;TZID=America/New_York:20250910T151500
DTEND;TZID=America/New_York:20250910T180000
DTSTAMP:20260420T061808
CREATED:20250819T123959Z
LAST-MODIFIED:20260122T170924Z
UID:10021791-1757517300-1757527200@www.uacdc.org
SUMMARY:Painting w/ Ms. Vivian (ages 5-9)
DESCRIPTION:Painting w/ Ms. Vivian – Prodigy® Tampa I (ages 5-9) \nWednesday | 3:15pm – 6pm\nVictor Crist Community Center | 14013 N 22nd St\, Tampa FL 33613 \nFor more info\, contact Bryan at bmartinez@uacdc.org (English). Registration applications can also be found at www.uacdc.org/prodigyregistration.
URL:https://www.uacdc.org/event_general/painting-w-ms-vivian-ages-5-9-2/2025-09-10/
LOCATION:Victor Crist Community Center\, 14013 N 22nd Street\, Tampa\, FL\, 33613\, United States
CATEGORIES:Education,Prodigy,Youth,Youth Classes
ATTACH;FMTTYPE=image/png:https://www.uacdc.org/wp-content/uploads/2025/08/Pro_Art04-F25.png
ORGANIZER;CN="Prodigy - Tampa I":MAILTO:bmartinez@uacdc.org
END:VEVENT
BEGIN:VEVENT
DTSTART;TZID=UTC:20250910T170000
DTEND;TZID=UTC:20250910T183000
DTSTAMP:20260420T061808
CREATED:20230828T210641Z
LAST-MODIFIED:20260115T210844Z
UID:10000946-1757523600-1757529000@www.uacdc.org
SUMMARY:Youth Athletic Training
DESCRIPTION:GET MOVING – Youth Athletic Training \nHarvest Hope Park: 13704 N 20th St.\, Tampa FL 33613\nWednesday & Thursday | 5:00 – 6:30PM \nGet Moving & G3 Life Applications Present: Athletic Training for ages 7-14. Physical conditioning for athletes and beginners. Wednesday & Thursday | 5:00 – 6:30PM at Harvest Hope Park: 13704 N 20th Street\, Tampa FL 33613. \nClass participation is first-come\, first-served. Sign up ahead of time by downloading the Get Moving! Mind Body & Soul app in the App Store or on Google Play!
URL:https://www.uacdc.org/event_general/youth-athletic-training-harvest-hope-park/2025-09-10/
LOCATION:Harvest Hope Park\, 13704 N 20th St\, Tampa\, FL\, 33613\, United States
CATEGORIES:Education,Get Moving,Youth,Youth Classes,Youth Sports
ATTACH;FMTTYPE=image/png:https://www.uacdc.org/wp-content/uploads/2025/04/GM_Youth_fitness.png
ORGANIZER;CN="Get Moving! Program":MAILTO:roliver@uacdc.org
END:VEVENT
BEGIN:VEVENT
DTSTART;TZID=UTC:20250910T170000
DTEND;TZID=UTC:20250910T183000
DTSTAMP:20260420T061808
CREATED:20250627T163230Z
LAST-MODIFIED:20250627T163230Z
UID:10014475-1757523600-1757529000@www.uacdc.org
SUMMARY:The Sauce
DESCRIPTION:UACDC’s GET MOVING Program & Pasta Packs proudly present:\nTHE SAUCE Young Chefs in the Making \nCooking Class for youth ages 7-14\nHarvest Hope Center: 13704 N 20th St.\, Tampa FL 33613\nWEDNESDAYS (every other Wed) | 5:00 – 6:30 PM \nJuly 9th & 23rd | August 6th & 20th | September 10th & 24th\n5:00pm – 6:30pm \nDo you love eating? If so\, come and learn how to cook the food you put in your body with Chef Nic! We’ll master how to fuel your body and mind in a fun and interactive way. Participants will learn a different recipe every class that gives them the energy they need to GET MOVING! \nClasses occur monthly on the dates listed below. There is no cost to attend. Class participation is first-come\, first-served. Sign up ahead of time by downloading the Get Moving! Mind Body & Soul app in the App Store or on Google Play!
URL:https://www.uacdc.org/event_general/the-sauce-2/2025-09-10/
LOCATION:Harvest Hope Park\, 13704 N 20th St\, Tampa\, FL\, 33613\, United States
CATEGORIES:Education,Get Moving,Youth,Youth Classes
ATTACH;FMTTYPE=image/png:https://www.uacdc.org/wp-content/uploads/2025/04/GM_the-_sauce.png
ORGANIZER;CN="Get Moving! Program":MAILTO:roliver@uacdc.org
END:VEVENT
END:VCALENDAR