BEGIN:VCALENDAR
VERSION:2.0
PRODID:-//UACDC - ECPv6.15.20//NONSGML v1.0//EN
CALSCALE:GREGORIAN
METHOD:PUBLISH
X-ORIGINAL-URL:https://www.uacdc.org
X-WR-CALDESC:Events for UACDC
REFRESH-INTERVAL;VALUE=DURATION:PT1H
X-Robots-Tag:noindex
X-PUBLISHED-TTL:PT1H
BEGIN:VTIMEZONE
TZID:UTC
BEGIN:STANDARD
TZOFFSETFROM:+0000
TZOFFSETTO:+0000
TZNAME:UTC
DTSTART:20230101T000000
END:STANDARD
END:VTIMEZONE
BEGIN:VEVENT
DTSTART;TZID=UTC:20240306T173000
DTEND;TZID=UTC:20240306T193000
DTSTAMP:20260422T093726
CREATED:20240208T030731Z
LAST-MODIFIED:20240208T030731Z
UID:10004255-1709746200-1709753400@www.uacdc.org
SUMMARY:Prodigy Showcase 2024 - Polk Co. Parks & Rec Prodigy
DESCRIPTION:Prodigy Showcase 2024 \nPolk Co. Parks & Rec Prodigy®\nMarch 6th | 5:30 – 7:30pm \nEloise Resource Center\n710 Snively Avenue\nWinter Haven\, FL 33880 \nFlyer
URL:https://www.uacdc.org/event_general/prodigy-showcase-2024-polk-co-parks-rec-prodigy/
LOCATION:FL
CATEGORIES:Education,Family Special Events,Prodigy,Youth,Youth Classes,Youth Special Events
ATTACH;FMTTYPE=image/png:https://www.uacdc.org/wp-content/uploads/2024/02/Prodigy_show2024.png
END:VEVENT
BEGIN:VEVENT
DTSTART;TZID=UTC:20240314T173000
DTEND;TZID=UTC:20240314T193000
DTSTAMP:20260422T093726
CREATED:20240208T030846Z
LAST-MODIFIED:20240208T030903Z
UID:10004256-1710437400-1710444600@www.uacdc.org
SUMMARY:Prodigy Showcase 2024 - BGC Lacoochee Prodigy
DESCRIPTION:Prodigy Showcase 2024 \nBGC Lacoochee Prodigy®\nThursday\, March 14th | 5:30pm \nLewis Abraham Boys and Girls Club\n38724 Mudcat Grant Boulevard\nDade City\, FL 33523 \nFlyer
URL:https://www.uacdc.org/event_general/prodigy-showcase-2024-polk-co-parks-rec-prodigy-2/
LOCATION:FL
CATEGORIES:Education,Family Special Events,Prodigy,Youth,Youth Classes,Youth Special Events
ATTACH;FMTTYPE=image/png:https://www.uacdc.org/wp-content/uploads/2024/02/Prodigy_show2024.png
END:VEVENT
BEGIN:VEVENT
DTSTART;TZID=UTC:20240320T183000
DTEND;TZID=UTC:20240320T203000
DTSTAMP:20260422T093726
CREATED:20240208T031007Z
LAST-MODIFIED:20240208T031007Z
UID:10004257-1710959400-1710966600@www.uacdc.org
SUMMARY:Prodigy Showcase 2024 - ONIC Prodigy
DESCRIPTION:Prodigy Showcase 2024 \nONIC Prodigy®\nWednesday\, March 20th | 6:30 – 8:30pm \nDr. Phillips Center for the Performing Arts – Alexis & Jim Pugh Theater\n445 South Magnolia Avenue\nOrlando\, FL 32801 \nFlyer
URL:https://www.uacdc.org/event_general/prodigy-showcase-2024-onic-prodigy/
LOCATION:FL
CATEGORIES:Education,Family Special Events,Prodigy,Youth,Youth Classes,Youth Special Events
ATTACH;FMTTYPE=image/png:https://www.uacdc.org/wp-content/uploads/2024/02/Prodigy_show2024.png
END:VEVENT
BEGIN:VEVENT
DTSTART;TZID=UTC:20240323T160000
DTEND;TZID=UTC:20240323T180000
DTSTAMP:20260422T093726
CREATED:20240208T031104Z
LAST-MODIFIED:20240208T031104Z
UID:10004258-1711209600-1711216800@www.uacdc.org
SUMMARY:Prodigy Showcase 2024 - Girls Inc Lakeland Prodigy
DESCRIPTION:Prodigy Showcase 2024 \nGirls Inc Lakeland Prodigy®\nSaturday\, March 23rd | 4:00 – 6:00pm \nGirls Inc.\n122 West Highland Street \nLakeland\, FL 33815 \nFlyer
URL:https://www.uacdc.org/event_general/prodigy-showcase-2024-girls-inc-lakeland-prodigy/
LOCATION:FL
CATEGORIES:Education,Family Special Events,Prodigy,Youth,Youth Classes,Youth Special Events
ATTACH;FMTTYPE=image/png:https://www.uacdc.org/wp-content/uploads/2024/02/Prodigy_show2024.png
END:VEVENT
BEGIN:VEVENT
DTSTART;TZID=UTC:20240328T180000
DTEND;TZID=UTC:20240328T190000
DTSTAMP:20260422T093726
CREATED:20240208T031201Z
LAST-MODIFIED:20240208T031247Z
UID:10004259-1711648800-1711652400@www.uacdc.org
SUMMARY:Prodigy Showcase 2024 - YMCA St. Pete Prodigy
DESCRIPTION:Prodigy Showcase 2024 \nYMCA St. Pete Prodigy®\nMarch 28th | 6:00 – 7:00pm \nChilds Park YMCA\n4301 13th Avenue South\nSt. Petersburg\, FL 33711 \nFlyer
URL:https://www.uacdc.org/event_general/prodigy-showcase-2024-bgc-wilbert-davis-prodigy/
LOCATION:FL
CATEGORIES:Education,Family Special Events,Prodigy,Youth,Youth Classes,Youth Special Events
ATTACH;FMTTYPE=image/png:https://www.uacdc.org/wp-content/uploads/2024/02/Prodigy_show2024.png
END:VEVENT
BEGIN:VEVENT
DTSTART;TZID=UTC:20240328T183000
DTEND;TZID=UTC:20240328T193000
DTSTAMP:20260422T093726
CREATED:20240208T031533Z
LAST-MODIFIED:20240208T031533Z
UID:10004260-1711650600-1711654200@www.uacdc.org
SUMMARY:Prodigy Showcase 2024 - BGC Wilbert Davis Prodigy
DESCRIPTION:Prodigy Showcase 2024 \nBGC Wilbert Davis Prodigy®\nMarch 28th | 6:30 – 7:30pm \nWilbert Davis Boys & Girls Club\n3515 Sarah Street\nTampa FL\, 33605 \nFlyer
URL:https://www.uacdc.org/event_general/prodigy-showcase-2024-bgc-wilbert-davis-prodigy-2/
LOCATION:FL
CATEGORIES:Education,Family Special Events,Prodigy,Youth,Youth Classes,Youth Special Events
ATTACH;FMTTYPE=image/png:https://www.uacdc.org/wp-content/uploads/2024/02/Prodigy_show2024.png
END:VEVENT
BEGIN:VEVENT
DTSTART;TZID=UTC:20240329T170000
DTEND;TZID=UTC:20240329T190000
DTSTAMP:20260422T093726
CREATED:20240208T031713Z
LAST-MODIFIED:20240208T031936Z
UID:10004261-1711731600-1711738800@www.uacdc.org
SUMMARY:Prodigy Showcase 2024 - Prodigy® Moves
DESCRIPTION:Prodigy Showcase 2024 \nProdigy® Moves\nMarch 29th | 5:00 – 7:00pm \nUniversity Area Community Center\n14013 North 22nd Street\nTampa\, FL 33613 \nFlyer
URL:https://www.uacdc.org/event_general/prodigy-showcase-2024-prodigy-moves/
LOCATION:FL
CATEGORIES:Education,Family Special Events,Prodigy,Youth,Youth Classes,Youth Special Events
ATTACH;FMTTYPE=image/png:https://www.uacdc.org/wp-content/uploads/2024/02/Prodigy_show2024.png
ORGANIZER;CN="Prodigy Moves!":MAILTO:jgreen@uacdc.org
END:VEVENT
BEGIN:VEVENT
DTSTART;TZID=UTC:20240330T110000
DTEND;TZID=UTC:20240330T140000
DTSTAMP:20260422T093726
CREATED:20240208T031901Z
LAST-MODIFIED:20240208T031922Z
UID:10004262-1711796400-1711807200@www.uacdc.org
SUMMARY:Prodigy Showcase 2024 - Tampa 1 Prodigy
DESCRIPTION:Prodigy Showcase 2024 \nTampa I Prodigy®\nMarch 30th | 11:00am – 2:00pm\n11am-12pm: Art Gallery | 12-2pm: Showcase Performances \nUniversity Area Community Center\n14013 North 22nd Street\nTampa FL\, 33613 \nFlyer
URL:https://www.uacdc.org/event_general/prodigy-showcase-2024-tampa-1-prodigy/
LOCATION:FL
CATEGORIES:Education,Family Special Events,Prodigy,Youth,Youth Classes,Youth Special Events
ATTACH;FMTTYPE=image/png:https://www.uacdc.org/wp-content/uploads/2024/02/Prodigy_show2024.png
ORGANIZER;CN="Prodigy - Tampa I":MAILTO:bmartinez@uacdc.org
END:VEVENT
END:VCALENDAR