BEGIN:VCALENDAR
VERSION:2.0
PRODID:-//UACDC - ECPv6.15.20//NONSGML v1.0//EN
CALSCALE:GREGORIAN
METHOD:PUBLISH
X-WR-CALNAME:UACDC
X-ORIGINAL-URL:https://www.uacdc.org
X-WR-CALDESC:Events for UACDC
REFRESH-INTERVAL;VALUE=DURATION:PT1H
X-Robots-Tag:noindex
X-PUBLISHED-TTL:PT1H
BEGIN:VTIMEZONE
TZID:America/New_York
BEGIN:DAYLIGHT
TZOFFSETFROM:-0500
TZOFFSETTO:-0400
TZNAME:EDT
DTSTART:20250309T070000
END:DAYLIGHT
BEGIN:STANDARD
TZOFFSETFROM:-0400
TZOFFSETTO:-0500
TZNAME:EST
DTSTART:20251102T060000
END:STANDARD
BEGIN:DAYLIGHT
TZOFFSETFROM:-0500
TZOFFSETTO:-0400
TZNAME:EDT
DTSTART:20260308T070000
END:DAYLIGHT
BEGIN:STANDARD
TZOFFSETFROM:-0400
TZOFFSETTO:-0500
TZNAME:EST
DTSTART:20261101T060000
END:STANDARD
BEGIN:DAYLIGHT
TZOFFSETFROM:-0500
TZOFFSETTO:-0400
TZNAME:EDT
DTSTART:20270314T070000
END:DAYLIGHT
BEGIN:STANDARD
TZOFFSETFROM:-0400
TZOFFSETTO:-0500
TZNAME:EST
DTSTART:20271107T060000
END:STANDARD
END:VTIMEZONE
BEGIN:VEVENT
DTSTART;TZID=America/New_York:20260423T150000
DTEND;TZID=America/New_York:20260423T160000
DTSTAMP:20260423T224957
CREATED:20250410T155935Z
LAST-MODIFIED:20250819T130959Z
UID:10008164-1776956400-1776960000@www.uacdc.org
SUMMARY:Capoeira/Hip-Hop Dance for Adults  w/ Instructor Carrie
DESCRIPTION:Capoeira/Hip-Hop Dance for Adults w/ Instructor Carrie \nThursdays | 3pm – 4pm\nVictor Crist Community Center | 14013 N 22nd St\, Tampa FL 33613
URL:https://www.uacdc.org/event_general/capoeira-hip-hop-dance-for-adults-w-instructor-carrie/2026-04-23/
LOCATION:Victor Crist Community Center\, 14013 N 22nd Street\, Tampa\, FL\, 33613\, United States
CATEGORIES:Adult,Adult Classes,Education,Prodigy,Prodigy Moves
ATTACH;FMTTYPE=image/png:https://www.uacdc.org/wp-content/uploads/2025/04/Pro_dance_capoeira-hiphop.png
ORGANIZER;CN="Prodigy Moves!":MAILTO:jgreen@uacdc.org
END:VEVENT
BEGIN:VEVENT
DTSTART;TZID=America/New_York:20260422T110000
DTEND;TZID=America/New_York:20260422T120000
DTSTAMP:20260423T224957
CREATED:20250819T130903Z
LAST-MODIFIED:20250819T130903Z
UID:10020430-1776855600-1776859200@www.uacdc.org
SUMMARY:Adult Visual Arts for Adults w/Lorena
DESCRIPTION:Adult Visual Arts for Adults w/Lorena \nFLYER \nWednesdays | 11am – 12pm\nVictor Crist Community Center | 14013 N 22nd St\, Tampa FL 33613 \nRegistration applications can be found at www.uacdc.org/prodigyregistration.
URL:https://www.uacdc.org/event_general/adult-visual-arts-for-adults-w-lorena-2/2026-04-22/
LOCATION:Victor Crist Community Center\, 14013 N 22nd Street\, Tampa\, FL\, 33613\, United States
CATEGORIES:Adult,Adult Classes,Education,Prodigy,Prodigy Moves
ATTACH;FMTTYPE=image/png:https://www.uacdc.org/wp-content/uploads/2025/08/Pro_vISUAL_Art-Adult-F25.png
ORGANIZER;CN="Prodigy Moves!":MAILTO:jgreen@uacdc.org
END:VEVENT
BEGIN:VEVENT
DTSTART;TZID=America/New_York:20260416T150000
DTEND;TZID=America/New_York:20260416T160000
DTSTAMP:20260423T224957
CREATED:20250410T155935Z
LAST-MODIFIED:20250819T130959Z
UID:10008163-1776351600-1776355200@www.uacdc.org
SUMMARY:Capoeira/Hip-Hop Dance for Adults  w/ Instructor Carrie
DESCRIPTION:Capoeira/Hip-Hop Dance for Adults w/ Instructor Carrie \nThursdays | 3pm – 4pm\nVictor Crist Community Center | 14013 N 22nd St\, Tampa FL 33613
URL:https://www.uacdc.org/event_general/capoeira-hip-hop-dance-for-adults-w-instructor-carrie/2026-04-16/
LOCATION:Victor Crist Community Center\, 14013 N 22nd Street\, Tampa\, FL\, 33613\, United States
CATEGORIES:Adult,Adult Classes,Education,Prodigy,Prodigy Moves
ATTACH;FMTTYPE=image/png:https://www.uacdc.org/wp-content/uploads/2025/04/Pro_dance_capoeira-hiphop.png
ORGANIZER;CN="Prodigy Moves!":MAILTO:jgreen@uacdc.org
END:VEVENT
BEGIN:VEVENT
DTSTART;TZID=America/New_York:20260415T110000
DTEND;TZID=America/New_York:20260415T120000
DTSTAMP:20260423T224957
CREATED:20250819T130903Z
LAST-MODIFIED:20250819T130903Z
UID:10020429-1776250800-1776254400@www.uacdc.org
SUMMARY:Adult Visual Arts for Adults w/Lorena
DESCRIPTION:Adult Visual Arts for Adults w/Lorena \nFLYER \nWednesdays | 11am – 12pm\nVictor Crist Community Center | 14013 N 22nd St\, Tampa FL 33613 \nRegistration applications can be found at www.uacdc.org/prodigyregistration.
URL:https://www.uacdc.org/event_general/adult-visual-arts-for-adults-w-lorena-2/2026-04-15/
LOCATION:Victor Crist Community Center\, 14013 N 22nd Street\, Tampa\, FL\, 33613\, United States
CATEGORIES:Adult,Adult Classes,Education,Prodigy,Prodigy Moves
ATTACH;FMTTYPE=image/png:https://www.uacdc.org/wp-content/uploads/2025/08/Pro_vISUAL_Art-Adult-F25.png
ORGANIZER;CN="Prodigy Moves!":MAILTO:jgreen@uacdc.org
END:VEVENT
BEGIN:VEVENT
DTSTART;TZID=America/New_York:20260409T150000
DTEND;TZID=America/New_York:20260409T160000
DTSTAMP:20260423T224957
CREATED:20250410T155935Z
LAST-MODIFIED:20250819T130959Z
UID:10008162-1775746800-1775750400@www.uacdc.org
SUMMARY:Capoeira/Hip-Hop Dance for Adults  w/ Instructor Carrie
DESCRIPTION:Capoeira/Hip-Hop Dance for Adults w/ Instructor Carrie \nThursdays | 3pm – 4pm\nVictor Crist Community Center | 14013 N 22nd St\, Tampa FL 33613
URL:https://www.uacdc.org/event_general/capoeira-hip-hop-dance-for-adults-w-instructor-carrie/2026-04-09/
LOCATION:Victor Crist Community Center\, 14013 N 22nd Street\, Tampa\, FL\, 33613\, United States
CATEGORIES:Adult,Adult Classes,Education,Prodigy,Prodigy Moves
ATTACH;FMTTYPE=image/png:https://www.uacdc.org/wp-content/uploads/2025/04/Pro_dance_capoeira-hiphop.png
ORGANIZER;CN="Prodigy Moves!":MAILTO:jgreen@uacdc.org
END:VEVENT
BEGIN:VEVENT
DTSTART;TZID=America/New_York:20260408T110000
DTEND;TZID=America/New_York:20260408T120000
DTSTAMP:20260423T224957
CREATED:20250819T130903Z
LAST-MODIFIED:20250819T130903Z
UID:10020428-1775646000-1775649600@www.uacdc.org
SUMMARY:Adult Visual Arts for Adults w/Lorena
DESCRIPTION:Adult Visual Arts for Adults w/Lorena \nFLYER \nWednesdays | 11am – 12pm\nVictor Crist Community Center | 14013 N 22nd St\, Tampa FL 33613 \nRegistration applications can be found at www.uacdc.org/prodigyregistration.
URL:https://www.uacdc.org/event_general/adult-visual-arts-for-adults-w-lorena-2/2026-04-08/
LOCATION:Victor Crist Community Center\, 14013 N 22nd Street\, Tampa\, FL\, 33613\, United States
CATEGORIES:Adult,Adult Classes,Education,Prodigy,Prodigy Moves
ATTACH;FMTTYPE=image/png:https://www.uacdc.org/wp-content/uploads/2025/08/Pro_vISUAL_Art-Adult-F25.png
ORGANIZER;CN="Prodigy Moves!":MAILTO:jgreen@uacdc.org
END:VEVENT
BEGIN:VEVENT
DTSTART;TZID=America/New_York:20260402T150000
DTEND;TZID=America/New_York:20260402T160000
DTSTAMP:20260423T224957
CREATED:20250410T155935Z
LAST-MODIFIED:20250819T130959Z
UID:10008161-1775142000-1775145600@www.uacdc.org
SUMMARY:Capoeira/Hip-Hop Dance for Adults  w/ Instructor Carrie
DESCRIPTION:Capoeira/Hip-Hop Dance for Adults w/ Instructor Carrie \nThursdays | 3pm – 4pm\nVictor Crist Community Center | 14013 N 22nd St\, Tampa FL 33613
URL:https://www.uacdc.org/event_general/capoeira-hip-hop-dance-for-adults-w-instructor-carrie/2026-04-02/
LOCATION:Victor Crist Community Center\, 14013 N 22nd Street\, Tampa\, FL\, 33613\, United States
CATEGORIES:Adult,Adult Classes,Education,Prodigy,Prodigy Moves
ATTACH;FMTTYPE=image/png:https://www.uacdc.org/wp-content/uploads/2025/04/Pro_dance_capoeira-hiphop.png
ORGANIZER;CN="Prodigy Moves!":MAILTO:jgreen@uacdc.org
END:VEVENT
BEGIN:VEVENT
DTSTART;TZID=America/New_York:20260401T110000
DTEND;TZID=America/New_York:20260401T120000
DTSTAMP:20260423T224957
CREATED:20250819T130903Z
LAST-MODIFIED:20250819T130903Z
UID:10020427-1775041200-1775044800@www.uacdc.org
SUMMARY:Adult Visual Arts for Adults w/Lorena
DESCRIPTION:Adult Visual Arts for Adults w/Lorena \nFLYER \nWednesdays | 11am – 12pm\nVictor Crist Community Center | 14013 N 22nd St\, Tampa FL 33613 \nRegistration applications can be found at www.uacdc.org/prodigyregistration.
URL:https://www.uacdc.org/event_general/adult-visual-arts-for-adults-w-lorena-2/2026-04-01/
LOCATION:Victor Crist Community Center\, 14013 N 22nd Street\, Tampa\, FL\, 33613\, United States
CATEGORIES:Adult,Adult Classes,Education,Prodigy,Prodigy Moves
ATTACH;FMTTYPE=image/png:https://www.uacdc.org/wp-content/uploads/2025/08/Pro_vISUAL_Art-Adult-F25.png
ORGANIZER;CN="Prodigy Moves!":MAILTO:jgreen@uacdc.org
END:VEVENT
BEGIN:VEVENT
DTSTART;TZID=America/New_York:20260326T150000
DTEND;TZID=America/New_York:20260326T160000
DTSTAMP:20260423T224957
CREATED:20250410T155935Z
LAST-MODIFIED:20250819T130959Z
UID:10008160-1774537200-1774540800@www.uacdc.org
SUMMARY:Capoeira/Hip-Hop Dance for Adults  w/ Instructor Carrie
DESCRIPTION:Capoeira/Hip-Hop Dance for Adults w/ Instructor Carrie \nThursdays | 3pm – 4pm\nVictor Crist Community Center | 14013 N 22nd St\, Tampa FL 33613
URL:https://www.uacdc.org/event_general/capoeira-hip-hop-dance-for-adults-w-instructor-carrie/2026-03-26/
LOCATION:Victor Crist Community Center\, 14013 N 22nd Street\, Tampa\, FL\, 33613\, United States
CATEGORIES:Adult,Adult Classes,Education,Prodigy,Prodigy Moves
ATTACH;FMTTYPE=image/png:https://www.uacdc.org/wp-content/uploads/2025/04/Pro_dance_capoeira-hiphop.png
ORGANIZER;CN="Prodigy Moves!":MAILTO:jgreen@uacdc.org
END:VEVENT
BEGIN:VEVENT
DTSTART;TZID=America/New_York:20260325T110000
DTEND;TZID=America/New_York:20260325T120000
DTSTAMP:20260423T224957
CREATED:20250819T130903Z
LAST-MODIFIED:20250819T130903Z
UID:10020426-1774436400-1774440000@www.uacdc.org
SUMMARY:Adult Visual Arts for Adults w/Lorena
DESCRIPTION:Adult Visual Arts for Adults w/Lorena \nFLYER \nWednesdays | 11am – 12pm\nVictor Crist Community Center | 14013 N 22nd St\, Tampa FL 33613 \nRegistration applications can be found at www.uacdc.org/prodigyregistration.
URL:https://www.uacdc.org/event_general/adult-visual-arts-for-adults-w-lorena-2/2026-03-25/
LOCATION:Victor Crist Community Center\, 14013 N 22nd Street\, Tampa\, FL\, 33613\, United States
CATEGORIES:Adult,Adult Classes,Education,Prodigy,Prodigy Moves
ATTACH;FMTTYPE=image/png:https://www.uacdc.org/wp-content/uploads/2025/08/Pro_vISUAL_Art-Adult-F25.png
ORGANIZER;CN="Prodigy Moves!":MAILTO:jgreen@uacdc.org
END:VEVENT
BEGIN:VEVENT
DTSTART;TZID=America/New_York:20260319T150000
DTEND;TZID=America/New_York:20260319T160000
DTSTAMP:20260423T224957
CREATED:20250410T155935Z
LAST-MODIFIED:20250819T130959Z
UID:10008159-1773932400-1773936000@www.uacdc.org
SUMMARY:Capoeira/Hip-Hop Dance for Adults  w/ Instructor Carrie
DESCRIPTION:Capoeira/Hip-Hop Dance for Adults w/ Instructor Carrie \nThursdays | 3pm – 4pm\nVictor Crist Community Center | 14013 N 22nd St\, Tampa FL 33613
URL:https://www.uacdc.org/event_general/capoeira-hip-hop-dance-for-adults-w-instructor-carrie/2026-03-19/
LOCATION:Victor Crist Community Center\, 14013 N 22nd Street\, Tampa\, FL\, 33613\, United States
CATEGORIES:Adult,Adult Classes,Education,Prodigy,Prodigy Moves
ATTACH;FMTTYPE=image/png:https://www.uacdc.org/wp-content/uploads/2025/04/Pro_dance_capoeira-hiphop.png
ORGANIZER;CN="Prodigy Moves!":MAILTO:jgreen@uacdc.org
END:VEVENT
BEGIN:VEVENT
DTSTART;TZID=America/New_York:20260318T110000
DTEND;TZID=America/New_York:20260318T120000
DTSTAMP:20260423T224957
CREATED:20250819T130903Z
LAST-MODIFIED:20250819T130903Z
UID:10020425-1773831600-1773835200@www.uacdc.org
SUMMARY:Adult Visual Arts for Adults w/Lorena
DESCRIPTION:Adult Visual Arts for Adults w/Lorena \nFLYER \nWednesdays | 11am – 12pm\nVictor Crist Community Center | 14013 N 22nd St\, Tampa FL 33613 \nRegistration applications can be found at www.uacdc.org/prodigyregistration.
URL:https://www.uacdc.org/event_general/adult-visual-arts-for-adults-w-lorena-2/2026-03-18/
LOCATION:Victor Crist Community Center\, 14013 N 22nd Street\, Tampa\, FL\, 33613\, United States
CATEGORIES:Adult,Adult Classes,Education,Prodigy,Prodigy Moves
ATTACH;FMTTYPE=image/png:https://www.uacdc.org/wp-content/uploads/2025/08/Pro_vISUAL_Art-Adult-F25.png
ORGANIZER;CN="Prodigy Moves!":MAILTO:jgreen@uacdc.org
END:VEVENT
BEGIN:VEVENT
DTSTART;TZID=America/New_York:20260312T150000
DTEND;TZID=America/New_York:20260312T160000
DTSTAMP:20260423T224957
CREATED:20250410T155935Z
LAST-MODIFIED:20250819T130959Z
UID:10008158-1773327600-1773331200@www.uacdc.org
SUMMARY:Capoeira/Hip-Hop Dance for Adults  w/ Instructor Carrie
DESCRIPTION:Capoeira/Hip-Hop Dance for Adults w/ Instructor Carrie \nThursdays | 3pm – 4pm\nVictor Crist Community Center | 14013 N 22nd St\, Tampa FL 33613
URL:https://www.uacdc.org/event_general/capoeira-hip-hop-dance-for-adults-w-instructor-carrie/2026-03-12/
LOCATION:Victor Crist Community Center\, 14013 N 22nd Street\, Tampa\, FL\, 33613\, United States
CATEGORIES:Adult,Adult Classes,Education,Prodigy,Prodigy Moves
ATTACH;FMTTYPE=image/png:https://www.uacdc.org/wp-content/uploads/2025/04/Pro_dance_capoeira-hiphop.png
ORGANIZER;CN="Prodigy Moves!":MAILTO:jgreen@uacdc.org
END:VEVENT
BEGIN:VEVENT
DTSTART;TZID=America/New_York:20260311T110000
DTEND;TZID=America/New_York:20260311T120000
DTSTAMP:20260423T224957
CREATED:20250819T130903Z
LAST-MODIFIED:20250819T130903Z
UID:10020424-1773226800-1773230400@www.uacdc.org
SUMMARY:Adult Visual Arts for Adults w/Lorena
DESCRIPTION:Adult Visual Arts for Adults w/Lorena \nFLYER \nWednesdays | 11am – 12pm\nVictor Crist Community Center | 14013 N 22nd St\, Tampa FL 33613 \nRegistration applications can be found at www.uacdc.org/prodigyregistration.
URL:https://www.uacdc.org/event_general/adult-visual-arts-for-adults-w-lorena-2/2026-03-11/
LOCATION:Victor Crist Community Center\, 14013 N 22nd Street\, Tampa\, FL\, 33613\, United States
CATEGORIES:Adult,Adult Classes,Education,Prodigy,Prodigy Moves
ATTACH;FMTTYPE=image/png:https://www.uacdc.org/wp-content/uploads/2025/08/Pro_vISUAL_Art-Adult-F25.png
ORGANIZER;CN="Prodigy Moves!":MAILTO:jgreen@uacdc.org
END:VEVENT
BEGIN:VEVENT
DTSTART;TZID=America/New_York:20260305T150000
DTEND;TZID=America/New_York:20260305T160000
DTSTAMP:20260423T224957
CREATED:20250410T155935Z
LAST-MODIFIED:20250819T130959Z
UID:10008157-1772722800-1772726400@www.uacdc.org
SUMMARY:Capoeira/Hip-Hop Dance for Adults  w/ Instructor Carrie
DESCRIPTION:Capoeira/Hip-Hop Dance for Adults w/ Instructor Carrie \nThursdays | 3pm – 4pm\nVictor Crist Community Center | 14013 N 22nd St\, Tampa FL 33613
URL:https://www.uacdc.org/event_general/capoeira-hip-hop-dance-for-adults-w-instructor-carrie/2026-03-05/
LOCATION:Victor Crist Community Center\, 14013 N 22nd Street\, Tampa\, FL\, 33613\, United States
CATEGORIES:Adult,Adult Classes,Education,Prodigy,Prodigy Moves
ATTACH;FMTTYPE=image/png:https://www.uacdc.org/wp-content/uploads/2025/04/Pro_dance_capoeira-hiphop.png
ORGANIZER;CN="Prodigy Moves!":MAILTO:jgreen@uacdc.org
END:VEVENT
BEGIN:VEVENT
DTSTART;TZID=America/New_York:20260304T110000
DTEND;TZID=America/New_York:20260304T120000
DTSTAMP:20260423T224957
CREATED:20250819T130903Z
LAST-MODIFIED:20250819T130903Z
UID:10020423-1772622000-1772625600@www.uacdc.org
SUMMARY:Adult Visual Arts for Adults w/Lorena
DESCRIPTION:Adult Visual Arts for Adults w/Lorena \nFLYER \nWednesdays | 11am – 12pm\nVictor Crist Community Center | 14013 N 22nd St\, Tampa FL 33613 \nRegistration applications can be found at www.uacdc.org/prodigyregistration.
URL:https://www.uacdc.org/event_general/adult-visual-arts-for-adults-w-lorena-2/2026-03-04/
LOCATION:Victor Crist Community Center\, 14013 N 22nd Street\, Tampa\, FL\, 33613\, United States
CATEGORIES:Adult,Adult Classes,Education,Prodigy,Prodigy Moves
ATTACH;FMTTYPE=image/png:https://www.uacdc.org/wp-content/uploads/2025/08/Pro_vISUAL_Art-Adult-F25.png
ORGANIZER;CN="Prodigy Moves!":MAILTO:jgreen@uacdc.org
END:VEVENT
BEGIN:VEVENT
DTSTART;TZID=America/New_York:20260226T150000
DTEND;TZID=America/New_York:20260226T160000
DTSTAMP:20260423T224957
CREATED:20250410T155935Z
LAST-MODIFIED:20250819T130959Z
UID:10008156-1772118000-1772121600@www.uacdc.org
SUMMARY:Capoeira/Hip-Hop Dance for Adults  w/ Instructor Carrie
DESCRIPTION:Capoeira/Hip-Hop Dance for Adults w/ Instructor Carrie \nThursdays | 3pm – 4pm\nVictor Crist Community Center | 14013 N 22nd St\, Tampa FL 33613
URL:https://www.uacdc.org/event_general/capoeira-hip-hop-dance-for-adults-w-instructor-carrie/2026-02-26/
LOCATION:Victor Crist Community Center\, 14013 N 22nd Street\, Tampa\, FL\, 33613\, United States
CATEGORIES:Adult,Adult Classes,Education,Prodigy,Prodigy Moves
ATTACH;FMTTYPE=image/png:https://www.uacdc.org/wp-content/uploads/2025/04/Pro_dance_capoeira-hiphop.png
ORGANIZER;CN="Prodigy Moves!":MAILTO:jgreen@uacdc.org
END:VEVENT
BEGIN:VEVENT
DTSTART;TZID=America/New_York:20260225T110000
DTEND;TZID=America/New_York:20260225T120000
DTSTAMP:20260423T224957
CREATED:20250819T130903Z
LAST-MODIFIED:20250819T130903Z
UID:10020422-1772017200-1772020800@www.uacdc.org
SUMMARY:Adult Visual Arts for Adults w/Lorena
DESCRIPTION:Adult Visual Arts for Adults w/Lorena \nFLYER \nWednesdays | 11am – 12pm\nVictor Crist Community Center | 14013 N 22nd St\, Tampa FL 33613 \nRegistration applications can be found at www.uacdc.org/prodigyregistration.
URL:https://www.uacdc.org/event_general/adult-visual-arts-for-adults-w-lorena-2/2026-02-25/
LOCATION:Victor Crist Community Center\, 14013 N 22nd Street\, Tampa\, FL\, 33613\, United States
CATEGORIES:Adult,Adult Classes,Education,Prodigy,Prodigy Moves
ATTACH;FMTTYPE=image/png:https://www.uacdc.org/wp-content/uploads/2025/08/Pro_vISUAL_Art-Adult-F25.png
ORGANIZER;CN="Prodigy Moves!":MAILTO:jgreen@uacdc.org
END:VEVENT
BEGIN:VEVENT
DTSTART;TZID=America/New_York:20260219T150000
DTEND;TZID=America/New_York:20260219T160000
DTSTAMP:20260423T224957
CREATED:20250410T155935Z
LAST-MODIFIED:20250819T130959Z
UID:10008155-1771513200-1771516800@www.uacdc.org
SUMMARY:Capoeira/Hip-Hop Dance for Adults  w/ Instructor Carrie
DESCRIPTION:Capoeira/Hip-Hop Dance for Adults w/ Instructor Carrie \nThursdays | 3pm – 4pm\nVictor Crist Community Center | 14013 N 22nd St\, Tampa FL 33613
URL:https://www.uacdc.org/event_general/capoeira-hip-hop-dance-for-adults-w-instructor-carrie/2026-02-19/
LOCATION:Victor Crist Community Center\, 14013 N 22nd Street\, Tampa\, FL\, 33613\, United States
CATEGORIES:Adult,Adult Classes,Education,Prodigy,Prodigy Moves
ATTACH;FMTTYPE=image/png:https://www.uacdc.org/wp-content/uploads/2025/04/Pro_dance_capoeira-hiphop.png
ORGANIZER;CN="Prodigy Moves!":MAILTO:jgreen@uacdc.org
END:VEVENT
BEGIN:VEVENT
DTSTART;TZID=America/New_York:20260218T110000
DTEND;TZID=America/New_York:20260218T120000
DTSTAMP:20260423T224957
CREATED:20250819T130903Z
LAST-MODIFIED:20250819T130903Z
UID:10020421-1771412400-1771416000@www.uacdc.org
SUMMARY:Adult Visual Arts for Adults w/Lorena
DESCRIPTION:Adult Visual Arts for Adults w/Lorena \nFLYER \nWednesdays | 11am – 12pm\nVictor Crist Community Center | 14013 N 22nd St\, Tampa FL 33613 \nRegistration applications can be found at www.uacdc.org/prodigyregistration.
URL:https://www.uacdc.org/event_general/adult-visual-arts-for-adults-w-lorena-2/2026-02-18/
LOCATION:Victor Crist Community Center\, 14013 N 22nd Street\, Tampa\, FL\, 33613\, United States
CATEGORIES:Adult,Adult Classes,Education,Prodigy,Prodigy Moves
ATTACH;FMTTYPE=image/png:https://www.uacdc.org/wp-content/uploads/2025/08/Pro_vISUAL_Art-Adult-F25.png
ORGANIZER;CN="Prodigy Moves!":MAILTO:jgreen@uacdc.org
END:VEVENT
BEGIN:VEVENT
DTSTART;TZID=America/New_York:20260212T150000
DTEND;TZID=America/New_York:20260212T160000
DTSTAMP:20260423T224957
CREATED:20250410T155935Z
LAST-MODIFIED:20250819T130959Z
UID:10008154-1770908400-1770912000@www.uacdc.org
SUMMARY:Capoeira/Hip-Hop Dance for Adults  w/ Instructor Carrie
DESCRIPTION:Capoeira/Hip-Hop Dance for Adults w/ Instructor Carrie \nThursdays | 3pm – 4pm\nVictor Crist Community Center | 14013 N 22nd St\, Tampa FL 33613
URL:https://www.uacdc.org/event_general/capoeira-hip-hop-dance-for-adults-w-instructor-carrie/2026-02-12/
LOCATION:Victor Crist Community Center\, 14013 N 22nd Street\, Tampa\, FL\, 33613\, United States
CATEGORIES:Adult,Adult Classes,Education,Prodigy,Prodigy Moves
ATTACH;FMTTYPE=image/png:https://www.uacdc.org/wp-content/uploads/2025/04/Pro_dance_capoeira-hiphop.png
ORGANIZER;CN="Prodigy Moves!":MAILTO:jgreen@uacdc.org
END:VEVENT
BEGIN:VEVENT
DTSTART;TZID=America/New_York:20260211T110000
DTEND;TZID=America/New_York:20260211T120000
DTSTAMP:20260423T224957
CREATED:20250819T130903Z
LAST-MODIFIED:20250819T130903Z
UID:10020420-1770807600-1770811200@www.uacdc.org
SUMMARY:Adult Visual Arts for Adults w/Lorena
DESCRIPTION:Adult Visual Arts for Adults w/Lorena \nFLYER \nWednesdays | 11am – 12pm\nVictor Crist Community Center | 14013 N 22nd St\, Tampa FL 33613 \nRegistration applications can be found at www.uacdc.org/prodigyregistration.
URL:https://www.uacdc.org/event_general/adult-visual-arts-for-adults-w-lorena-2/2026-02-11/
LOCATION:Victor Crist Community Center\, 14013 N 22nd Street\, Tampa\, FL\, 33613\, United States
CATEGORIES:Adult,Adult Classes,Education,Prodigy,Prodigy Moves
ATTACH;FMTTYPE=image/png:https://www.uacdc.org/wp-content/uploads/2025/08/Pro_vISUAL_Art-Adult-F25.png
ORGANIZER;CN="Prodigy Moves!":MAILTO:jgreen@uacdc.org
END:VEVENT
BEGIN:VEVENT
DTSTART;TZID=America/New_York:20260206T100000
DTEND;TZID=America/New_York:20260206T230000
DTSTAMP:20260423T224957
CREATED:20251103T180634Z
LAST-MODIFIED:20260224T155522Z
UID:10021117-1770372000-1770418800@www.uacdc.org
SUMMARY:First Fridays @ Harvest Hope Park
DESCRIPTION:FIRST FRIDAYS AT HARVEST HOPE PARK \nJoin us and unleash your inner creativity!\nFREE CULTURAL ART SESSIONS!\nDrumming • Zumba • Gardening • Visual Arts \nOn the First Friday of each month\, join us for FREE cultural art sessions\, gardening tips\, Kinship Market\, fresh produce\, and more!\nEach month we’ll present a different art medium for adults and youth to participate in. \nMake Plans to Join Us at: 13704 N 20th St. Tampa\, FL 33613\nAll ages welcome 🙂 \n10:00 – 11:00 AM\nJUNE 6 – Drum Circle\nJULY 4 – N/A Holiday\nAUG. 1 – Zumba Class\nSEPT. 5 – Visual Arts\nOCT. 3 – Drum Circle\nNOV. 7 – Drum Circle\nDEC. 5 – Visual Arts \nQuestions? Contact Ola at 813-558-5212 x 250 or tcox@uacdc.org\n14013 N 22nd Street\, Tampa FL 33613 | 813-558-5212 | uacdc.org | @UnivAreaCDC
URL:https://www.uacdc.org/event_general/first-fridays-harvest-hope-park/2026-02-06/
LOCATION:Harvest Hope Park\, 13704 N 20th St\, Tampa\, FL\, 33613\, United States
CATEGORIES:Education,Families,Family Special Events,Outreach,Prodigy Moves,Youth Special Events
ATTACH;FMTTYPE=image/png:https://www.uacdc.org/wp-content/uploads/2025/04/Pro_First_Fridays.png
ORGANIZER;CN="Prodigy Moves!":MAILTO:jgreen@uacdc.org
END:VEVENT
BEGIN:VEVENT
DTSTART;TZID=America/New_York:20260205T150000
DTEND;TZID=America/New_York:20260205T160000
DTSTAMP:20260423T224957
CREATED:20250410T155935Z
LAST-MODIFIED:20250819T130959Z
UID:10008153-1770303600-1770307200@www.uacdc.org
SUMMARY:Capoeira/Hip-Hop Dance for Adults  w/ Instructor Carrie
DESCRIPTION:Capoeira/Hip-Hop Dance for Adults w/ Instructor Carrie \nThursdays | 3pm – 4pm\nVictor Crist Community Center | 14013 N 22nd St\, Tampa FL 33613
URL:https://www.uacdc.org/event_general/capoeira-hip-hop-dance-for-adults-w-instructor-carrie/2026-02-05/
LOCATION:Victor Crist Community Center\, 14013 N 22nd Street\, Tampa\, FL\, 33613\, United States
CATEGORIES:Adult,Adult Classes,Education,Prodigy,Prodigy Moves
ATTACH;FMTTYPE=image/png:https://www.uacdc.org/wp-content/uploads/2025/04/Pro_dance_capoeira-hiphop.png
ORGANIZER;CN="Prodigy Moves!":MAILTO:jgreen@uacdc.org
END:VEVENT
BEGIN:VEVENT
DTSTART;TZID=America/New_York:20260204T110000
DTEND;TZID=America/New_York:20260204T120000
DTSTAMP:20260423T224957
CREATED:20250819T130903Z
LAST-MODIFIED:20250819T130903Z
UID:10020419-1770202800-1770206400@www.uacdc.org
SUMMARY:Adult Visual Arts for Adults w/Lorena
DESCRIPTION:Adult Visual Arts for Adults w/Lorena \nFLYER \nWednesdays | 11am – 12pm\nVictor Crist Community Center | 14013 N 22nd St\, Tampa FL 33613 \nRegistration applications can be found at www.uacdc.org/prodigyregistration.
URL:https://www.uacdc.org/event_general/adult-visual-arts-for-adults-w-lorena-2/2026-02-04/
LOCATION:Victor Crist Community Center\, 14013 N 22nd Street\, Tampa\, FL\, 33613\, United States
CATEGORIES:Adult,Adult Classes,Education,Prodigy,Prodigy Moves
ATTACH;FMTTYPE=image/png:https://www.uacdc.org/wp-content/uploads/2025/08/Pro_vISUAL_Art-Adult-F25.png
ORGANIZER;CN="Prodigy Moves!":MAILTO:jgreen@uacdc.org
END:VEVENT
BEGIN:VEVENT
DTSTART;TZID=America/New_York:20260129T150000
DTEND;TZID=America/New_York:20260129T160000
DTSTAMP:20260423T224957
CREATED:20250410T155935Z
LAST-MODIFIED:20250819T130959Z
UID:10008152-1769698800-1769702400@www.uacdc.org
SUMMARY:Capoeira/Hip-Hop Dance for Adults  w/ Instructor Carrie
DESCRIPTION:Capoeira/Hip-Hop Dance for Adults w/ Instructor Carrie \nThursdays | 3pm – 4pm\nVictor Crist Community Center | 14013 N 22nd St\, Tampa FL 33613
URL:https://www.uacdc.org/event_general/capoeira-hip-hop-dance-for-adults-w-instructor-carrie/2026-01-29/
LOCATION:Victor Crist Community Center\, 14013 N 22nd Street\, Tampa\, FL\, 33613\, United States
CATEGORIES:Adult,Adult Classes,Education,Prodigy,Prodigy Moves
ATTACH;FMTTYPE=image/png:https://www.uacdc.org/wp-content/uploads/2025/04/Pro_dance_capoeira-hiphop.png
ORGANIZER;CN="Prodigy Moves!":MAILTO:jgreen@uacdc.org
END:VEVENT
BEGIN:VEVENT
DTSTART;TZID=America/New_York:20260128T110000
DTEND;TZID=America/New_York:20260128T120000
DTSTAMP:20260423T224957
CREATED:20250819T130903Z
LAST-MODIFIED:20250819T130903Z
UID:10020418-1769598000-1769601600@www.uacdc.org
SUMMARY:Adult Visual Arts for Adults w/Lorena
DESCRIPTION:Adult Visual Arts for Adults w/Lorena \nFLYER \nWednesdays | 11am – 12pm\nVictor Crist Community Center | 14013 N 22nd St\, Tampa FL 33613 \nRegistration applications can be found at www.uacdc.org/prodigyregistration.
URL:https://www.uacdc.org/event_general/adult-visual-arts-for-adults-w-lorena-2/2026-01-28/
LOCATION:Victor Crist Community Center\, 14013 N 22nd Street\, Tampa\, FL\, 33613\, United States
CATEGORIES:Adult,Adult Classes,Education,Prodigy,Prodigy Moves
ATTACH;FMTTYPE=image/png:https://www.uacdc.org/wp-content/uploads/2025/08/Pro_vISUAL_Art-Adult-F25.png
ORGANIZER;CN="Prodigy Moves!":MAILTO:jgreen@uacdc.org
END:VEVENT
BEGIN:VEVENT
DTSTART;TZID=America/New_York:20260122T150000
DTEND;TZID=America/New_York:20260122T160000
DTSTAMP:20260423T224957
CREATED:20250410T155935Z
LAST-MODIFIED:20250819T130959Z
UID:10008151-1769094000-1769097600@www.uacdc.org
SUMMARY:Capoeira/Hip-Hop Dance for Adults  w/ Instructor Carrie
DESCRIPTION:Capoeira/Hip-Hop Dance for Adults w/ Instructor Carrie \nThursdays | 3pm – 4pm\nVictor Crist Community Center | 14013 N 22nd St\, Tampa FL 33613
URL:https://www.uacdc.org/event_general/capoeira-hip-hop-dance-for-adults-w-instructor-carrie/2026-01-22/
LOCATION:Victor Crist Community Center\, 14013 N 22nd Street\, Tampa\, FL\, 33613\, United States
CATEGORIES:Adult,Adult Classes,Education,Prodigy,Prodigy Moves
ATTACH;FMTTYPE=image/png:https://www.uacdc.org/wp-content/uploads/2025/04/Pro_dance_capoeira-hiphop.png
ORGANIZER;CN="Prodigy Moves!":MAILTO:jgreen@uacdc.org
END:VEVENT
BEGIN:VEVENT
DTSTART;TZID=America/New_York:20260121T110000
DTEND;TZID=America/New_York:20260121T120000
DTSTAMP:20260423T224957
CREATED:20250819T130903Z
LAST-MODIFIED:20250819T130903Z
UID:10020417-1768993200-1768996800@www.uacdc.org
SUMMARY:Adult Visual Arts for Adults w/Lorena
DESCRIPTION:Adult Visual Arts for Adults w/Lorena \nFLYER \nWednesdays | 11am – 12pm\nVictor Crist Community Center | 14013 N 22nd St\, Tampa FL 33613 \nRegistration applications can be found at www.uacdc.org/prodigyregistration.
URL:https://www.uacdc.org/event_general/adult-visual-arts-for-adults-w-lorena-2/2026-01-21/
LOCATION:Victor Crist Community Center\, 14013 N 22nd Street\, Tampa\, FL\, 33613\, United States
CATEGORIES:Adult,Adult Classes,Education,Prodigy,Prodigy Moves
ATTACH;FMTTYPE=image/png:https://www.uacdc.org/wp-content/uploads/2025/08/Pro_vISUAL_Art-Adult-F25.png
ORGANIZER;CN="Prodigy Moves!":MAILTO:jgreen@uacdc.org
END:VEVENT
BEGIN:VEVENT
DTSTART;TZID=America/New_York:20260115T150000
DTEND;TZID=America/New_York:20260115T160000
DTSTAMP:20260423T224957
CREATED:20250410T155935Z
LAST-MODIFIED:20250819T130959Z
UID:10008150-1768489200-1768492800@www.uacdc.org
SUMMARY:Capoeira/Hip-Hop Dance for Adults  w/ Instructor Carrie
DESCRIPTION:Capoeira/Hip-Hop Dance for Adults w/ Instructor Carrie \nThursdays | 3pm – 4pm\nVictor Crist Community Center | 14013 N 22nd St\, Tampa FL 33613
URL:https://www.uacdc.org/event_general/capoeira-hip-hop-dance-for-adults-w-instructor-carrie/2026-01-15/
LOCATION:Victor Crist Community Center\, 14013 N 22nd Street\, Tampa\, FL\, 33613\, United States
CATEGORIES:Adult,Adult Classes,Education,Prodigy,Prodigy Moves
ATTACH;FMTTYPE=image/png:https://www.uacdc.org/wp-content/uploads/2025/04/Pro_dance_capoeira-hiphop.png
ORGANIZER;CN="Prodigy Moves!":MAILTO:jgreen@uacdc.org
END:VEVENT
END:VCALENDAR