BEGIN:VCALENDAR
VERSION:2.0
PRODID:-//UACDC - ECPv6.15.20//NONSGML v1.0//EN
CALSCALE:GREGORIAN
METHOD:PUBLISH
X-WR-CALNAME:UACDC
X-ORIGINAL-URL:https://www.uacdc.org
X-WR-CALDESC:Events for UACDC
REFRESH-INTERVAL;VALUE=DURATION:PT1H
X-Robots-Tag:noindex
X-PUBLISHED-TTL:PT1H
BEGIN:VTIMEZONE
TZID:America/New_York
BEGIN:DAYLIGHT
TZOFFSETFROM:-0500
TZOFFSETTO:-0400
TZNAME:EDT
DTSTART:20250309T070000
END:DAYLIGHT
BEGIN:STANDARD
TZOFFSETFROM:-0400
TZOFFSETTO:-0500
TZNAME:EST
DTSTART:20251102T060000
END:STANDARD
BEGIN:DAYLIGHT
TZOFFSETFROM:-0500
TZOFFSETTO:-0400
TZNAME:EDT
DTSTART:20260308T070000
END:DAYLIGHT
BEGIN:STANDARD
TZOFFSETFROM:-0400
TZOFFSETTO:-0500
TZNAME:EST
DTSTART:20261101T060000
END:STANDARD
BEGIN:DAYLIGHT
TZOFFSETFROM:-0500
TZOFFSETTO:-0400
TZNAME:EDT
DTSTART:20270314T070000
END:DAYLIGHT
BEGIN:STANDARD
TZOFFSETFROM:-0400
TZOFFSETTO:-0500
TZNAME:EST
DTSTART:20271107T060000
END:STANDARD
END:VTIMEZONE
BEGIN:VEVENT
DTSTART;TZID=America/New_York:20260430T150000
DTEND;TZID=America/New_York:20260430T160000
DTSTAMP:20260423T161618
CREATED:20250410T155935Z
LAST-MODIFIED:20250819T130959Z
UID:10008165-1777561200-1777564800@www.uacdc.org
SUMMARY:Capoeira/Hip-Hop Dance for Adults  w/ Instructor Carrie
DESCRIPTION:Capoeira/Hip-Hop Dance for Adults w/ Instructor Carrie \nThursdays | 3pm – 4pm\nVictor Crist Community Center | 14013 N 22nd St\, Tampa FL 33613
URL:https://www.uacdc.org/event_general/capoeira-hip-hop-dance-for-adults-w-instructor-carrie/2026-04-30/
LOCATION:Victor Crist Community Center\, 14013 N 22nd Street\, Tampa\, FL\, 33613\, United States
CATEGORIES:Adult,Adult Classes,Education,Prodigy,Prodigy Moves
ATTACH;FMTTYPE=image/png:https://www.uacdc.org/wp-content/uploads/2025/04/Pro_dance_capoeira-hiphop.png
ORGANIZER;CN="Prodigy Moves!":MAILTO:jgreen@uacdc.org
END:VEVENT
BEGIN:VEVENT
DTSTART;TZID=America/New_York:20260507T150000
DTEND;TZID=America/New_York:20260507T160000
DTSTAMP:20260423T161618
CREATED:20250410T155935Z
LAST-MODIFIED:20250819T130959Z
UID:10008166-1778166000-1778169600@www.uacdc.org
SUMMARY:Capoeira/Hip-Hop Dance for Adults  w/ Instructor Carrie
DESCRIPTION:Capoeira/Hip-Hop Dance for Adults w/ Instructor Carrie \nThursdays | 3pm – 4pm\nVictor Crist Community Center | 14013 N 22nd St\, Tampa FL 33613
URL:https://www.uacdc.org/event_general/capoeira-hip-hop-dance-for-adults-w-instructor-carrie/2026-05-07/
LOCATION:Victor Crist Community Center\, 14013 N 22nd Street\, Tampa\, FL\, 33613\, United States
CATEGORIES:Adult,Adult Classes,Education,Prodigy,Prodigy Moves
ATTACH;FMTTYPE=image/png:https://www.uacdc.org/wp-content/uploads/2025/04/Pro_dance_capoeira-hiphop.png
ORGANIZER;CN="Prodigy Moves!":MAILTO:jgreen@uacdc.org
END:VEVENT
BEGIN:VEVENT
DTSTART;TZID=America/New_York:20260514T150000
DTEND;TZID=America/New_York:20260514T160000
DTSTAMP:20260423T161618
CREATED:20250410T155935Z
LAST-MODIFIED:20250819T130959Z
UID:10008167-1778770800-1778774400@www.uacdc.org
SUMMARY:Capoeira/Hip-Hop Dance for Adults  w/ Instructor Carrie
DESCRIPTION:Capoeira/Hip-Hop Dance for Adults w/ Instructor Carrie \nThursdays | 3pm – 4pm\nVictor Crist Community Center | 14013 N 22nd St\, Tampa FL 33613
URL:https://www.uacdc.org/event_general/capoeira-hip-hop-dance-for-adults-w-instructor-carrie/2026-05-14/
LOCATION:Victor Crist Community Center\, 14013 N 22nd Street\, Tampa\, FL\, 33613\, United States
CATEGORIES:Adult,Adult Classes,Education,Prodigy,Prodigy Moves
ATTACH;FMTTYPE=image/png:https://www.uacdc.org/wp-content/uploads/2025/04/Pro_dance_capoeira-hiphop.png
ORGANIZER;CN="Prodigy Moves!":MAILTO:jgreen@uacdc.org
END:VEVENT
BEGIN:VEVENT
DTSTART;TZID=America/New_York:20260521T150000
DTEND;TZID=America/New_York:20260521T160000
DTSTAMP:20260423T161618
CREATED:20250410T155935Z
LAST-MODIFIED:20250819T130959Z
UID:10008168-1779375600-1779379200@www.uacdc.org
SUMMARY:Capoeira/Hip-Hop Dance for Adults  w/ Instructor Carrie
DESCRIPTION:Capoeira/Hip-Hop Dance for Adults w/ Instructor Carrie \nThursdays | 3pm – 4pm\nVictor Crist Community Center | 14013 N 22nd St\, Tampa FL 33613
URL:https://www.uacdc.org/event_general/capoeira-hip-hop-dance-for-adults-w-instructor-carrie/2026-05-21/
LOCATION:Victor Crist Community Center\, 14013 N 22nd Street\, Tampa\, FL\, 33613\, United States
CATEGORIES:Adult,Adult Classes,Education,Prodigy,Prodigy Moves
ATTACH;FMTTYPE=image/png:https://www.uacdc.org/wp-content/uploads/2025/04/Pro_dance_capoeira-hiphop.png
ORGANIZER;CN="Prodigy Moves!":MAILTO:jgreen@uacdc.org
END:VEVENT
BEGIN:VEVENT
DTSTART;TZID=America/New_York:20260528T150000
DTEND;TZID=America/New_York:20260528T160000
DTSTAMP:20260423T161618
CREATED:20250410T155935Z
LAST-MODIFIED:20250819T130959Z
UID:10008169-1779980400-1779984000@www.uacdc.org
SUMMARY:Capoeira/Hip-Hop Dance for Adults  w/ Instructor Carrie
DESCRIPTION:Capoeira/Hip-Hop Dance for Adults w/ Instructor Carrie \nThursdays | 3pm – 4pm\nVictor Crist Community Center | 14013 N 22nd St\, Tampa FL 33613
URL:https://www.uacdc.org/event_general/capoeira-hip-hop-dance-for-adults-w-instructor-carrie/2026-05-28/
LOCATION:Victor Crist Community Center\, 14013 N 22nd Street\, Tampa\, FL\, 33613\, United States
CATEGORIES:Adult,Adult Classes,Education,Prodigy,Prodigy Moves
ATTACH;FMTTYPE=image/png:https://www.uacdc.org/wp-content/uploads/2025/04/Pro_dance_capoeira-hiphop.png
ORGANIZER;CN="Prodigy Moves!":MAILTO:jgreen@uacdc.org
END:VEVENT
BEGIN:VEVENT
DTSTART;TZID=America/New_York:20260604T150000
DTEND;TZID=America/New_York:20260604T160000
DTSTAMP:20260423T161618
CREATED:20250410T155935Z
LAST-MODIFIED:20250819T130959Z
UID:10008170-1780585200-1780588800@www.uacdc.org
SUMMARY:Capoeira/Hip-Hop Dance for Adults  w/ Instructor Carrie
DESCRIPTION:Capoeira/Hip-Hop Dance for Adults w/ Instructor Carrie \nThursdays | 3pm – 4pm\nVictor Crist Community Center | 14013 N 22nd St\, Tampa FL 33613
URL:https://www.uacdc.org/event_general/capoeira-hip-hop-dance-for-adults-w-instructor-carrie/2026-06-04/
LOCATION:Victor Crist Community Center\, 14013 N 22nd Street\, Tampa\, FL\, 33613\, United States
CATEGORIES:Adult,Adult Classes,Education,Prodigy,Prodigy Moves
ATTACH;FMTTYPE=image/png:https://www.uacdc.org/wp-content/uploads/2025/04/Pro_dance_capoeira-hiphop.png
ORGANIZER;CN="Prodigy Moves!":MAILTO:jgreen@uacdc.org
END:VEVENT
BEGIN:VEVENT
DTSTART;TZID=America/New_York:20260611T150000
DTEND;TZID=America/New_York:20260611T160000
DTSTAMP:20260423T161618
CREATED:20250410T155935Z
LAST-MODIFIED:20250819T130959Z
UID:10008171-1781190000-1781193600@www.uacdc.org
SUMMARY:Capoeira/Hip-Hop Dance for Adults  w/ Instructor Carrie
DESCRIPTION:Capoeira/Hip-Hop Dance for Adults w/ Instructor Carrie \nThursdays | 3pm – 4pm\nVictor Crist Community Center | 14013 N 22nd St\, Tampa FL 33613
URL:https://www.uacdc.org/event_general/capoeira-hip-hop-dance-for-adults-w-instructor-carrie/2026-06-11/
LOCATION:Victor Crist Community Center\, 14013 N 22nd Street\, Tampa\, FL\, 33613\, United States
CATEGORIES:Adult,Adult Classes,Education,Prodigy,Prodigy Moves
ATTACH;FMTTYPE=image/png:https://www.uacdc.org/wp-content/uploads/2025/04/Pro_dance_capoeira-hiphop.png
ORGANIZER;CN="Prodigy Moves!":MAILTO:jgreen@uacdc.org
END:VEVENT
BEGIN:VEVENT
DTSTART;TZID=America/New_York:20260618T150000
DTEND;TZID=America/New_York:20260618T160000
DTSTAMP:20260423T161618
CREATED:20250410T155935Z
LAST-MODIFIED:20250819T130959Z
UID:10008172-1781794800-1781798400@www.uacdc.org
SUMMARY:Capoeira/Hip-Hop Dance for Adults  w/ Instructor Carrie
DESCRIPTION:Capoeira/Hip-Hop Dance for Adults w/ Instructor Carrie \nThursdays | 3pm – 4pm\nVictor Crist Community Center | 14013 N 22nd St\, Tampa FL 33613
URL:https://www.uacdc.org/event_general/capoeira-hip-hop-dance-for-adults-w-instructor-carrie/2026-06-18/
LOCATION:Victor Crist Community Center\, 14013 N 22nd Street\, Tampa\, FL\, 33613\, United States
CATEGORIES:Adult,Adult Classes,Education,Prodigy,Prodigy Moves
ATTACH;FMTTYPE=image/png:https://www.uacdc.org/wp-content/uploads/2025/04/Pro_dance_capoeira-hiphop.png
ORGANIZER;CN="Prodigy Moves!":MAILTO:jgreen@uacdc.org
END:VEVENT
BEGIN:VEVENT
DTSTART;TZID=America/New_York:20260625T150000
DTEND;TZID=America/New_York:20260625T160000
DTSTAMP:20260423T161618
CREATED:20250410T155935Z
LAST-MODIFIED:20250819T130959Z
UID:10008173-1782399600-1782403200@www.uacdc.org
SUMMARY:Capoeira/Hip-Hop Dance for Adults  w/ Instructor Carrie
DESCRIPTION:Capoeira/Hip-Hop Dance for Adults w/ Instructor Carrie \nThursdays | 3pm – 4pm\nVictor Crist Community Center | 14013 N 22nd St\, Tampa FL 33613
URL:https://www.uacdc.org/event_general/capoeira-hip-hop-dance-for-adults-w-instructor-carrie/2026-06-25/
LOCATION:Victor Crist Community Center\, 14013 N 22nd Street\, Tampa\, FL\, 33613\, United States
CATEGORIES:Adult,Adult Classes,Education,Prodigy,Prodigy Moves
ATTACH;FMTTYPE=image/png:https://www.uacdc.org/wp-content/uploads/2025/04/Pro_dance_capoeira-hiphop.png
ORGANIZER;CN="Prodigy Moves!":MAILTO:jgreen@uacdc.org
END:VEVENT
BEGIN:VEVENT
DTSTART;TZID=America/New_York:20260702T150000
DTEND;TZID=America/New_York:20260702T160000
DTSTAMP:20260423T161618
CREATED:20250410T155935Z
LAST-MODIFIED:20250819T130959Z
UID:10008174-1783004400-1783008000@www.uacdc.org
SUMMARY:Capoeira/Hip-Hop Dance for Adults  w/ Instructor Carrie
DESCRIPTION:Capoeira/Hip-Hop Dance for Adults w/ Instructor Carrie \nThursdays | 3pm – 4pm\nVictor Crist Community Center | 14013 N 22nd St\, Tampa FL 33613
URL:https://www.uacdc.org/event_general/capoeira-hip-hop-dance-for-adults-w-instructor-carrie/2026-07-02/
LOCATION:Victor Crist Community Center\, 14013 N 22nd Street\, Tampa\, FL\, 33613\, United States
CATEGORIES:Adult,Adult Classes,Education,Prodigy,Prodigy Moves
ATTACH;FMTTYPE=image/png:https://www.uacdc.org/wp-content/uploads/2025/04/Pro_dance_capoeira-hiphop.png
ORGANIZER;CN="Prodigy Moves!":MAILTO:jgreen@uacdc.org
END:VEVENT
BEGIN:VEVENT
DTSTART;TZID=America/New_York:20260709T150000
DTEND;TZID=America/New_York:20260709T160000
DTSTAMP:20260423T161618
CREATED:20250410T155935Z
LAST-MODIFIED:20250819T130959Z
UID:10008175-1783609200-1783612800@www.uacdc.org
SUMMARY:Capoeira/Hip-Hop Dance for Adults  w/ Instructor Carrie
DESCRIPTION:Capoeira/Hip-Hop Dance for Adults w/ Instructor Carrie \nThursdays | 3pm – 4pm\nVictor Crist Community Center | 14013 N 22nd St\, Tampa FL 33613
URL:https://www.uacdc.org/event_general/capoeira-hip-hop-dance-for-adults-w-instructor-carrie/2026-07-09/
LOCATION:Victor Crist Community Center\, 14013 N 22nd Street\, Tampa\, FL\, 33613\, United States
CATEGORIES:Adult,Adult Classes,Education,Prodigy,Prodigy Moves
ATTACH;FMTTYPE=image/png:https://www.uacdc.org/wp-content/uploads/2025/04/Pro_dance_capoeira-hiphop.png
ORGANIZER;CN="Prodigy Moves!":MAILTO:jgreen@uacdc.org
END:VEVENT
BEGIN:VEVENT
DTSTART;TZID=America/New_York:20260716T150000
DTEND;TZID=America/New_York:20260716T160000
DTSTAMP:20260423T161618
CREATED:20250410T155935Z
LAST-MODIFIED:20250819T130959Z
UID:10008176-1784214000-1784217600@www.uacdc.org
SUMMARY:Capoeira/Hip-Hop Dance for Adults  w/ Instructor Carrie
DESCRIPTION:Capoeira/Hip-Hop Dance for Adults w/ Instructor Carrie \nThursdays | 3pm – 4pm\nVictor Crist Community Center | 14013 N 22nd St\, Tampa FL 33613
URL:https://www.uacdc.org/event_general/capoeira-hip-hop-dance-for-adults-w-instructor-carrie/2026-07-16/
LOCATION:Victor Crist Community Center\, 14013 N 22nd Street\, Tampa\, FL\, 33613\, United States
CATEGORIES:Adult,Adult Classes,Education,Prodigy,Prodigy Moves
ATTACH;FMTTYPE=image/png:https://www.uacdc.org/wp-content/uploads/2025/04/Pro_dance_capoeira-hiphop.png
ORGANIZER;CN="Prodigy Moves!":MAILTO:jgreen@uacdc.org
END:VEVENT
BEGIN:VEVENT
DTSTART;TZID=America/New_York:20260723T150000
DTEND;TZID=America/New_York:20260723T160000
DTSTAMP:20260423T161618
CREATED:20250410T155935Z
LAST-MODIFIED:20250819T130959Z
UID:10008177-1784818800-1784822400@www.uacdc.org
SUMMARY:Capoeira/Hip-Hop Dance for Adults  w/ Instructor Carrie
DESCRIPTION:Capoeira/Hip-Hop Dance for Adults w/ Instructor Carrie \nThursdays | 3pm – 4pm\nVictor Crist Community Center | 14013 N 22nd St\, Tampa FL 33613
URL:https://www.uacdc.org/event_general/capoeira-hip-hop-dance-for-adults-w-instructor-carrie/2026-07-23/
LOCATION:Victor Crist Community Center\, 14013 N 22nd Street\, Tampa\, FL\, 33613\, United States
CATEGORIES:Adult,Adult Classes,Education,Prodigy,Prodigy Moves
ATTACH;FMTTYPE=image/png:https://www.uacdc.org/wp-content/uploads/2025/04/Pro_dance_capoeira-hiphop.png
ORGANIZER;CN="Prodigy Moves!":MAILTO:jgreen@uacdc.org
END:VEVENT
BEGIN:VEVENT
DTSTART;TZID=America/New_York:20260730T150000
DTEND;TZID=America/New_York:20260730T160000
DTSTAMP:20260423T161618
CREATED:20250410T155935Z
LAST-MODIFIED:20250819T130959Z
UID:10008178-1785423600-1785427200@www.uacdc.org
SUMMARY:Capoeira/Hip-Hop Dance for Adults  w/ Instructor Carrie
DESCRIPTION:Capoeira/Hip-Hop Dance for Adults w/ Instructor Carrie \nThursdays | 3pm – 4pm\nVictor Crist Community Center | 14013 N 22nd St\, Tampa FL 33613
URL:https://www.uacdc.org/event_general/capoeira-hip-hop-dance-for-adults-w-instructor-carrie/2026-07-30/
LOCATION:Victor Crist Community Center\, 14013 N 22nd Street\, Tampa\, FL\, 33613\, United States
CATEGORIES:Adult,Adult Classes,Education,Prodigy,Prodigy Moves
ATTACH;FMTTYPE=image/png:https://www.uacdc.org/wp-content/uploads/2025/04/Pro_dance_capoeira-hiphop.png
ORGANIZER;CN="Prodigy Moves!":MAILTO:jgreen@uacdc.org
END:VEVENT
BEGIN:VEVENT
DTSTART;TZID=America/New_York:20260806T150000
DTEND;TZID=America/New_York:20260806T160000
DTSTAMP:20260423T161618
CREATED:20250410T155935Z
LAST-MODIFIED:20250819T130959Z
UID:10008179-1786028400-1786032000@www.uacdc.org
SUMMARY:Capoeira/Hip-Hop Dance for Adults  w/ Instructor Carrie
DESCRIPTION:Capoeira/Hip-Hop Dance for Adults w/ Instructor Carrie \nThursdays | 3pm – 4pm\nVictor Crist Community Center | 14013 N 22nd St\, Tampa FL 33613
URL:https://www.uacdc.org/event_general/capoeira-hip-hop-dance-for-adults-w-instructor-carrie/2026-08-06/
LOCATION:Victor Crist Community Center\, 14013 N 22nd Street\, Tampa\, FL\, 33613\, United States
CATEGORIES:Adult,Adult Classes,Education,Prodigy,Prodigy Moves
ATTACH;FMTTYPE=image/png:https://www.uacdc.org/wp-content/uploads/2025/04/Pro_dance_capoeira-hiphop.png
ORGANIZER;CN="Prodigy Moves!":MAILTO:jgreen@uacdc.org
END:VEVENT
BEGIN:VEVENT
DTSTART;TZID=America/New_York:20260813T150000
DTEND;TZID=America/New_York:20260813T160000
DTSTAMP:20260423T161618
CREATED:20250410T155935Z
LAST-MODIFIED:20250819T130959Z
UID:10008180-1786633200-1786636800@www.uacdc.org
SUMMARY:Capoeira/Hip-Hop Dance for Adults  w/ Instructor Carrie
DESCRIPTION:Capoeira/Hip-Hop Dance for Adults w/ Instructor Carrie \nThursdays | 3pm – 4pm\nVictor Crist Community Center | 14013 N 22nd St\, Tampa FL 33613
URL:https://www.uacdc.org/event_general/capoeira-hip-hop-dance-for-adults-w-instructor-carrie/2026-08-13/
LOCATION:Victor Crist Community Center\, 14013 N 22nd Street\, Tampa\, FL\, 33613\, United States
CATEGORIES:Adult,Adult Classes,Education,Prodigy,Prodigy Moves
ATTACH;FMTTYPE=image/png:https://www.uacdc.org/wp-content/uploads/2025/04/Pro_dance_capoeira-hiphop.png
ORGANIZER;CN="Prodigy Moves!":MAILTO:jgreen@uacdc.org
END:VEVENT
BEGIN:VEVENT
DTSTART;TZID=America/New_York:20260820T150000
DTEND;TZID=America/New_York:20260820T160000
DTSTAMP:20260423T161618
CREATED:20250410T155935Z
LAST-MODIFIED:20250819T130959Z
UID:10008181-1787238000-1787241600@www.uacdc.org
SUMMARY:Capoeira/Hip-Hop Dance for Adults  w/ Instructor Carrie
DESCRIPTION:Capoeira/Hip-Hop Dance for Adults w/ Instructor Carrie \nThursdays | 3pm – 4pm\nVictor Crist Community Center | 14013 N 22nd St\, Tampa FL 33613
URL:https://www.uacdc.org/event_general/capoeira-hip-hop-dance-for-adults-w-instructor-carrie/2026-08-20/
LOCATION:Victor Crist Community Center\, 14013 N 22nd Street\, Tampa\, FL\, 33613\, United States
CATEGORIES:Adult,Adult Classes,Education,Prodigy,Prodigy Moves
ATTACH;FMTTYPE=image/png:https://www.uacdc.org/wp-content/uploads/2025/04/Pro_dance_capoeira-hiphop.png
ORGANIZER;CN="Prodigy Moves!":MAILTO:jgreen@uacdc.org
END:VEVENT
BEGIN:VEVENT
DTSTART;TZID=America/New_York:20260827T150000
DTEND;TZID=America/New_York:20260827T160000
DTSTAMP:20260423T161618
CREATED:20250410T155935Z
LAST-MODIFIED:20250819T130959Z
UID:10008182-1787842800-1787846400@www.uacdc.org
SUMMARY:Capoeira/Hip-Hop Dance for Adults  w/ Instructor Carrie
DESCRIPTION:Capoeira/Hip-Hop Dance for Adults w/ Instructor Carrie \nThursdays | 3pm – 4pm\nVictor Crist Community Center | 14013 N 22nd St\, Tampa FL 33613
URL:https://www.uacdc.org/event_general/capoeira-hip-hop-dance-for-adults-w-instructor-carrie/2026-08-27/
LOCATION:Victor Crist Community Center\, 14013 N 22nd Street\, Tampa\, FL\, 33613\, United States
CATEGORIES:Adult,Adult Classes,Education,Prodigy,Prodigy Moves
ATTACH;FMTTYPE=image/png:https://www.uacdc.org/wp-content/uploads/2025/04/Pro_dance_capoeira-hiphop.png
ORGANIZER;CN="Prodigy Moves!":MAILTO:jgreen@uacdc.org
END:VEVENT
BEGIN:VEVENT
DTSTART;TZID=America/New_York:20260903T150000
DTEND;TZID=America/New_York:20260903T160000
DTSTAMP:20260423T161618
CREATED:20250410T155935Z
LAST-MODIFIED:20250819T130959Z
UID:10008183-1788447600-1788451200@www.uacdc.org
SUMMARY:Capoeira/Hip-Hop Dance for Adults  w/ Instructor Carrie
DESCRIPTION:Capoeira/Hip-Hop Dance for Adults w/ Instructor Carrie \nThursdays | 3pm – 4pm\nVictor Crist Community Center | 14013 N 22nd St\, Tampa FL 33613
URL:https://www.uacdc.org/event_general/capoeira-hip-hop-dance-for-adults-w-instructor-carrie/2026-09-03/
LOCATION:Victor Crist Community Center\, 14013 N 22nd Street\, Tampa\, FL\, 33613\, United States
CATEGORIES:Adult,Adult Classes,Education,Prodigy,Prodigy Moves
ATTACH;FMTTYPE=image/png:https://www.uacdc.org/wp-content/uploads/2025/04/Pro_dance_capoeira-hiphop.png
ORGANIZER;CN="Prodigy Moves!":MAILTO:jgreen@uacdc.org
END:VEVENT
BEGIN:VEVENT
DTSTART;TZID=America/New_York:20260910T150000
DTEND;TZID=America/New_York:20260910T160000
DTSTAMP:20260423T161618
CREATED:20250410T155935Z
LAST-MODIFIED:20250819T130959Z
UID:10008184-1789052400-1789056000@www.uacdc.org
SUMMARY:Capoeira/Hip-Hop Dance for Adults  w/ Instructor Carrie
DESCRIPTION:Capoeira/Hip-Hop Dance for Adults w/ Instructor Carrie \nThursdays | 3pm – 4pm\nVictor Crist Community Center | 14013 N 22nd St\, Tampa FL 33613
URL:https://www.uacdc.org/event_general/capoeira-hip-hop-dance-for-adults-w-instructor-carrie/2026-09-10/
LOCATION:Victor Crist Community Center\, 14013 N 22nd Street\, Tampa\, FL\, 33613\, United States
CATEGORIES:Adult,Adult Classes,Education,Prodigy,Prodigy Moves
ATTACH;FMTTYPE=image/png:https://www.uacdc.org/wp-content/uploads/2025/04/Pro_dance_capoeira-hiphop.png
ORGANIZER;CN="Prodigy Moves!":MAILTO:jgreen@uacdc.org
END:VEVENT
BEGIN:VEVENT
DTSTART;TZID=America/New_York:20260917T150000
DTEND;TZID=America/New_York:20260917T160000
DTSTAMP:20260423T161618
CREATED:20250410T155935Z
LAST-MODIFIED:20250819T130959Z
UID:10008185-1789657200-1789660800@www.uacdc.org
SUMMARY:Capoeira/Hip-Hop Dance for Adults  w/ Instructor Carrie
DESCRIPTION:Capoeira/Hip-Hop Dance for Adults w/ Instructor Carrie \nThursdays | 3pm – 4pm\nVictor Crist Community Center | 14013 N 22nd St\, Tampa FL 33613
URL:https://www.uacdc.org/event_general/capoeira-hip-hop-dance-for-adults-w-instructor-carrie/2026-09-17/
LOCATION:Victor Crist Community Center\, 14013 N 22nd Street\, Tampa\, FL\, 33613\, United States
CATEGORIES:Adult,Adult Classes,Education,Prodigy,Prodigy Moves
ATTACH;FMTTYPE=image/png:https://www.uacdc.org/wp-content/uploads/2025/04/Pro_dance_capoeira-hiphop.png
ORGANIZER;CN="Prodigy Moves!":MAILTO:jgreen@uacdc.org
END:VEVENT
BEGIN:VEVENT
DTSTART;TZID=America/New_York:20260924T150000
DTEND;TZID=America/New_York:20260924T160000
DTSTAMP:20260423T161618
CREATED:20250410T155935Z
LAST-MODIFIED:20250819T130959Z
UID:10008186-1790262000-1790265600@www.uacdc.org
SUMMARY:Capoeira/Hip-Hop Dance for Adults  w/ Instructor Carrie
DESCRIPTION:Capoeira/Hip-Hop Dance for Adults w/ Instructor Carrie \nThursdays | 3pm – 4pm\nVictor Crist Community Center | 14013 N 22nd St\, Tampa FL 33613
URL:https://www.uacdc.org/event_general/capoeira-hip-hop-dance-for-adults-w-instructor-carrie/2026-09-24/
LOCATION:Victor Crist Community Center\, 14013 N 22nd Street\, Tampa\, FL\, 33613\, United States
CATEGORIES:Adult,Adult Classes,Education,Prodigy,Prodigy Moves
ATTACH;FMTTYPE=image/png:https://www.uacdc.org/wp-content/uploads/2025/04/Pro_dance_capoeira-hiphop.png
ORGANIZER;CN="Prodigy Moves!":MAILTO:jgreen@uacdc.org
END:VEVENT
BEGIN:VEVENT
DTSTART;TZID=America/New_York:20261001T150000
DTEND;TZID=America/New_York:20261001T160000
DTSTAMP:20260423T161618
CREATED:20250410T155935Z
LAST-MODIFIED:20250819T130959Z
UID:10008187-1790866800-1790870400@www.uacdc.org
SUMMARY:Capoeira/Hip-Hop Dance for Adults  w/ Instructor Carrie
DESCRIPTION:Capoeira/Hip-Hop Dance for Adults w/ Instructor Carrie \nThursdays | 3pm – 4pm\nVictor Crist Community Center | 14013 N 22nd St\, Tampa FL 33613
URL:https://www.uacdc.org/event_general/capoeira-hip-hop-dance-for-adults-w-instructor-carrie/2026-10-01/
LOCATION:Victor Crist Community Center\, 14013 N 22nd Street\, Tampa\, FL\, 33613\, United States
CATEGORIES:Adult,Adult Classes,Education,Prodigy,Prodigy Moves
ATTACH;FMTTYPE=image/png:https://www.uacdc.org/wp-content/uploads/2025/04/Pro_dance_capoeira-hiphop.png
ORGANIZER;CN="Prodigy Moves!":MAILTO:jgreen@uacdc.org
END:VEVENT
BEGIN:VEVENT
DTSTART;TZID=America/New_York:20261008T150000
DTEND;TZID=America/New_York:20261008T160000
DTSTAMP:20260423T161618
CREATED:20250410T155935Z
LAST-MODIFIED:20250819T130959Z
UID:10008188-1791471600-1791475200@www.uacdc.org
SUMMARY:Capoeira/Hip-Hop Dance for Adults  w/ Instructor Carrie
DESCRIPTION:Capoeira/Hip-Hop Dance for Adults w/ Instructor Carrie \nThursdays | 3pm – 4pm\nVictor Crist Community Center | 14013 N 22nd St\, Tampa FL 33613
URL:https://www.uacdc.org/event_general/capoeira-hip-hop-dance-for-adults-w-instructor-carrie/2026-10-08/
LOCATION:Victor Crist Community Center\, 14013 N 22nd Street\, Tampa\, FL\, 33613\, United States
CATEGORIES:Adult,Adult Classes,Education,Prodigy,Prodigy Moves
ATTACH;FMTTYPE=image/png:https://www.uacdc.org/wp-content/uploads/2025/04/Pro_dance_capoeira-hiphop.png
ORGANIZER;CN="Prodigy Moves!":MAILTO:jgreen@uacdc.org
END:VEVENT
BEGIN:VEVENT
DTSTART;TZID=America/New_York:20261015T150000
DTEND;TZID=America/New_York:20261015T160000
DTSTAMP:20260423T161618
CREATED:20250410T155935Z
LAST-MODIFIED:20250819T130959Z
UID:10008189-1792076400-1792080000@www.uacdc.org
SUMMARY:Capoeira/Hip-Hop Dance for Adults  w/ Instructor Carrie
DESCRIPTION:Capoeira/Hip-Hop Dance for Adults w/ Instructor Carrie \nThursdays | 3pm – 4pm\nVictor Crist Community Center | 14013 N 22nd St\, Tampa FL 33613
URL:https://www.uacdc.org/event_general/capoeira-hip-hop-dance-for-adults-w-instructor-carrie/2026-10-15/
LOCATION:Victor Crist Community Center\, 14013 N 22nd Street\, Tampa\, FL\, 33613\, United States
CATEGORIES:Adult,Adult Classes,Education,Prodigy,Prodigy Moves
ATTACH;FMTTYPE=image/png:https://www.uacdc.org/wp-content/uploads/2025/04/Pro_dance_capoeira-hiphop.png
ORGANIZER;CN="Prodigy Moves!":MAILTO:jgreen@uacdc.org
END:VEVENT
BEGIN:VEVENT
DTSTART;TZID=America/New_York:20261022T150000
DTEND;TZID=America/New_York:20261022T160000
DTSTAMP:20260423T161619
CREATED:20250410T155935Z
LAST-MODIFIED:20250819T130959Z
UID:10008190-1792681200-1792684800@www.uacdc.org
SUMMARY:Capoeira/Hip-Hop Dance for Adults  w/ Instructor Carrie
DESCRIPTION:Capoeira/Hip-Hop Dance for Adults w/ Instructor Carrie \nThursdays | 3pm – 4pm\nVictor Crist Community Center | 14013 N 22nd St\, Tampa FL 33613
URL:https://www.uacdc.org/event_general/capoeira-hip-hop-dance-for-adults-w-instructor-carrie/2026-10-22/
LOCATION:Victor Crist Community Center\, 14013 N 22nd Street\, Tampa\, FL\, 33613\, United States
CATEGORIES:Adult,Adult Classes,Education,Prodigy,Prodigy Moves
ATTACH;FMTTYPE=image/png:https://www.uacdc.org/wp-content/uploads/2025/04/Pro_dance_capoeira-hiphop.png
ORGANIZER;CN="Prodigy Moves!":MAILTO:jgreen@uacdc.org
END:VEVENT
BEGIN:VEVENT
DTSTART;TZID=America/New_York:20261029T150000
DTEND;TZID=America/New_York:20261029T160000
DTSTAMP:20260423T161619
CREATED:20250410T155935Z
LAST-MODIFIED:20250819T130959Z
UID:10008191-1793286000-1793289600@www.uacdc.org
SUMMARY:Capoeira/Hip-Hop Dance for Adults  w/ Instructor Carrie
DESCRIPTION:Capoeira/Hip-Hop Dance for Adults w/ Instructor Carrie \nThursdays | 3pm – 4pm\nVictor Crist Community Center | 14013 N 22nd St\, Tampa FL 33613
URL:https://www.uacdc.org/event_general/capoeira-hip-hop-dance-for-adults-w-instructor-carrie/2026-10-29/
LOCATION:Victor Crist Community Center\, 14013 N 22nd Street\, Tampa\, FL\, 33613\, United States
CATEGORIES:Adult,Adult Classes,Education,Prodigy,Prodigy Moves
ATTACH;FMTTYPE=image/png:https://www.uacdc.org/wp-content/uploads/2025/04/Pro_dance_capoeira-hiphop.png
ORGANIZER;CN="Prodigy Moves!":MAILTO:jgreen@uacdc.org
END:VEVENT
BEGIN:VEVENT
DTSTART;TZID=America/New_York:20261105T150000
DTEND;TZID=America/New_York:20261105T160000
DTSTAMP:20260423T161619
CREATED:20250410T155935Z
LAST-MODIFIED:20250819T130959Z
UID:10008192-1793890800-1793894400@www.uacdc.org
SUMMARY:Capoeira/Hip-Hop Dance for Adults  w/ Instructor Carrie
DESCRIPTION:Capoeira/Hip-Hop Dance for Adults w/ Instructor Carrie \nThursdays | 3pm – 4pm\nVictor Crist Community Center | 14013 N 22nd St\, Tampa FL 33613
URL:https://www.uacdc.org/event_general/capoeira-hip-hop-dance-for-adults-w-instructor-carrie/2026-11-05/
LOCATION:Victor Crist Community Center\, 14013 N 22nd Street\, Tampa\, FL\, 33613\, United States
CATEGORIES:Adult,Adult Classes,Education,Prodigy,Prodigy Moves
ATTACH;FMTTYPE=image/png:https://www.uacdc.org/wp-content/uploads/2025/04/Pro_dance_capoeira-hiphop.png
ORGANIZER;CN="Prodigy Moves!":MAILTO:jgreen@uacdc.org
END:VEVENT
BEGIN:VEVENT
DTSTART;TZID=America/New_York:20261112T150000
DTEND;TZID=America/New_York:20261112T160000
DTSTAMP:20260423T161619
CREATED:20250410T155935Z
LAST-MODIFIED:20250819T130959Z
UID:10008193-1794495600-1794499200@www.uacdc.org
SUMMARY:Capoeira/Hip-Hop Dance for Adults  w/ Instructor Carrie
DESCRIPTION:Capoeira/Hip-Hop Dance for Adults w/ Instructor Carrie \nThursdays | 3pm – 4pm\nVictor Crist Community Center | 14013 N 22nd St\, Tampa FL 33613
URL:https://www.uacdc.org/event_general/capoeira-hip-hop-dance-for-adults-w-instructor-carrie/2026-11-12/
LOCATION:Victor Crist Community Center\, 14013 N 22nd Street\, Tampa\, FL\, 33613\, United States
CATEGORIES:Adult,Adult Classes,Education,Prodigy,Prodigy Moves
ATTACH;FMTTYPE=image/png:https://www.uacdc.org/wp-content/uploads/2025/04/Pro_dance_capoeira-hiphop.png
ORGANIZER;CN="Prodigy Moves!":MAILTO:jgreen@uacdc.org
END:VEVENT
BEGIN:VEVENT
DTSTART;TZID=America/New_York:20261119T150000
DTEND;TZID=America/New_York:20261119T160000
DTSTAMP:20260423T161619
CREATED:20250410T155935Z
LAST-MODIFIED:20250819T130959Z
UID:10008194-1795100400-1795104000@www.uacdc.org
SUMMARY:Capoeira/Hip-Hop Dance for Adults  w/ Instructor Carrie
DESCRIPTION:Capoeira/Hip-Hop Dance for Adults w/ Instructor Carrie \nThursdays | 3pm – 4pm\nVictor Crist Community Center | 14013 N 22nd St\, Tampa FL 33613
URL:https://www.uacdc.org/event_general/capoeira-hip-hop-dance-for-adults-w-instructor-carrie/2026-11-19/
LOCATION:Victor Crist Community Center\, 14013 N 22nd Street\, Tampa\, FL\, 33613\, United States
CATEGORIES:Adult,Adult Classes,Education,Prodigy,Prodigy Moves
ATTACH;FMTTYPE=image/png:https://www.uacdc.org/wp-content/uploads/2025/04/Pro_dance_capoeira-hiphop.png
ORGANIZER;CN="Prodigy Moves!":MAILTO:jgreen@uacdc.org
END:VEVENT
END:VCALENDAR