BEGIN:VCALENDAR
VERSION:2.0
PRODID:-//UACDC - ECPv6.15.20//NONSGML v1.0//EN
CALSCALE:GREGORIAN
METHOD:PUBLISH
X-WR-CALNAME:UACDC
X-ORIGINAL-URL:https://www.uacdc.org
X-WR-CALDESC:Events for UACDC
REFRESH-INTERVAL;VALUE=DURATION:PT1H
X-Robots-Tag:noindex
X-PUBLISHED-TTL:PT1H
BEGIN:VTIMEZONE
TZID:America/New_York
BEGIN:DAYLIGHT
TZOFFSETFROM:-0500
TZOFFSETTO:-0400
TZNAME:EDT
DTSTART:20250309T070000
END:DAYLIGHT
BEGIN:STANDARD
TZOFFSETFROM:-0400
TZOFFSETTO:-0500
TZNAME:EST
DTSTART:20251102T060000
END:STANDARD
BEGIN:DAYLIGHT
TZOFFSETFROM:-0500
TZOFFSETTO:-0400
TZNAME:EDT
DTSTART:20260308T070000
END:DAYLIGHT
BEGIN:STANDARD
TZOFFSETFROM:-0400
TZOFFSETTO:-0500
TZNAME:EST
DTSTART:20261101T060000
END:STANDARD
BEGIN:DAYLIGHT
TZOFFSETFROM:-0500
TZOFFSETTO:-0400
TZNAME:EDT
DTSTART:20270314T070000
END:DAYLIGHT
BEGIN:STANDARD
TZOFFSETFROM:-0400
TZOFFSETTO:-0500
TZNAME:EST
DTSTART:20271107T060000
END:STANDARD
END:VTIMEZONE
BEGIN:VEVENT
DTSTART;TZID=America/New_York:20260428T150000
DTEND;TZID=America/New_York:20260428T160000
DTSTAMP:20260421T201833
CREATED:20260122T173446Z
LAST-MODIFIED:20260122T173446Z
UID:10021843-1777388400-1777392000@www.uacdc.org
SUMMARY:Zumba for Adults
DESCRIPTION:Zumba for Adults\nInstructor Kim – Prodigy® Moves \n3:00pm  |  Victor Crist Community Center – Dance Room.
URL:https://www.uacdc.org/event_general/zumba-for-adults/2026-04-28/
LOCATION:Victor Crist Community Center\, 14013 N 22nd Street\, Tampa\, FL\, 33613\, United States
CATEGORIES:Adult,Adult Classes,Adult Sports,Education,Get Moving
ATTACH;FMTTYPE=image/png:https://www.uacdc.org/wp-content/uploads/2025/04/Pro_dance_zumba.png
ORGANIZER;CN="Get Moving! Program":MAILTO:roliver@uacdc.org
END:VEVENT
BEGIN:VEVENT
DTSTART;TZID=America/New_York:20260505T150000
DTEND;TZID=America/New_York:20260505T160000
DTSTAMP:20260421T201833
CREATED:20260122T173446Z
LAST-MODIFIED:20260122T173446Z
UID:10021844-1777993200-1777996800@www.uacdc.org
SUMMARY:Zumba for Adults
DESCRIPTION:Zumba for Adults\nInstructor Kim – Prodigy® Moves \n3:00pm  |  Victor Crist Community Center – Dance Room.
URL:https://www.uacdc.org/event_general/zumba-for-adults/2026-05-05/
LOCATION:Victor Crist Community Center\, 14013 N 22nd Street\, Tampa\, FL\, 33613\, United States
CATEGORIES:Adult,Adult Classes,Adult Sports,Education,Get Moving
ATTACH;FMTTYPE=image/png:https://www.uacdc.org/wp-content/uploads/2025/04/Pro_dance_zumba.png
ORGANIZER;CN="Get Moving! Program":MAILTO:roliver@uacdc.org
END:VEVENT
BEGIN:VEVENT
DTSTART;TZID=America/New_York:20260512T150000
DTEND;TZID=America/New_York:20260512T160000
DTSTAMP:20260421T201833
CREATED:20260122T173446Z
LAST-MODIFIED:20260122T173446Z
UID:10021845-1778598000-1778601600@www.uacdc.org
SUMMARY:Zumba for Adults
DESCRIPTION:Zumba for Adults\nInstructor Kim – Prodigy® Moves \n3:00pm  |  Victor Crist Community Center – Dance Room.
URL:https://www.uacdc.org/event_general/zumba-for-adults/2026-05-12/
LOCATION:Victor Crist Community Center\, 14013 N 22nd Street\, Tampa\, FL\, 33613\, United States
CATEGORIES:Adult,Adult Classes,Adult Sports,Education,Get Moving
ATTACH;FMTTYPE=image/png:https://www.uacdc.org/wp-content/uploads/2025/04/Pro_dance_zumba.png
ORGANIZER;CN="Get Moving! Program":MAILTO:roliver@uacdc.org
END:VEVENT
BEGIN:VEVENT
DTSTART;TZID=America/New_York:20260519T150000
DTEND;TZID=America/New_York:20260519T160000
DTSTAMP:20260421T201833
CREATED:20260122T173446Z
LAST-MODIFIED:20260122T173446Z
UID:10021846-1779202800-1779206400@www.uacdc.org
SUMMARY:Zumba for Adults
DESCRIPTION:Zumba for Adults\nInstructor Kim – Prodigy® Moves \n3:00pm  |  Victor Crist Community Center – Dance Room.
URL:https://www.uacdc.org/event_general/zumba-for-adults/2026-05-19/
LOCATION:Victor Crist Community Center\, 14013 N 22nd Street\, Tampa\, FL\, 33613\, United States
CATEGORIES:Adult,Adult Classes,Adult Sports,Education,Get Moving
ATTACH;FMTTYPE=image/png:https://www.uacdc.org/wp-content/uploads/2025/04/Pro_dance_zumba.png
ORGANIZER;CN="Get Moving! Program":MAILTO:roliver@uacdc.org
END:VEVENT
BEGIN:VEVENT
DTSTART;TZID=America/New_York:20260526T150000
DTEND;TZID=America/New_York:20260526T160000
DTSTAMP:20260421T201833
CREATED:20260122T173446Z
LAST-MODIFIED:20260122T173446Z
UID:10021847-1779807600-1779811200@www.uacdc.org
SUMMARY:Zumba for Adults
DESCRIPTION:Zumba for Adults\nInstructor Kim – Prodigy® Moves \n3:00pm  |  Victor Crist Community Center – Dance Room.
URL:https://www.uacdc.org/event_general/zumba-for-adults/2026-05-26/
LOCATION:Victor Crist Community Center\, 14013 N 22nd Street\, Tampa\, FL\, 33613\, United States
CATEGORIES:Adult,Adult Classes,Adult Sports,Education,Get Moving
ATTACH;FMTTYPE=image/png:https://www.uacdc.org/wp-content/uploads/2025/04/Pro_dance_zumba.png
ORGANIZER;CN="Get Moving! Program":MAILTO:roliver@uacdc.org
END:VEVENT
BEGIN:VEVENT
DTSTART;TZID=America/New_York:20260602T150000
DTEND;TZID=America/New_York:20260602T160000
DTSTAMP:20260421T201833
CREATED:20260122T173446Z
LAST-MODIFIED:20260122T173446Z
UID:10021848-1780412400-1780416000@www.uacdc.org
SUMMARY:Zumba for Adults
DESCRIPTION:Zumba for Adults\nInstructor Kim – Prodigy® Moves \n3:00pm  |  Victor Crist Community Center – Dance Room.
URL:https://www.uacdc.org/event_general/zumba-for-adults/2026-06-02/
LOCATION:Victor Crist Community Center\, 14013 N 22nd Street\, Tampa\, FL\, 33613\, United States
CATEGORIES:Adult,Adult Classes,Adult Sports,Education,Get Moving
ATTACH;FMTTYPE=image/png:https://www.uacdc.org/wp-content/uploads/2025/04/Pro_dance_zumba.png
ORGANIZER;CN="Get Moving! Program":MAILTO:roliver@uacdc.org
END:VEVENT
BEGIN:VEVENT
DTSTART;TZID=America/New_York:20260609T150000
DTEND;TZID=America/New_York:20260609T160000
DTSTAMP:20260421T201833
CREATED:20260122T173446Z
LAST-MODIFIED:20260122T173446Z
UID:10021849-1781017200-1781020800@www.uacdc.org
SUMMARY:Zumba for Adults
DESCRIPTION:Zumba for Adults\nInstructor Kim – Prodigy® Moves \n3:00pm  |  Victor Crist Community Center – Dance Room.
URL:https://www.uacdc.org/event_general/zumba-for-adults/2026-06-09/
LOCATION:Victor Crist Community Center\, 14013 N 22nd Street\, Tampa\, FL\, 33613\, United States
CATEGORIES:Adult,Adult Classes,Adult Sports,Education,Get Moving
ATTACH;FMTTYPE=image/png:https://www.uacdc.org/wp-content/uploads/2025/04/Pro_dance_zumba.png
ORGANIZER;CN="Get Moving! Program":MAILTO:roliver@uacdc.org
END:VEVENT
BEGIN:VEVENT
DTSTART;TZID=America/New_York:20260616T150000
DTEND;TZID=America/New_York:20260616T160000
DTSTAMP:20260421T201833
CREATED:20260122T173446Z
LAST-MODIFIED:20260122T173446Z
UID:10021850-1781622000-1781625600@www.uacdc.org
SUMMARY:Zumba for Adults
DESCRIPTION:Zumba for Adults\nInstructor Kim – Prodigy® Moves \n3:00pm  |  Victor Crist Community Center – Dance Room.
URL:https://www.uacdc.org/event_general/zumba-for-adults/2026-06-16/
LOCATION:Victor Crist Community Center\, 14013 N 22nd Street\, Tampa\, FL\, 33613\, United States
CATEGORIES:Adult,Adult Classes,Adult Sports,Education,Get Moving
ATTACH;FMTTYPE=image/png:https://www.uacdc.org/wp-content/uploads/2025/04/Pro_dance_zumba.png
ORGANIZER;CN="Get Moving! Program":MAILTO:roliver@uacdc.org
END:VEVENT
BEGIN:VEVENT
DTSTART;TZID=America/New_York:20260623T150000
DTEND;TZID=America/New_York:20260623T160000
DTSTAMP:20260421T201833
CREATED:20260122T173446Z
LAST-MODIFIED:20260122T173446Z
UID:10021851-1782226800-1782230400@www.uacdc.org
SUMMARY:Zumba for Adults
DESCRIPTION:Zumba for Adults\nInstructor Kim – Prodigy® Moves \n3:00pm  |  Victor Crist Community Center – Dance Room.
URL:https://www.uacdc.org/event_general/zumba-for-adults/2026-06-23/
LOCATION:Victor Crist Community Center\, 14013 N 22nd Street\, Tampa\, FL\, 33613\, United States
CATEGORIES:Adult,Adult Classes,Adult Sports,Education,Get Moving
ATTACH;FMTTYPE=image/png:https://www.uacdc.org/wp-content/uploads/2025/04/Pro_dance_zumba.png
ORGANIZER;CN="Get Moving! Program":MAILTO:roliver@uacdc.org
END:VEVENT
BEGIN:VEVENT
DTSTART;TZID=America/New_York:20260630T150000
DTEND;TZID=America/New_York:20260630T160000
DTSTAMP:20260421T201833
CREATED:20260122T173446Z
LAST-MODIFIED:20260122T173446Z
UID:10021852-1782831600-1782835200@www.uacdc.org
SUMMARY:Zumba for Adults
DESCRIPTION:Zumba for Adults\nInstructor Kim – Prodigy® Moves \n3:00pm  |  Victor Crist Community Center – Dance Room.
URL:https://www.uacdc.org/event_general/zumba-for-adults/2026-06-30/
LOCATION:Victor Crist Community Center\, 14013 N 22nd Street\, Tampa\, FL\, 33613\, United States
CATEGORIES:Adult,Adult Classes,Adult Sports,Education,Get Moving
ATTACH;FMTTYPE=image/png:https://www.uacdc.org/wp-content/uploads/2025/04/Pro_dance_zumba.png
ORGANIZER;CN="Get Moving! Program":MAILTO:roliver@uacdc.org
END:VEVENT
BEGIN:VEVENT
DTSTART;TZID=America/New_York:20260707T150000
DTEND;TZID=America/New_York:20260707T160000
DTSTAMP:20260421T201833
CREATED:20260122T173446Z
LAST-MODIFIED:20260122T173446Z
UID:10021853-1783436400-1783440000@www.uacdc.org
SUMMARY:Zumba for Adults
DESCRIPTION:Zumba for Adults\nInstructor Kim – Prodigy® Moves \n3:00pm  |  Victor Crist Community Center – Dance Room.
URL:https://www.uacdc.org/event_general/zumba-for-adults/2026-07-07/
LOCATION:Victor Crist Community Center\, 14013 N 22nd Street\, Tampa\, FL\, 33613\, United States
CATEGORIES:Adult,Adult Classes,Adult Sports,Education,Get Moving
ATTACH;FMTTYPE=image/png:https://www.uacdc.org/wp-content/uploads/2025/04/Pro_dance_zumba.png
ORGANIZER;CN="Get Moving! Program":MAILTO:roliver@uacdc.org
END:VEVENT
BEGIN:VEVENT
DTSTART;TZID=America/New_York:20260714T150000
DTEND;TZID=America/New_York:20260714T160000
DTSTAMP:20260421T201833
CREATED:20260122T173446Z
LAST-MODIFIED:20260122T173446Z
UID:10021854-1784041200-1784044800@www.uacdc.org
SUMMARY:Zumba for Adults
DESCRIPTION:Zumba for Adults\nInstructor Kim – Prodigy® Moves \n3:00pm  |  Victor Crist Community Center – Dance Room.
URL:https://www.uacdc.org/event_general/zumba-for-adults/2026-07-14/
LOCATION:Victor Crist Community Center\, 14013 N 22nd Street\, Tampa\, FL\, 33613\, United States
CATEGORIES:Adult,Adult Classes,Adult Sports,Education,Get Moving
ATTACH;FMTTYPE=image/png:https://www.uacdc.org/wp-content/uploads/2025/04/Pro_dance_zumba.png
ORGANIZER;CN="Get Moving! Program":MAILTO:roliver@uacdc.org
END:VEVENT
BEGIN:VEVENT
DTSTART;TZID=America/New_York:20260721T150000
DTEND;TZID=America/New_York:20260721T160000
DTSTAMP:20260421T201833
CREATED:20260122T173446Z
LAST-MODIFIED:20260122T173446Z
UID:10021855-1784646000-1784649600@www.uacdc.org
SUMMARY:Zumba for Adults
DESCRIPTION:Zumba for Adults\nInstructor Kim – Prodigy® Moves \n3:00pm  |  Victor Crist Community Center – Dance Room.
URL:https://www.uacdc.org/event_general/zumba-for-adults/2026-07-21/
LOCATION:Victor Crist Community Center\, 14013 N 22nd Street\, Tampa\, FL\, 33613\, United States
CATEGORIES:Adult,Adult Classes,Adult Sports,Education,Get Moving
ATTACH;FMTTYPE=image/png:https://www.uacdc.org/wp-content/uploads/2025/04/Pro_dance_zumba.png
ORGANIZER;CN="Get Moving! Program":MAILTO:roliver@uacdc.org
END:VEVENT
BEGIN:VEVENT
DTSTART;TZID=America/New_York:20260728T150000
DTEND;TZID=America/New_York:20260728T160000
DTSTAMP:20260421T201833
CREATED:20260122T173446Z
LAST-MODIFIED:20260122T173446Z
UID:10021856-1785250800-1785254400@www.uacdc.org
SUMMARY:Zumba for Adults
DESCRIPTION:Zumba for Adults\nInstructor Kim – Prodigy® Moves \n3:00pm  |  Victor Crist Community Center – Dance Room.
URL:https://www.uacdc.org/event_general/zumba-for-adults/2026-07-28/
LOCATION:Victor Crist Community Center\, 14013 N 22nd Street\, Tampa\, FL\, 33613\, United States
CATEGORIES:Adult,Adult Classes,Adult Sports,Education,Get Moving
ATTACH;FMTTYPE=image/png:https://www.uacdc.org/wp-content/uploads/2025/04/Pro_dance_zumba.png
ORGANIZER;CN="Get Moving! Program":MAILTO:roliver@uacdc.org
END:VEVENT
BEGIN:VEVENT
DTSTART;TZID=America/New_York:20260804T150000
DTEND;TZID=America/New_York:20260804T160000
DTSTAMP:20260421T201833
CREATED:20260122T173446Z
LAST-MODIFIED:20260122T173446Z
UID:10021857-1785855600-1785859200@www.uacdc.org
SUMMARY:Zumba for Adults
DESCRIPTION:Zumba for Adults\nInstructor Kim – Prodigy® Moves \n3:00pm  |  Victor Crist Community Center – Dance Room.
URL:https://www.uacdc.org/event_general/zumba-for-adults/2026-08-04/
LOCATION:Victor Crist Community Center\, 14013 N 22nd Street\, Tampa\, FL\, 33613\, United States
CATEGORIES:Adult,Adult Classes,Adult Sports,Education,Get Moving
ATTACH;FMTTYPE=image/png:https://www.uacdc.org/wp-content/uploads/2025/04/Pro_dance_zumba.png
ORGANIZER;CN="Get Moving! Program":MAILTO:roliver@uacdc.org
END:VEVENT
BEGIN:VEVENT
DTSTART;TZID=America/New_York:20260811T150000
DTEND;TZID=America/New_York:20260811T160000
DTSTAMP:20260421T201833
CREATED:20260122T173446Z
LAST-MODIFIED:20260122T173446Z
UID:10021858-1786460400-1786464000@www.uacdc.org
SUMMARY:Zumba for Adults
DESCRIPTION:Zumba for Adults\nInstructor Kim – Prodigy® Moves \n3:00pm  |  Victor Crist Community Center – Dance Room.
URL:https://www.uacdc.org/event_general/zumba-for-adults/2026-08-11/
LOCATION:Victor Crist Community Center\, 14013 N 22nd Street\, Tampa\, FL\, 33613\, United States
CATEGORIES:Adult,Adult Classes,Adult Sports,Education,Get Moving
ATTACH;FMTTYPE=image/png:https://www.uacdc.org/wp-content/uploads/2025/04/Pro_dance_zumba.png
ORGANIZER;CN="Get Moving! Program":MAILTO:roliver@uacdc.org
END:VEVENT
BEGIN:VEVENT
DTSTART;TZID=America/New_York:20260818T150000
DTEND;TZID=America/New_York:20260818T160000
DTSTAMP:20260421T201833
CREATED:20260122T173446Z
LAST-MODIFIED:20260122T173446Z
UID:10021859-1787065200-1787068800@www.uacdc.org
SUMMARY:Zumba for Adults
DESCRIPTION:Zumba for Adults\nInstructor Kim – Prodigy® Moves \n3:00pm  |  Victor Crist Community Center – Dance Room.
URL:https://www.uacdc.org/event_general/zumba-for-adults/2026-08-18/
LOCATION:Victor Crist Community Center\, 14013 N 22nd Street\, Tampa\, FL\, 33613\, United States
CATEGORIES:Adult,Adult Classes,Adult Sports,Education,Get Moving
ATTACH;FMTTYPE=image/png:https://www.uacdc.org/wp-content/uploads/2025/04/Pro_dance_zumba.png
ORGANIZER;CN="Get Moving! Program":MAILTO:roliver@uacdc.org
END:VEVENT
BEGIN:VEVENT
DTSTART;TZID=America/New_York:20260825T150000
DTEND;TZID=America/New_York:20260825T160000
DTSTAMP:20260421T201833
CREATED:20260122T173446Z
LAST-MODIFIED:20260122T173446Z
UID:10021860-1787670000-1787673600@www.uacdc.org
SUMMARY:Zumba for Adults
DESCRIPTION:Zumba for Adults\nInstructor Kim – Prodigy® Moves \n3:00pm  |  Victor Crist Community Center – Dance Room.
URL:https://www.uacdc.org/event_general/zumba-for-adults/2026-08-25/
LOCATION:Victor Crist Community Center\, 14013 N 22nd Street\, Tampa\, FL\, 33613\, United States
CATEGORIES:Adult,Adult Classes,Adult Sports,Education,Get Moving
ATTACH;FMTTYPE=image/png:https://www.uacdc.org/wp-content/uploads/2025/04/Pro_dance_zumba.png
ORGANIZER;CN="Get Moving! Program":MAILTO:roliver@uacdc.org
END:VEVENT
BEGIN:VEVENT
DTSTART;TZID=America/New_York:20260901T150000
DTEND;TZID=America/New_York:20260901T160000
DTSTAMP:20260421T201833
CREATED:20260122T173446Z
LAST-MODIFIED:20260122T173446Z
UID:10021861-1788274800-1788278400@www.uacdc.org
SUMMARY:Zumba for Adults
DESCRIPTION:Zumba for Adults\nInstructor Kim – Prodigy® Moves \n3:00pm  |  Victor Crist Community Center – Dance Room.
URL:https://www.uacdc.org/event_general/zumba-for-adults/2026-09-01/
LOCATION:Victor Crist Community Center\, 14013 N 22nd Street\, Tampa\, FL\, 33613\, United States
CATEGORIES:Adult,Adult Classes,Adult Sports,Education,Get Moving
ATTACH;FMTTYPE=image/png:https://www.uacdc.org/wp-content/uploads/2025/04/Pro_dance_zumba.png
ORGANIZER;CN="Get Moving! Program":MAILTO:roliver@uacdc.org
END:VEVENT
BEGIN:VEVENT
DTSTART;TZID=America/New_York:20260908T150000
DTEND;TZID=America/New_York:20260908T160000
DTSTAMP:20260421T201833
CREATED:20260122T173446Z
LAST-MODIFIED:20260122T173446Z
UID:10021862-1788879600-1788883200@www.uacdc.org
SUMMARY:Zumba for Adults
DESCRIPTION:Zumba for Adults\nInstructor Kim – Prodigy® Moves \n3:00pm  |  Victor Crist Community Center – Dance Room.
URL:https://www.uacdc.org/event_general/zumba-for-adults/2026-09-08/
LOCATION:Victor Crist Community Center\, 14013 N 22nd Street\, Tampa\, FL\, 33613\, United States
CATEGORIES:Adult,Adult Classes,Adult Sports,Education,Get Moving
ATTACH;FMTTYPE=image/png:https://www.uacdc.org/wp-content/uploads/2025/04/Pro_dance_zumba.png
ORGANIZER;CN="Get Moving! Program":MAILTO:roliver@uacdc.org
END:VEVENT
BEGIN:VEVENT
DTSTART;TZID=America/New_York:20260915T150000
DTEND;TZID=America/New_York:20260915T160000
DTSTAMP:20260421T201833
CREATED:20260122T173446Z
LAST-MODIFIED:20260122T173446Z
UID:10021863-1789484400-1789488000@www.uacdc.org
SUMMARY:Zumba for Adults
DESCRIPTION:Zumba for Adults\nInstructor Kim – Prodigy® Moves \n3:00pm  |  Victor Crist Community Center – Dance Room.
URL:https://www.uacdc.org/event_general/zumba-for-adults/2026-09-15/
LOCATION:Victor Crist Community Center\, 14013 N 22nd Street\, Tampa\, FL\, 33613\, United States
CATEGORIES:Adult,Adult Classes,Adult Sports,Education,Get Moving
ATTACH;FMTTYPE=image/png:https://www.uacdc.org/wp-content/uploads/2025/04/Pro_dance_zumba.png
ORGANIZER;CN="Get Moving! Program":MAILTO:roliver@uacdc.org
END:VEVENT
BEGIN:VEVENT
DTSTART;TZID=America/New_York:20260922T150000
DTEND;TZID=America/New_York:20260922T160000
DTSTAMP:20260421T201833
CREATED:20260122T173446Z
LAST-MODIFIED:20260122T173446Z
UID:10021864-1790089200-1790092800@www.uacdc.org
SUMMARY:Zumba for Adults
DESCRIPTION:Zumba for Adults\nInstructor Kim – Prodigy® Moves \n3:00pm  |  Victor Crist Community Center – Dance Room.
URL:https://www.uacdc.org/event_general/zumba-for-adults/2026-09-22/
LOCATION:Victor Crist Community Center\, 14013 N 22nd Street\, Tampa\, FL\, 33613\, United States
CATEGORIES:Adult,Adult Classes,Adult Sports,Education,Get Moving
ATTACH;FMTTYPE=image/png:https://www.uacdc.org/wp-content/uploads/2025/04/Pro_dance_zumba.png
ORGANIZER;CN="Get Moving! Program":MAILTO:roliver@uacdc.org
END:VEVENT
BEGIN:VEVENT
DTSTART;TZID=America/New_York:20260929T150000
DTEND;TZID=America/New_York:20260929T160000
DTSTAMP:20260421T201833
CREATED:20260122T173446Z
LAST-MODIFIED:20260122T173446Z
UID:10021865-1790694000-1790697600@www.uacdc.org
SUMMARY:Zumba for Adults
DESCRIPTION:Zumba for Adults\nInstructor Kim – Prodigy® Moves \n3:00pm  |  Victor Crist Community Center – Dance Room.
URL:https://www.uacdc.org/event_general/zumba-for-adults/2026-09-29/
LOCATION:Victor Crist Community Center\, 14013 N 22nd Street\, Tampa\, FL\, 33613\, United States
CATEGORIES:Adult,Adult Classes,Adult Sports,Education,Get Moving
ATTACH;FMTTYPE=image/png:https://www.uacdc.org/wp-content/uploads/2025/04/Pro_dance_zumba.png
ORGANIZER;CN="Get Moving! Program":MAILTO:roliver@uacdc.org
END:VEVENT
BEGIN:VEVENT
DTSTART;TZID=America/New_York:20261006T150000
DTEND;TZID=America/New_York:20261006T160000
DTSTAMP:20260421T201833
CREATED:20260122T173446Z
LAST-MODIFIED:20260122T173446Z
UID:10021866-1791298800-1791302400@www.uacdc.org
SUMMARY:Zumba for Adults
DESCRIPTION:Zumba for Adults\nInstructor Kim – Prodigy® Moves \n3:00pm  |  Victor Crist Community Center – Dance Room.
URL:https://www.uacdc.org/event_general/zumba-for-adults/2026-10-06/
LOCATION:Victor Crist Community Center\, 14013 N 22nd Street\, Tampa\, FL\, 33613\, United States
CATEGORIES:Adult,Adult Classes,Adult Sports,Education,Get Moving
ATTACH;FMTTYPE=image/png:https://www.uacdc.org/wp-content/uploads/2025/04/Pro_dance_zumba.png
ORGANIZER;CN="Get Moving! Program":MAILTO:roliver@uacdc.org
END:VEVENT
BEGIN:VEVENT
DTSTART;TZID=America/New_York:20261013T150000
DTEND;TZID=America/New_York:20261013T160000
DTSTAMP:20260421T201833
CREATED:20260122T173446Z
LAST-MODIFIED:20260122T173446Z
UID:10021867-1791903600-1791907200@www.uacdc.org
SUMMARY:Zumba for Adults
DESCRIPTION:Zumba for Adults\nInstructor Kim – Prodigy® Moves \n3:00pm  |  Victor Crist Community Center – Dance Room.
URL:https://www.uacdc.org/event_general/zumba-for-adults/2026-10-13/
LOCATION:Victor Crist Community Center\, 14013 N 22nd Street\, Tampa\, FL\, 33613\, United States
CATEGORIES:Adult,Adult Classes,Adult Sports,Education,Get Moving
ATTACH;FMTTYPE=image/png:https://www.uacdc.org/wp-content/uploads/2025/04/Pro_dance_zumba.png
ORGANIZER;CN="Get Moving! Program":MAILTO:roliver@uacdc.org
END:VEVENT
BEGIN:VEVENT
DTSTART;TZID=America/New_York:20261020T150000
DTEND;TZID=America/New_York:20261020T160000
DTSTAMP:20260421T201833
CREATED:20260122T173446Z
LAST-MODIFIED:20260122T173446Z
UID:10021868-1792508400-1792512000@www.uacdc.org
SUMMARY:Zumba for Adults
DESCRIPTION:Zumba for Adults\nInstructor Kim – Prodigy® Moves \n3:00pm  |  Victor Crist Community Center – Dance Room.
URL:https://www.uacdc.org/event_general/zumba-for-adults/2026-10-20/
LOCATION:Victor Crist Community Center\, 14013 N 22nd Street\, Tampa\, FL\, 33613\, United States
CATEGORIES:Adult,Adult Classes,Adult Sports,Education,Get Moving
ATTACH;FMTTYPE=image/png:https://www.uacdc.org/wp-content/uploads/2025/04/Pro_dance_zumba.png
ORGANIZER;CN="Get Moving! Program":MAILTO:roliver@uacdc.org
END:VEVENT
BEGIN:VEVENT
DTSTART;TZID=America/New_York:20261027T150000
DTEND;TZID=America/New_York:20261027T160000
DTSTAMP:20260421T201833
CREATED:20260122T173446Z
LAST-MODIFIED:20260122T173446Z
UID:10021869-1793113200-1793116800@www.uacdc.org
SUMMARY:Zumba for Adults
DESCRIPTION:Zumba for Adults\nInstructor Kim – Prodigy® Moves \n3:00pm  |  Victor Crist Community Center – Dance Room.
URL:https://www.uacdc.org/event_general/zumba-for-adults/2026-10-27/
LOCATION:Victor Crist Community Center\, 14013 N 22nd Street\, Tampa\, FL\, 33613\, United States
CATEGORIES:Adult,Adult Classes,Adult Sports,Education,Get Moving
ATTACH;FMTTYPE=image/png:https://www.uacdc.org/wp-content/uploads/2025/04/Pro_dance_zumba.png
ORGANIZER;CN="Get Moving! Program":MAILTO:roliver@uacdc.org
END:VEVENT
BEGIN:VEVENT
DTSTART;TZID=America/New_York:20261103T150000
DTEND;TZID=America/New_York:20261103T160000
DTSTAMP:20260421T201833
CREATED:20260122T173446Z
LAST-MODIFIED:20260122T173446Z
UID:10021870-1793718000-1793721600@www.uacdc.org
SUMMARY:Zumba for Adults
DESCRIPTION:Zumba for Adults\nInstructor Kim – Prodigy® Moves \n3:00pm  |  Victor Crist Community Center – Dance Room.
URL:https://www.uacdc.org/event_general/zumba-for-adults/2026-11-03/
LOCATION:Victor Crist Community Center\, 14013 N 22nd Street\, Tampa\, FL\, 33613\, United States
CATEGORIES:Adult,Adult Classes,Adult Sports,Education,Get Moving
ATTACH;FMTTYPE=image/png:https://www.uacdc.org/wp-content/uploads/2025/04/Pro_dance_zumba.png
ORGANIZER;CN="Get Moving! Program":MAILTO:roliver@uacdc.org
END:VEVENT
BEGIN:VEVENT
DTSTART;TZID=America/New_York:20261110T150000
DTEND;TZID=America/New_York:20261110T160000
DTSTAMP:20260421T201833
CREATED:20260122T173446Z
LAST-MODIFIED:20260122T173446Z
UID:10021871-1794322800-1794326400@www.uacdc.org
SUMMARY:Zumba for Adults
DESCRIPTION:Zumba for Adults\nInstructor Kim – Prodigy® Moves \n3:00pm  |  Victor Crist Community Center – Dance Room.
URL:https://www.uacdc.org/event_general/zumba-for-adults/2026-11-10/
LOCATION:Victor Crist Community Center\, 14013 N 22nd Street\, Tampa\, FL\, 33613\, United States
CATEGORIES:Adult,Adult Classes,Adult Sports,Education,Get Moving
ATTACH;FMTTYPE=image/png:https://www.uacdc.org/wp-content/uploads/2025/04/Pro_dance_zumba.png
ORGANIZER;CN="Get Moving! Program":MAILTO:roliver@uacdc.org
END:VEVENT
BEGIN:VEVENT
DTSTART;TZID=America/New_York:20261117T150000
DTEND;TZID=America/New_York:20261117T160000
DTSTAMP:20260421T201833
CREATED:20260122T173446Z
LAST-MODIFIED:20260122T173446Z
UID:10021872-1794927600-1794931200@www.uacdc.org
SUMMARY:Zumba for Adults
DESCRIPTION:Zumba for Adults\nInstructor Kim – Prodigy® Moves \n3:00pm  |  Victor Crist Community Center – Dance Room.
URL:https://www.uacdc.org/event_general/zumba-for-adults/2026-11-17/
LOCATION:Victor Crist Community Center\, 14013 N 22nd Street\, Tampa\, FL\, 33613\, United States
CATEGORIES:Adult,Adult Classes,Adult Sports,Education,Get Moving
ATTACH;FMTTYPE=image/png:https://www.uacdc.org/wp-content/uploads/2025/04/Pro_dance_zumba.png
ORGANIZER;CN="Get Moving! Program":MAILTO:roliver@uacdc.org
END:VEVENT
END:VCALENDAR