BEGIN:VCALENDAR
VERSION:2.0
PRODID:-//UACDC - ECPv6.15.20//NONSGML v1.0//EN
CALSCALE:GREGORIAN
METHOD:PUBLISH
X-ORIGINAL-URL:https://www.uacdc.org
X-WR-CALDESC:Events for UACDC
REFRESH-INTERVAL;VALUE=DURATION:PT1H
X-Robots-Tag:noindex
X-PUBLISHED-TTL:PT1H
BEGIN:VTIMEZONE
TZID:America/New_York
BEGIN:DAYLIGHT
TZOFFSETFROM:-0500
TZOFFSETTO:-0400
TZNAME:EDT
DTSTART:20250309T070000
END:DAYLIGHT
BEGIN:STANDARD
TZOFFSETFROM:-0400
TZOFFSETTO:-0500
TZNAME:EST
DTSTART:20251102T060000
END:STANDARD
BEGIN:DAYLIGHT
TZOFFSETFROM:-0500
TZOFFSETTO:-0400
TZNAME:EDT
DTSTART:20260308T070000
END:DAYLIGHT
BEGIN:STANDARD
TZOFFSETFROM:-0400
TZOFFSETTO:-0500
TZNAME:EST
DTSTART:20261101T060000
END:STANDARD
BEGIN:DAYLIGHT
TZOFFSETFROM:-0500
TZOFFSETTO:-0400
TZNAME:EDT
DTSTART:20270314T070000
END:DAYLIGHT
BEGIN:STANDARD
TZOFFSETFROM:-0400
TZOFFSETTO:-0500
TZNAME:EST
DTSTART:20271107T060000
END:STANDARD
END:VTIMEZONE
BEGIN:VEVENT
DTSTART;TZID=America/New_York:20260422T110000
DTEND;TZID=America/New_York:20260422T120000
DTSTAMP:20260421T200911
CREATED:20250819T130903Z
LAST-MODIFIED:20250819T130903Z
UID:10020430-1776855600-1776859200@www.uacdc.org
SUMMARY:Adult Visual Arts for Adults w/Lorena
DESCRIPTION:Adult Visual Arts for Adults w/Lorena \nFLYER \nWednesdays | 11am – 12pm\nVictor Crist Community Center | 14013 N 22nd St\, Tampa FL 33613 \nRegistration applications can be found at www.uacdc.org/prodigyregistration.
URL:https://www.uacdc.org/event_general/adult-visual-arts-for-adults-w-lorena-2/2026-04-22/
LOCATION:Victor Crist Community Center\, 14013 N 22nd Street\, Tampa\, FL\, 33613\, United States
CATEGORIES:Adult,Adult Classes,Education,Prodigy,Prodigy Moves
ATTACH;FMTTYPE=image/png:https://www.uacdc.org/wp-content/uploads/2025/08/Pro_vISUAL_Art-Adult-F25.png
ORGANIZER;CN="Prodigy Moves!":MAILTO:jgreen@uacdc.org
END:VEVENT
BEGIN:VEVENT
DTSTART;TZID=America/New_York:20260423T150000
DTEND;TZID=America/New_York:20260423T160000
DTSTAMP:20260421T200911
CREATED:20250410T155935Z
LAST-MODIFIED:20250819T130959Z
UID:10008164-1776956400-1776960000@www.uacdc.org
SUMMARY:Capoeira/Hip-Hop Dance for Adults  w/ Instructor Carrie
DESCRIPTION:Capoeira/Hip-Hop Dance for Adults w/ Instructor Carrie \nThursdays | 3pm – 4pm\nVictor Crist Community Center | 14013 N 22nd St\, Tampa FL 33613
URL:https://www.uacdc.org/event_general/capoeira-hip-hop-dance-for-adults-w-instructor-carrie/2026-04-23/
LOCATION:Victor Crist Community Center\, 14013 N 22nd Street\, Tampa\, FL\, 33613\, United States
CATEGORIES:Adult,Adult Classes,Education,Prodigy,Prodigy Moves
ATTACH;FMTTYPE=image/png:https://www.uacdc.org/wp-content/uploads/2025/04/Pro_dance_capoeira-hiphop.png
ORGANIZER;CN="Prodigy Moves!":MAILTO:jgreen@uacdc.org
END:VEVENT
BEGIN:VEVENT
DTSTART;TZID=America/New_York:20260429T110000
DTEND;TZID=America/New_York:20260429T120000
DTSTAMP:20260421T200911
CREATED:20250819T130903Z
LAST-MODIFIED:20250819T130903Z
UID:10020431-1777460400-1777464000@www.uacdc.org
SUMMARY:Adult Visual Arts for Adults w/Lorena
DESCRIPTION:Adult Visual Arts for Adults w/Lorena \nFLYER \nWednesdays | 11am – 12pm\nVictor Crist Community Center | 14013 N 22nd St\, Tampa FL 33613 \nRegistration applications can be found at www.uacdc.org/prodigyregistration.
URL:https://www.uacdc.org/event_general/adult-visual-arts-for-adults-w-lorena-2/2026-04-29/
LOCATION:Victor Crist Community Center\, 14013 N 22nd Street\, Tampa\, FL\, 33613\, United States
CATEGORIES:Adult,Adult Classes,Education,Prodigy,Prodigy Moves
ATTACH;FMTTYPE=image/png:https://www.uacdc.org/wp-content/uploads/2025/08/Pro_vISUAL_Art-Adult-F25.png
ORGANIZER;CN="Prodigy Moves!":MAILTO:jgreen@uacdc.org
END:VEVENT
BEGIN:VEVENT
DTSTART;TZID=America/New_York:20260430T150000
DTEND;TZID=America/New_York:20260430T160000
DTSTAMP:20260421T200911
CREATED:20250410T155935Z
LAST-MODIFIED:20250819T130959Z
UID:10008165-1777561200-1777564800@www.uacdc.org
SUMMARY:Capoeira/Hip-Hop Dance for Adults  w/ Instructor Carrie
DESCRIPTION:Capoeira/Hip-Hop Dance for Adults w/ Instructor Carrie \nThursdays | 3pm – 4pm\nVictor Crist Community Center | 14013 N 22nd St\, Tampa FL 33613
URL:https://www.uacdc.org/event_general/capoeira-hip-hop-dance-for-adults-w-instructor-carrie/2026-04-30/
LOCATION:Victor Crist Community Center\, 14013 N 22nd Street\, Tampa\, FL\, 33613\, United States
CATEGORIES:Adult,Adult Classes,Education,Prodigy,Prodigy Moves
ATTACH;FMTTYPE=image/png:https://www.uacdc.org/wp-content/uploads/2025/04/Pro_dance_capoeira-hiphop.png
ORGANIZER;CN="Prodigy Moves!":MAILTO:jgreen@uacdc.org
END:VEVENT
BEGIN:VEVENT
DTSTART;TZID=America/New_York:20260506T110000
DTEND;TZID=America/New_York:20260506T120000
DTSTAMP:20260421T200911
CREATED:20250819T130903Z
LAST-MODIFIED:20250819T130903Z
UID:10020432-1778065200-1778068800@www.uacdc.org
SUMMARY:Adult Visual Arts for Adults w/Lorena
DESCRIPTION:Adult Visual Arts for Adults w/Lorena \nFLYER \nWednesdays | 11am – 12pm\nVictor Crist Community Center | 14013 N 22nd St\, Tampa FL 33613 \nRegistration applications can be found at www.uacdc.org/prodigyregistration.
URL:https://www.uacdc.org/event_general/adult-visual-arts-for-adults-w-lorena-2/2026-05-06/
LOCATION:Victor Crist Community Center\, 14013 N 22nd Street\, Tampa\, FL\, 33613\, United States
CATEGORIES:Adult,Adult Classes,Education,Prodigy,Prodigy Moves
ATTACH;FMTTYPE=image/png:https://www.uacdc.org/wp-content/uploads/2025/08/Pro_vISUAL_Art-Adult-F25.png
ORGANIZER;CN="Prodigy Moves!":MAILTO:jgreen@uacdc.org
END:VEVENT
BEGIN:VEVENT
DTSTART;TZID=America/New_York:20260507T150000
DTEND;TZID=America/New_York:20260507T160000
DTSTAMP:20260421T200911
CREATED:20250410T155935Z
LAST-MODIFIED:20250819T130959Z
UID:10008166-1778166000-1778169600@www.uacdc.org
SUMMARY:Capoeira/Hip-Hop Dance for Adults  w/ Instructor Carrie
DESCRIPTION:Capoeira/Hip-Hop Dance for Adults w/ Instructor Carrie \nThursdays | 3pm – 4pm\nVictor Crist Community Center | 14013 N 22nd St\, Tampa FL 33613
URL:https://www.uacdc.org/event_general/capoeira-hip-hop-dance-for-adults-w-instructor-carrie/2026-05-07/
LOCATION:Victor Crist Community Center\, 14013 N 22nd Street\, Tampa\, FL\, 33613\, United States
CATEGORIES:Adult,Adult Classes,Education,Prodigy,Prodigy Moves
ATTACH;FMTTYPE=image/png:https://www.uacdc.org/wp-content/uploads/2025/04/Pro_dance_capoeira-hiphop.png
ORGANIZER;CN="Prodigy Moves!":MAILTO:jgreen@uacdc.org
END:VEVENT
BEGIN:VEVENT
DTSTART;TZID=America/New_York:20260513T110000
DTEND;TZID=America/New_York:20260513T120000
DTSTAMP:20260421T200911
CREATED:20250819T130903Z
LAST-MODIFIED:20250819T130903Z
UID:10020433-1778670000-1778673600@www.uacdc.org
SUMMARY:Adult Visual Arts for Adults w/Lorena
DESCRIPTION:Adult Visual Arts for Adults w/Lorena \nFLYER \nWednesdays | 11am – 12pm\nVictor Crist Community Center | 14013 N 22nd St\, Tampa FL 33613 \nRegistration applications can be found at www.uacdc.org/prodigyregistration.
URL:https://www.uacdc.org/event_general/adult-visual-arts-for-adults-w-lorena-2/2026-05-13/
LOCATION:Victor Crist Community Center\, 14013 N 22nd Street\, Tampa\, FL\, 33613\, United States
CATEGORIES:Adult,Adult Classes,Education,Prodigy,Prodigy Moves
ATTACH;FMTTYPE=image/png:https://www.uacdc.org/wp-content/uploads/2025/08/Pro_vISUAL_Art-Adult-F25.png
ORGANIZER;CN="Prodigy Moves!":MAILTO:jgreen@uacdc.org
END:VEVENT
BEGIN:VEVENT
DTSTART;TZID=America/New_York:20260514T150000
DTEND;TZID=America/New_York:20260514T160000
DTSTAMP:20260421T200911
CREATED:20250410T155935Z
LAST-MODIFIED:20250819T130959Z
UID:10008167-1778770800-1778774400@www.uacdc.org
SUMMARY:Capoeira/Hip-Hop Dance for Adults  w/ Instructor Carrie
DESCRIPTION:Capoeira/Hip-Hop Dance for Adults w/ Instructor Carrie \nThursdays | 3pm – 4pm\nVictor Crist Community Center | 14013 N 22nd St\, Tampa FL 33613
URL:https://www.uacdc.org/event_general/capoeira-hip-hop-dance-for-adults-w-instructor-carrie/2026-05-14/
LOCATION:Victor Crist Community Center\, 14013 N 22nd Street\, Tampa\, FL\, 33613\, United States
CATEGORIES:Adult,Adult Classes,Education,Prodigy,Prodigy Moves
ATTACH;FMTTYPE=image/png:https://www.uacdc.org/wp-content/uploads/2025/04/Pro_dance_capoeira-hiphop.png
ORGANIZER;CN="Prodigy Moves!":MAILTO:jgreen@uacdc.org
END:VEVENT
BEGIN:VEVENT
DTSTART;TZID=America/New_York:20260520T110000
DTEND;TZID=America/New_York:20260520T120000
DTSTAMP:20260421T200911
CREATED:20250819T130903Z
LAST-MODIFIED:20250819T130903Z
UID:10020434-1779274800-1779278400@www.uacdc.org
SUMMARY:Adult Visual Arts for Adults w/Lorena
DESCRIPTION:Adult Visual Arts for Adults w/Lorena \nFLYER \nWednesdays | 11am – 12pm\nVictor Crist Community Center | 14013 N 22nd St\, Tampa FL 33613 \nRegistration applications can be found at www.uacdc.org/prodigyregistration.
URL:https://www.uacdc.org/event_general/adult-visual-arts-for-adults-w-lorena-2/2026-05-20/
LOCATION:Victor Crist Community Center\, 14013 N 22nd Street\, Tampa\, FL\, 33613\, United States
CATEGORIES:Adult,Adult Classes,Education,Prodigy,Prodigy Moves
ATTACH;FMTTYPE=image/png:https://www.uacdc.org/wp-content/uploads/2025/08/Pro_vISUAL_Art-Adult-F25.png
ORGANIZER;CN="Prodigy Moves!":MAILTO:jgreen@uacdc.org
END:VEVENT
BEGIN:VEVENT
DTSTART;TZID=America/New_York:20260521T150000
DTEND;TZID=America/New_York:20260521T160000
DTSTAMP:20260421T200911
CREATED:20250410T155935Z
LAST-MODIFIED:20250819T130959Z
UID:10008168-1779375600-1779379200@www.uacdc.org
SUMMARY:Capoeira/Hip-Hop Dance for Adults  w/ Instructor Carrie
DESCRIPTION:Capoeira/Hip-Hop Dance for Adults w/ Instructor Carrie \nThursdays | 3pm – 4pm\nVictor Crist Community Center | 14013 N 22nd St\, Tampa FL 33613
URL:https://www.uacdc.org/event_general/capoeira-hip-hop-dance-for-adults-w-instructor-carrie/2026-05-21/
LOCATION:Victor Crist Community Center\, 14013 N 22nd Street\, Tampa\, FL\, 33613\, United States
CATEGORIES:Adult,Adult Classes,Education,Prodigy,Prodigy Moves
ATTACH;FMTTYPE=image/png:https://www.uacdc.org/wp-content/uploads/2025/04/Pro_dance_capoeira-hiphop.png
ORGANIZER;CN="Prodigy Moves!":MAILTO:jgreen@uacdc.org
END:VEVENT
BEGIN:VEVENT
DTSTART;TZID=America/New_York:20260527T110000
DTEND;TZID=America/New_York:20260527T120000
DTSTAMP:20260421T200911
CREATED:20250819T130903Z
LAST-MODIFIED:20250819T130903Z
UID:10020435-1779879600-1779883200@www.uacdc.org
SUMMARY:Adult Visual Arts for Adults w/Lorena
DESCRIPTION:Adult Visual Arts for Adults w/Lorena \nFLYER \nWednesdays | 11am – 12pm\nVictor Crist Community Center | 14013 N 22nd St\, Tampa FL 33613 \nRegistration applications can be found at www.uacdc.org/prodigyregistration.
URL:https://www.uacdc.org/event_general/adult-visual-arts-for-adults-w-lorena-2/2026-05-27/
LOCATION:Victor Crist Community Center\, 14013 N 22nd Street\, Tampa\, FL\, 33613\, United States
CATEGORIES:Adult,Adult Classes,Education,Prodigy,Prodigy Moves
ATTACH;FMTTYPE=image/png:https://www.uacdc.org/wp-content/uploads/2025/08/Pro_vISUAL_Art-Adult-F25.png
ORGANIZER;CN="Prodigy Moves!":MAILTO:jgreen@uacdc.org
END:VEVENT
BEGIN:VEVENT
DTSTART;TZID=America/New_York:20260528T150000
DTEND;TZID=America/New_York:20260528T160000
DTSTAMP:20260421T200911
CREATED:20250410T155935Z
LAST-MODIFIED:20250819T130959Z
UID:10008169-1779980400-1779984000@www.uacdc.org
SUMMARY:Capoeira/Hip-Hop Dance for Adults  w/ Instructor Carrie
DESCRIPTION:Capoeira/Hip-Hop Dance for Adults w/ Instructor Carrie \nThursdays | 3pm – 4pm\nVictor Crist Community Center | 14013 N 22nd St\, Tampa FL 33613
URL:https://www.uacdc.org/event_general/capoeira-hip-hop-dance-for-adults-w-instructor-carrie/2026-05-28/
LOCATION:Victor Crist Community Center\, 14013 N 22nd Street\, Tampa\, FL\, 33613\, United States
CATEGORIES:Adult,Adult Classes,Education,Prodigy,Prodigy Moves
ATTACH;FMTTYPE=image/png:https://www.uacdc.org/wp-content/uploads/2025/04/Pro_dance_capoeira-hiphop.png
ORGANIZER;CN="Prodigy Moves!":MAILTO:jgreen@uacdc.org
END:VEVENT
BEGIN:VEVENT
DTSTART;TZID=America/New_York:20260603T110000
DTEND;TZID=America/New_York:20260603T120000
DTSTAMP:20260421T200911
CREATED:20250819T130903Z
LAST-MODIFIED:20250819T130903Z
UID:10020436-1780484400-1780488000@www.uacdc.org
SUMMARY:Adult Visual Arts for Adults w/Lorena
DESCRIPTION:Adult Visual Arts for Adults w/Lorena \nFLYER \nWednesdays | 11am – 12pm\nVictor Crist Community Center | 14013 N 22nd St\, Tampa FL 33613 \nRegistration applications can be found at www.uacdc.org/prodigyregistration.
URL:https://www.uacdc.org/event_general/adult-visual-arts-for-adults-w-lorena-2/2026-06-03/
LOCATION:Victor Crist Community Center\, 14013 N 22nd Street\, Tampa\, FL\, 33613\, United States
CATEGORIES:Adult,Adult Classes,Education,Prodigy,Prodigy Moves
ATTACH;FMTTYPE=image/png:https://www.uacdc.org/wp-content/uploads/2025/08/Pro_vISUAL_Art-Adult-F25.png
ORGANIZER;CN="Prodigy Moves!":MAILTO:jgreen@uacdc.org
END:VEVENT
BEGIN:VEVENT
DTSTART;TZID=America/New_York:20260604T150000
DTEND;TZID=America/New_York:20260604T160000
DTSTAMP:20260421T200911
CREATED:20250410T155935Z
LAST-MODIFIED:20250819T130959Z
UID:10008170-1780585200-1780588800@www.uacdc.org
SUMMARY:Capoeira/Hip-Hop Dance for Adults  w/ Instructor Carrie
DESCRIPTION:Capoeira/Hip-Hop Dance for Adults w/ Instructor Carrie \nThursdays | 3pm – 4pm\nVictor Crist Community Center | 14013 N 22nd St\, Tampa FL 33613
URL:https://www.uacdc.org/event_general/capoeira-hip-hop-dance-for-adults-w-instructor-carrie/2026-06-04/
LOCATION:Victor Crist Community Center\, 14013 N 22nd Street\, Tampa\, FL\, 33613\, United States
CATEGORIES:Adult,Adult Classes,Education,Prodigy,Prodigy Moves
ATTACH;FMTTYPE=image/png:https://www.uacdc.org/wp-content/uploads/2025/04/Pro_dance_capoeira-hiphop.png
ORGANIZER;CN="Prodigy Moves!":MAILTO:jgreen@uacdc.org
END:VEVENT
BEGIN:VEVENT
DTSTART;TZID=America/New_York:20260610T110000
DTEND;TZID=America/New_York:20260610T120000
DTSTAMP:20260421T200911
CREATED:20250819T130903Z
LAST-MODIFIED:20250819T130903Z
UID:10020437-1781089200-1781092800@www.uacdc.org
SUMMARY:Adult Visual Arts for Adults w/Lorena
DESCRIPTION:Adult Visual Arts for Adults w/Lorena \nFLYER \nWednesdays | 11am – 12pm\nVictor Crist Community Center | 14013 N 22nd St\, Tampa FL 33613 \nRegistration applications can be found at www.uacdc.org/prodigyregistration.
URL:https://www.uacdc.org/event_general/adult-visual-arts-for-adults-w-lorena-2/2026-06-10/
LOCATION:Victor Crist Community Center\, 14013 N 22nd Street\, Tampa\, FL\, 33613\, United States
CATEGORIES:Adult,Adult Classes,Education,Prodigy,Prodigy Moves
ATTACH;FMTTYPE=image/png:https://www.uacdc.org/wp-content/uploads/2025/08/Pro_vISUAL_Art-Adult-F25.png
ORGANIZER;CN="Prodigy Moves!":MAILTO:jgreen@uacdc.org
END:VEVENT
BEGIN:VEVENT
DTSTART;TZID=America/New_York:20260611T150000
DTEND;TZID=America/New_York:20260611T160000
DTSTAMP:20260421T200911
CREATED:20250410T155935Z
LAST-MODIFIED:20250819T130959Z
UID:10008171-1781190000-1781193600@www.uacdc.org
SUMMARY:Capoeira/Hip-Hop Dance for Adults  w/ Instructor Carrie
DESCRIPTION:Capoeira/Hip-Hop Dance for Adults w/ Instructor Carrie \nThursdays | 3pm – 4pm\nVictor Crist Community Center | 14013 N 22nd St\, Tampa FL 33613
URL:https://www.uacdc.org/event_general/capoeira-hip-hop-dance-for-adults-w-instructor-carrie/2026-06-11/
LOCATION:Victor Crist Community Center\, 14013 N 22nd Street\, Tampa\, FL\, 33613\, United States
CATEGORIES:Adult,Adult Classes,Education,Prodigy,Prodigy Moves
ATTACH;FMTTYPE=image/png:https://www.uacdc.org/wp-content/uploads/2025/04/Pro_dance_capoeira-hiphop.png
ORGANIZER;CN="Prodigy Moves!":MAILTO:jgreen@uacdc.org
END:VEVENT
BEGIN:VEVENT
DTSTART;TZID=America/New_York:20260617T110000
DTEND;TZID=America/New_York:20260617T120000
DTSTAMP:20260421T200911
CREATED:20250819T130903Z
LAST-MODIFIED:20250819T130903Z
UID:10020438-1781694000-1781697600@www.uacdc.org
SUMMARY:Adult Visual Arts for Adults w/Lorena
DESCRIPTION:Adult Visual Arts for Adults w/Lorena \nFLYER \nWednesdays | 11am – 12pm\nVictor Crist Community Center | 14013 N 22nd St\, Tampa FL 33613 \nRegistration applications can be found at www.uacdc.org/prodigyregistration.
URL:https://www.uacdc.org/event_general/adult-visual-arts-for-adults-w-lorena-2/2026-06-17/
LOCATION:Victor Crist Community Center\, 14013 N 22nd Street\, Tampa\, FL\, 33613\, United States
CATEGORIES:Adult,Adult Classes,Education,Prodigy,Prodigy Moves
ATTACH;FMTTYPE=image/png:https://www.uacdc.org/wp-content/uploads/2025/08/Pro_vISUAL_Art-Adult-F25.png
ORGANIZER;CN="Prodigy Moves!":MAILTO:jgreen@uacdc.org
END:VEVENT
BEGIN:VEVENT
DTSTART;TZID=America/New_York:20260618T150000
DTEND;TZID=America/New_York:20260618T160000
DTSTAMP:20260421T200911
CREATED:20250410T155935Z
LAST-MODIFIED:20250819T130959Z
UID:10008172-1781794800-1781798400@www.uacdc.org
SUMMARY:Capoeira/Hip-Hop Dance for Adults  w/ Instructor Carrie
DESCRIPTION:Capoeira/Hip-Hop Dance for Adults w/ Instructor Carrie \nThursdays | 3pm – 4pm\nVictor Crist Community Center | 14013 N 22nd St\, Tampa FL 33613
URL:https://www.uacdc.org/event_general/capoeira-hip-hop-dance-for-adults-w-instructor-carrie/2026-06-18/
LOCATION:Victor Crist Community Center\, 14013 N 22nd Street\, Tampa\, FL\, 33613\, United States
CATEGORIES:Adult,Adult Classes,Education,Prodigy,Prodigy Moves
ATTACH;FMTTYPE=image/png:https://www.uacdc.org/wp-content/uploads/2025/04/Pro_dance_capoeira-hiphop.png
ORGANIZER;CN="Prodigy Moves!":MAILTO:jgreen@uacdc.org
END:VEVENT
BEGIN:VEVENT
DTSTART;TZID=America/New_York:20260624T110000
DTEND;TZID=America/New_York:20260624T120000
DTSTAMP:20260421T200911
CREATED:20250819T130903Z
LAST-MODIFIED:20250819T130903Z
UID:10020439-1782298800-1782302400@www.uacdc.org
SUMMARY:Adult Visual Arts for Adults w/Lorena
DESCRIPTION:Adult Visual Arts for Adults w/Lorena \nFLYER \nWednesdays | 11am – 12pm\nVictor Crist Community Center | 14013 N 22nd St\, Tampa FL 33613 \nRegistration applications can be found at www.uacdc.org/prodigyregistration.
URL:https://www.uacdc.org/event_general/adult-visual-arts-for-adults-w-lorena-2/2026-06-24/
LOCATION:Victor Crist Community Center\, 14013 N 22nd Street\, Tampa\, FL\, 33613\, United States
CATEGORIES:Adult,Adult Classes,Education,Prodigy,Prodigy Moves
ATTACH;FMTTYPE=image/png:https://www.uacdc.org/wp-content/uploads/2025/08/Pro_vISUAL_Art-Adult-F25.png
ORGANIZER;CN="Prodigy Moves!":MAILTO:jgreen@uacdc.org
END:VEVENT
BEGIN:VEVENT
DTSTART;TZID=America/New_York:20260625T150000
DTEND;TZID=America/New_York:20260625T160000
DTSTAMP:20260421T200911
CREATED:20250410T155935Z
LAST-MODIFIED:20250819T130959Z
UID:10008173-1782399600-1782403200@www.uacdc.org
SUMMARY:Capoeira/Hip-Hop Dance for Adults  w/ Instructor Carrie
DESCRIPTION:Capoeira/Hip-Hop Dance for Adults w/ Instructor Carrie \nThursdays | 3pm – 4pm\nVictor Crist Community Center | 14013 N 22nd St\, Tampa FL 33613
URL:https://www.uacdc.org/event_general/capoeira-hip-hop-dance-for-adults-w-instructor-carrie/2026-06-25/
LOCATION:Victor Crist Community Center\, 14013 N 22nd Street\, Tampa\, FL\, 33613\, United States
CATEGORIES:Adult,Adult Classes,Education,Prodigy,Prodigy Moves
ATTACH;FMTTYPE=image/png:https://www.uacdc.org/wp-content/uploads/2025/04/Pro_dance_capoeira-hiphop.png
ORGANIZER;CN="Prodigy Moves!":MAILTO:jgreen@uacdc.org
END:VEVENT
BEGIN:VEVENT
DTSTART;TZID=America/New_York:20260701T110000
DTEND;TZID=America/New_York:20260701T120000
DTSTAMP:20260421T200911
CREATED:20250819T130903Z
LAST-MODIFIED:20250819T130903Z
UID:10020440-1782903600-1782907200@www.uacdc.org
SUMMARY:Adult Visual Arts for Adults w/Lorena
DESCRIPTION:Adult Visual Arts for Adults w/Lorena \nFLYER \nWednesdays | 11am – 12pm\nVictor Crist Community Center | 14013 N 22nd St\, Tampa FL 33613 \nRegistration applications can be found at www.uacdc.org/prodigyregistration.
URL:https://www.uacdc.org/event_general/adult-visual-arts-for-adults-w-lorena-2/2026-07-01/
LOCATION:Victor Crist Community Center\, 14013 N 22nd Street\, Tampa\, FL\, 33613\, United States
CATEGORIES:Adult,Adult Classes,Education,Prodigy,Prodigy Moves
ATTACH;FMTTYPE=image/png:https://www.uacdc.org/wp-content/uploads/2025/08/Pro_vISUAL_Art-Adult-F25.png
ORGANIZER;CN="Prodigy Moves!":MAILTO:jgreen@uacdc.org
END:VEVENT
BEGIN:VEVENT
DTSTART;TZID=America/New_York:20260702T150000
DTEND;TZID=America/New_York:20260702T160000
DTSTAMP:20260421T200911
CREATED:20250410T155935Z
LAST-MODIFIED:20250819T130959Z
UID:10008174-1783004400-1783008000@www.uacdc.org
SUMMARY:Capoeira/Hip-Hop Dance for Adults  w/ Instructor Carrie
DESCRIPTION:Capoeira/Hip-Hop Dance for Adults w/ Instructor Carrie \nThursdays | 3pm – 4pm\nVictor Crist Community Center | 14013 N 22nd St\, Tampa FL 33613
URL:https://www.uacdc.org/event_general/capoeira-hip-hop-dance-for-adults-w-instructor-carrie/2026-07-02/
LOCATION:Victor Crist Community Center\, 14013 N 22nd Street\, Tampa\, FL\, 33613\, United States
CATEGORIES:Adult,Adult Classes,Education,Prodigy,Prodigy Moves
ATTACH;FMTTYPE=image/png:https://www.uacdc.org/wp-content/uploads/2025/04/Pro_dance_capoeira-hiphop.png
ORGANIZER;CN="Prodigy Moves!":MAILTO:jgreen@uacdc.org
END:VEVENT
BEGIN:VEVENT
DTSTART;TZID=America/New_York:20260708T110000
DTEND;TZID=America/New_York:20260708T120000
DTSTAMP:20260421T200911
CREATED:20250819T130903Z
LAST-MODIFIED:20250819T130903Z
UID:10020441-1783508400-1783512000@www.uacdc.org
SUMMARY:Adult Visual Arts for Adults w/Lorena
DESCRIPTION:Adult Visual Arts for Adults w/Lorena \nFLYER \nWednesdays | 11am – 12pm\nVictor Crist Community Center | 14013 N 22nd St\, Tampa FL 33613 \nRegistration applications can be found at www.uacdc.org/prodigyregistration.
URL:https://www.uacdc.org/event_general/adult-visual-arts-for-adults-w-lorena-2/2026-07-08/
LOCATION:Victor Crist Community Center\, 14013 N 22nd Street\, Tampa\, FL\, 33613\, United States
CATEGORIES:Adult,Adult Classes,Education,Prodigy,Prodigy Moves
ATTACH;FMTTYPE=image/png:https://www.uacdc.org/wp-content/uploads/2025/08/Pro_vISUAL_Art-Adult-F25.png
ORGANIZER;CN="Prodigy Moves!":MAILTO:jgreen@uacdc.org
END:VEVENT
BEGIN:VEVENT
DTSTART;TZID=America/New_York:20260709T150000
DTEND;TZID=America/New_York:20260709T160000
DTSTAMP:20260421T200911
CREATED:20250410T155935Z
LAST-MODIFIED:20250819T130959Z
UID:10008175-1783609200-1783612800@www.uacdc.org
SUMMARY:Capoeira/Hip-Hop Dance for Adults  w/ Instructor Carrie
DESCRIPTION:Capoeira/Hip-Hop Dance for Adults w/ Instructor Carrie \nThursdays | 3pm – 4pm\nVictor Crist Community Center | 14013 N 22nd St\, Tampa FL 33613
URL:https://www.uacdc.org/event_general/capoeira-hip-hop-dance-for-adults-w-instructor-carrie/2026-07-09/
LOCATION:Victor Crist Community Center\, 14013 N 22nd Street\, Tampa\, FL\, 33613\, United States
CATEGORIES:Adult,Adult Classes,Education,Prodigy,Prodigy Moves
ATTACH;FMTTYPE=image/png:https://www.uacdc.org/wp-content/uploads/2025/04/Pro_dance_capoeira-hiphop.png
ORGANIZER;CN="Prodigy Moves!":MAILTO:jgreen@uacdc.org
END:VEVENT
BEGIN:VEVENT
DTSTART;TZID=America/New_York:20260715T110000
DTEND;TZID=America/New_York:20260715T120000
DTSTAMP:20260421T200911
CREATED:20250819T130903Z
LAST-MODIFIED:20250819T130903Z
UID:10020442-1784113200-1784116800@www.uacdc.org
SUMMARY:Adult Visual Arts for Adults w/Lorena
DESCRIPTION:Adult Visual Arts for Adults w/Lorena \nFLYER \nWednesdays | 11am – 12pm\nVictor Crist Community Center | 14013 N 22nd St\, Tampa FL 33613 \nRegistration applications can be found at www.uacdc.org/prodigyregistration.
URL:https://www.uacdc.org/event_general/adult-visual-arts-for-adults-w-lorena-2/2026-07-15/
LOCATION:Victor Crist Community Center\, 14013 N 22nd Street\, Tampa\, FL\, 33613\, United States
CATEGORIES:Adult,Adult Classes,Education,Prodigy,Prodigy Moves
ATTACH;FMTTYPE=image/png:https://www.uacdc.org/wp-content/uploads/2025/08/Pro_vISUAL_Art-Adult-F25.png
ORGANIZER;CN="Prodigy Moves!":MAILTO:jgreen@uacdc.org
END:VEVENT
BEGIN:VEVENT
DTSTART;TZID=America/New_York:20260716T150000
DTEND;TZID=America/New_York:20260716T160000
DTSTAMP:20260421T200911
CREATED:20250410T155935Z
LAST-MODIFIED:20250819T130959Z
UID:10008176-1784214000-1784217600@www.uacdc.org
SUMMARY:Capoeira/Hip-Hop Dance for Adults  w/ Instructor Carrie
DESCRIPTION:Capoeira/Hip-Hop Dance for Adults w/ Instructor Carrie \nThursdays | 3pm – 4pm\nVictor Crist Community Center | 14013 N 22nd St\, Tampa FL 33613
URL:https://www.uacdc.org/event_general/capoeira-hip-hop-dance-for-adults-w-instructor-carrie/2026-07-16/
LOCATION:Victor Crist Community Center\, 14013 N 22nd Street\, Tampa\, FL\, 33613\, United States
CATEGORIES:Adult,Adult Classes,Education,Prodigy,Prodigy Moves
ATTACH;FMTTYPE=image/png:https://www.uacdc.org/wp-content/uploads/2025/04/Pro_dance_capoeira-hiphop.png
ORGANIZER;CN="Prodigy Moves!":MAILTO:jgreen@uacdc.org
END:VEVENT
BEGIN:VEVENT
DTSTART;TZID=America/New_York:20260722T110000
DTEND;TZID=America/New_York:20260722T120000
DTSTAMP:20260421T200911
CREATED:20250819T130903Z
LAST-MODIFIED:20250819T130903Z
UID:10020443-1784718000-1784721600@www.uacdc.org
SUMMARY:Adult Visual Arts for Adults w/Lorena
DESCRIPTION:Adult Visual Arts for Adults w/Lorena \nFLYER \nWednesdays | 11am – 12pm\nVictor Crist Community Center | 14013 N 22nd St\, Tampa FL 33613 \nRegistration applications can be found at www.uacdc.org/prodigyregistration.
URL:https://www.uacdc.org/event_general/adult-visual-arts-for-adults-w-lorena-2/2026-07-22/
LOCATION:Victor Crist Community Center\, 14013 N 22nd Street\, Tampa\, FL\, 33613\, United States
CATEGORIES:Adult,Adult Classes,Education,Prodigy,Prodigy Moves
ATTACH;FMTTYPE=image/png:https://www.uacdc.org/wp-content/uploads/2025/08/Pro_vISUAL_Art-Adult-F25.png
ORGANIZER;CN="Prodigy Moves!":MAILTO:jgreen@uacdc.org
END:VEVENT
BEGIN:VEVENT
DTSTART;TZID=America/New_York:20260723T150000
DTEND;TZID=America/New_York:20260723T160000
DTSTAMP:20260421T200911
CREATED:20250410T155935Z
LAST-MODIFIED:20250819T130959Z
UID:10008177-1784818800-1784822400@www.uacdc.org
SUMMARY:Capoeira/Hip-Hop Dance for Adults  w/ Instructor Carrie
DESCRIPTION:Capoeira/Hip-Hop Dance for Adults w/ Instructor Carrie \nThursdays | 3pm – 4pm\nVictor Crist Community Center | 14013 N 22nd St\, Tampa FL 33613
URL:https://www.uacdc.org/event_general/capoeira-hip-hop-dance-for-adults-w-instructor-carrie/2026-07-23/
LOCATION:Victor Crist Community Center\, 14013 N 22nd Street\, Tampa\, FL\, 33613\, United States
CATEGORIES:Adult,Adult Classes,Education,Prodigy,Prodigy Moves
ATTACH;FMTTYPE=image/png:https://www.uacdc.org/wp-content/uploads/2025/04/Pro_dance_capoeira-hiphop.png
ORGANIZER;CN="Prodigy Moves!":MAILTO:jgreen@uacdc.org
END:VEVENT
BEGIN:VEVENT
DTSTART;TZID=America/New_York:20260729T110000
DTEND;TZID=America/New_York:20260729T120000
DTSTAMP:20260421T200911
CREATED:20250819T130903Z
LAST-MODIFIED:20250819T130903Z
UID:10020444-1785322800-1785326400@www.uacdc.org
SUMMARY:Adult Visual Arts for Adults w/Lorena
DESCRIPTION:Adult Visual Arts for Adults w/Lorena \nFLYER \nWednesdays | 11am – 12pm\nVictor Crist Community Center | 14013 N 22nd St\, Tampa FL 33613 \nRegistration applications can be found at www.uacdc.org/prodigyregistration.
URL:https://www.uacdc.org/event_general/adult-visual-arts-for-adults-w-lorena-2/2026-07-29/
LOCATION:Victor Crist Community Center\, 14013 N 22nd Street\, Tampa\, FL\, 33613\, United States
CATEGORIES:Adult,Adult Classes,Education,Prodigy,Prodigy Moves
ATTACH;FMTTYPE=image/png:https://www.uacdc.org/wp-content/uploads/2025/08/Pro_vISUAL_Art-Adult-F25.png
ORGANIZER;CN="Prodigy Moves!":MAILTO:jgreen@uacdc.org
END:VEVENT
BEGIN:VEVENT
DTSTART;TZID=America/New_York:20260730T150000
DTEND;TZID=America/New_York:20260730T160000
DTSTAMP:20260421T200911
CREATED:20250410T155935Z
LAST-MODIFIED:20250819T130959Z
UID:10008178-1785423600-1785427200@www.uacdc.org
SUMMARY:Capoeira/Hip-Hop Dance for Adults  w/ Instructor Carrie
DESCRIPTION:Capoeira/Hip-Hop Dance for Adults w/ Instructor Carrie \nThursdays | 3pm – 4pm\nVictor Crist Community Center | 14013 N 22nd St\, Tampa FL 33613
URL:https://www.uacdc.org/event_general/capoeira-hip-hop-dance-for-adults-w-instructor-carrie/2026-07-30/
LOCATION:Victor Crist Community Center\, 14013 N 22nd Street\, Tampa\, FL\, 33613\, United States
CATEGORIES:Adult,Adult Classes,Education,Prodigy,Prodigy Moves
ATTACH;FMTTYPE=image/png:https://www.uacdc.org/wp-content/uploads/2025/04/Pro_dance_capoeira-hiphop.png
ORGANIZER;CN="Prodigy Moves!":MAILTO:jgreen@uacdc.org
END:VEVENT
END:VCALENDAR