BEGIN:VCALENDAR
VERSION:2.0
PRODID:-//UACDC - ECPv6.15.20//NONSGML v1.0//EN
CALSCALE:GREGORIAN
METHOD:PUBLISH
X-WR-CALNAME:UACDC
X-ORIGINAL-URL:https://www.uacdc.org
X-WR-CALDESC:Events for UACDC
REFRESH-INTERVAL;VALUE=DURATION:PT1H
X-Robots-Tag:noindex
X-PUBLISHED-TTL:PT1H
BEGIN:VTIMEZONE
TZID:America/New_York
BEGIN:DAYLIGHT
TZOFFSETFROM:-0500
TZOFFSETTO:-0400
TZNAME:EDT
DTSTART:20250309T070000
END:DAYLIGHT
BEGIN:STANDARD
TZOFFSETFROM:-0400
TZOFFSETTO:-0500
TZNAME:EST
DTSTART:20251102T060000
END:STANDARD
BEGIN:DAYLIGHT
TZOFFSETFROM:-0500
TZOFFSETTO:-0400
TZNAME:EDT
DTSTART:20260308T070000
END:DAYLIGHT
BEGIN:STANDARD
TZOFFSETFROM:-0400
TZOFFSETTO:-0500
TZNAME:EST
DTSTART:20261101T060000
END:STANDARD
BEGIN:DAYLIGHT
TZOFFSETFROM:-0500
TZOFFSETTO:-0400
TZNAME:EDT
DTSTART:20270314T070000
END:DAYLIGHT
BEGIN:STANDARD
TZOFFSETFROM:-0400
TZOFFSETTO:-0500
TZNAME:EST
DTSTART:20271107T060000
END:STANDARD
END:VTIMEZONE
BEGIN:VEVENT
DTSTART;TZID=America/New_York:20260424T090000
DTEND;TZID=America/New_York:20260424T113000
DTSTAMP:20260422T045403
CREATED:20251103T183239Z
LAST-MODIFIED:20251104T135026Z
UID:10021405-1777021200-1777030200@www.uacdc.org
SUMMARY:Fridays in the Park
DESCRIPTION:Fridays in the Park (FREE)\nKinship Free Market\, Garden Volunteering\, & Health Screenings w/ USF Family Medicine \nEvery Friday\nNovember 7th\, 14th\, 21st • 9:00 AM – 11:30 AM\nDecember 5th\, 12th\, 19th • 9:00 AM – 11:30 AM
URL:https://www.uacdc.org/event_general/fridays-in-the-park/2026-04-24/
LOCATION:Harvest Hope Park\, 13704 N 20th St\, Tampa\, FL\, 33613\, United States
CATEGORIES:Families,Family Special Events,Food Distribution,Get Moving,Outreach
ATTACH;FMTTYPE=image/png:https://www.uacdc.org/wp-content/uploads/2025/09/FRidays-in-The-Park.png
END:VEVENT
BEGIN:VEVENT
DTSTART;TZID=America/New_York:20260501T090000
DTEND;TZID=America/New_York:20260501T113000
DTSTAMP:20260422T045403
CREATED:20251103T183239Z
LAST-MODIFIED:20251104T135026Z
UID:10021406-1777626000-1777635000@www.uacdc.org
SUMMARY:Fridays in the Park
DESCRIPTION:Fridays in the Park (FREE)\nKinship Free Market\, Garden Volunteering\, & Health Screenings w/ USF Family Medicine \nEvery Friday\nNovember 7th\, 14th\, 21st • 9:00 AM – 11:30 AM\nDecember 5th\, 12th\, 19th • 9:00 AM – 11:30 AM
URL:https://www.uacdc.org/event_general/fridays-in-the-park/2026-05-01/
LOCATION:Harvest Hope Park\, 13704 N 20th St\, Tampa\, FL\, 33613\, United States
CATEGORIES:Families,Family Special Events,Food Distribution,Get Moving,Outreach
ATTACH;FMTTYPE=image/png:https://www.uacdc.org/wp-content/uploads/2025/09/FRidays-in-The-Park.png
END:VEVENT
BEGIN:VEVENT
DTSTART;TZID=America/New_York:20260508T090000
DTEND;TZID=America/New_York:20260508T113000
DTSTAMP:20260422T045403
CREATED:20251103T183239Z
LAST-MODIFIED:20251104T135026Z
UID:10021407-1778230800-1778239800@www.uacdc.org
SUMMARY:Fridays in the Park
DESCRIPTION:Fridays in the Park (FREE)\nKinship Free Market\, Garden Volunteering\, & Health Screenings w/ USF Family Medicine \nEvery Friday\nNovember 7th\, 14th\, 21st • 9:00 AM – 11:30 AM\nDecember 5th\, 12th\, 19th • 9:00 AM – 11:30 AM
URL:https://www.uacdc.org/event_general/fridays-in-the-park/2026-05-08/
LOCATION:Harvest Hope Park\, 13704 N 20th St\, Tampa\, FL\, 33613\, United States
CATEGORIES:Families,Family Special Events,Food Distribution,Get Moving,Outreach
ATTACH;FMTTYPE=image/png:https://www.uacdc.org/wp-content/uploads/2025/09/FRidays-in-The-Park.png
END:VEVENT
BEGIN:VEVENT
DTSTART;TZID=America/New_York:20260515T090000
DTEND;TZID=America/New_York:20260515T113000
DTSTAMP:20260422T045403
CREATED:20251103T183239Z
LAST-MODIFIED:20251104T135026Z
UID:10021408-1778835600-1778844600@www.uacdc.org
SUMMARY:Fridays in the Park
DESCRIPTION:Fridays in the Park (FREE)\nKinship Free Market\, Garden Volunteering\, & Health Screenings w/ USF Family Medicine \nEvery Friday\nNovember 7th\, 14th\, 21st • 9:00 AM – 11:30 AM\nDecember 5th\, 12th\, 19th • 9:00 AM – 11:30 AM
URL:https://www.uacdc.org/event_general/fridays-in-the-park/2026-05-15/
LOCATION:Harvest Hope Park\, 13704 N 20th St\, Tampa\, FL\, 33613\, United States
CATEGORIES:Families,Family Special Events,Food Distribution,Get Moving,Outreach
ATTACH;FMTTYPE=image/png:https://www.uacdc.org/wp-content/uploads/2025/09/FRidays-in-The-Park.png
END:VEVENT
BEGIN:VEVENT
DTSTART;TZID=America/New_York:20260519T180000
DTEND;TZID=America/New_York:20260519T190000
DTSTAMP:20260422T045403
CREATED:20250516T213724Z
LAST-MODIFIED:20250516T213724Z
UID:10014243-1779213600-1779217200@www.uacdc.org
SUMMARY:Tuesdays Together in the Garden
DESCRIPTION:Tuesdays Together in the Garden FLYER \nEvery Third Tuesday of the Month | 6:00 – 7:00PM \n\nGrow your own\, fresh produce\nTake home delicious recipes\nLearn about healthy food choices\nFind out where your food comes from\nEnjoy immersive garden activities\n\nQUESTIONS? Contact…\nRonnie Oliver (813) 558-5212 x 310\nMadison McGrath (813) 563-3761
URL:https://www.uacdc.org/event_general/tuesdays-together-in-the-garden/2026-05-19/
LOCATION:Harvest Hope Park\, 13704 N 20th St\, Tampa\, FL\, 33613\, United States
CATEGORIES:Adult Special Events,Families,Family Special Events,Food Distribution,Get Moving,Outreach,Youth,Youth Special Events
ATTACH;FMTTYPE=image/png:https://www.uacdc.org/wp-content/uploads/2025/05/tues-2gether.png
ORGANIZER;CN="Get Moving! Program":MAILTO:roliver@uacdc.org
END:VEVENT
BEGIN:VEVENT
DTSTART;TZID=America/New_York:20260522T090000
DTEND;TZID=America/New_York:20260522T113000
DTSTAMP:20260422T045403
CREATED:20251103T183239Z
LAST-MODIFIED:20251104T135026Z
UID:10021409-1779440400-1779449400@www.uacdc.org
SUMMARY:Fridays in the Park
DESCRIPTION:Fridays in the Park (FREE)\nKinship Free Market\, Garden Volunteering\, & Health Screenings w/ USF Family Medicine \nEvery Friday\nNovember 7th\, 14th\, 21st • 9:00 AM – 11:30 AM\nDecember 5th\, 12th\, 19th • 9:00 AM – 11:30 AM
URL:https://www.uacdc.org/event_general/fridays-in-the-park/2026-05-22/
LOCATION:Harvest Hope Park\, 13704 N 20th St\, Tampa\, FL\, 33613\, United States
CATEGORIES:Families,Family Special Events,Food Distribution,Get Moving,Outreach
ATTACH;FMTTYPE=image/png:https://www.uacdc.org/wp-content/uploads/2025/09/FRidays-in-The-Park.png
END:VEVENT
BEGIN:VEVENT
DTSTART;TZID=America/New_York:20260529T090000
DTEND;TZID=America/New_York:20260529T113000
DTSTAMP:20260422T045403
CREATED:20251103T183239Z
LAST-MODIFIED:20251104T135026Z
UID:10021410-1780045200-1780054200@www.uacdc.org
SUMMARY:Fridays in the Park
DESCRIPTION:Fridays in the Park (FREE)\nKinship Free Market\, Garden Volunteering\, & Health Screenings w/ USF Family Medicine \nEvery Friday\nNovember 7th\, 14th\, 21st • 9:00 AM – 11:30 AM\nDecember 5th\, 12th\, 19th • 9:00 AM – 11:30 AM
URL:https://www.uacdc.org/event_general/fridays-in-the-park/2026-05-29/
LOCATION:Harvest Hope Park\, 13704 N 20th St\, Tampa\, FL\, 33613\, United States
CATEGORIES:Families,Family Special Events,Food Distribution,Get Moving,Outreach
ATTACH;FMTTYPE=image/png:https://www.uacdc.org/wp-content/uploads/2025/09/FRidays-in-The-Park.png
END:VEVENT
BEGIN:VEVENT
DTSTART;TZID=America/New_York:20260605T090000
DTEND;TZID=America/New_York:20260605T113000
DTSTAMP:20260422T045403
CREATED:20251103T183239Z
LAST-MODIFIED:20251104T135026Z
UID:10021411-1780650000-1780659000@www.uacdc.org
SUMMARY:Fridays in the Park
DESCRIPTION:Fridays in the Park (FREE)\nKinship Free Market\, Garden Volunteering\, & Health Screenings w/ USF Family Medicine \nEvery Friday\nNovember 7th\, 14th\, 21st • 9:00 AM – 11:30 AM\nDecember 5th\, 12th\, 19th • 9:00 AM – 11:30 AM
URL:https://www.uacdc.org/event_general/fridays-in-the-park/2026-06-05/
LOCATION:Harvest Hope Park\, 13704 N 20th St\, Tampa\, FL\, 33613\, United States
CATEGORIES:Families,Family Special Events,Food Distribution,Get Moving,Outreach
ATTACH;FMTTYPE=image/png:https://www.uacdc.org/wp-content/uploads/2025/09/FRidays-in-The-Park.png
END:VEVENT
BEGIN:VEVENT
DTSTART;TZID=America/New_York:20260612T090000
DTEND;TZID=America/New_York:20260612T113000
DTSTAMP:20260422T045403
CREATED:20251103T183239Z
LAST-MODIFIED:20251104T135026Z
UID:10021412-1781254800-1781263800@www.uacdc.org
SUMMARY:Fridays in the Park
DESCRIPTION:Fridays in the Park (FREE)\nKinship Free Market\, Garden Volunteering\, & Health Screenings w/ USF Family Medicine \nEvery Friday\nNovember 7th\, 14th\, 21st • 9:00 AM – 11:30 AM\nDecember 5th\, 12th\, 19th • 9:00 AM – 11:30 AM
URL:https://www.uacdc.org/event_general/fridays-in-the-park/2026-06-12/
LOCATION:Harvest Hope Park\, 13704 N 20th St\, Tampa\, FL\, 33613\, United States
CATEGORIES:Families,Family Special Events,Food Distribution,Get Moving,Outreach
ATTACH;FMTTYPE=image/png:https://www.uacdc.org/wp-content/uploads/2025/09/FRidays-in-The-Park.png
END:VEVENT
BEGIN:VEVENT
DTSTART;TZID=America/New_York:20260616T180000
DTEND;TZID=America/New_York:20260616T190000
DTSTAMP:20260422T045403
CREATED:20250516T213724Z
LAST-MODIFIED:20250516T213724Z
UID:10014244-1781632800-1781636400@www.uacdc.org
SUMMARY:Tuesdays Together in the Garden
DESCRIPTION:Tuesdays Together in the Garden FLYER \nEvery Third Tuesday of the Month | 6:00 – 7:00PM \n\nGrow your own\, fresh produce\nTake home delicious recipes\nLearn about healthy food choices\nFind out where your food comes from\nEnjoy immersive garden activities\n\nQUESTIONS? Contact…\nRonnie Oliver (813) 558-5212 x 310\nMadison McGrath (813) 563-3761
URL:https://www.uacdc.org/event_general/tuesdays-together-in-the-garden/2026-06-16/
LOCATION:Harvest Hope Park\, 13704 N 20th St\, Tampa\, FL\, 33613\, United States
CATEGORIES:Adult Special Events,Families,Family Special Events,Food Distribution,Get Moving,Outreach,Youth,Youth Special Events
ATTACH;FMTTYPE=image/png:https://www.uacdc.org/wp-content/uploads/2025/05/tues-2gether.png
ORGANIZER;CN="Get Moving! Program":MAILTO:roliver@uacdc.org
END:VEVENT
BEGIN:VEVENT
DTSTART;TZID=America/New_York:20260619T090000
DTEND;TZID=America/New_York:20260619T113000
DTSTAMP:20260422T045403
CREATED:20251103T183239Z
LAST-MODIFIED:20251104T135026Z
UID:10021413-1781859600-1781868600@www.uacdc.org
SUMMARY:Fridays in the Park
DESCRIPTION:Fridays in the Park (FREE)\nKinship Free Market\, Garden Volunteering\, & Health Screenings w/ USF Family Medicine \nEvery Friday\nNovember 7th\, 14th\, 21st • 9:00 AM – 11:30 AM\nDecember 5th\, 12th\, 19th • 9:00 AM – 11:30 AM
URL:https://www.uacdc.org/event_general/fridays-in-the-park/2026-06-19/
LOCATION:Harvest Hope Park\, 13704 N 20th St\, Tampa\, FL\, 33613\, United States
CATEGORIES:Families,Family Special Events,Food Distribution,Get Moving,Outreach
ATTACH;FMTTYPE=image/png:https://www.uacdc.org/wp-content/uploads/2025/09/FRidays-in-The-Park.png
END:VEVENT
BEGIN:VEVENT
DTSTART;TZID=America/New_York:20260626T090000
DTEND;TZID=America/New_York:20260626T113000
DTSTAMP:20260422T045403
CREATED:20251103T183239Z
LAST-MODIFIED:20251104T135026Z
UID:10021414-1782464400-1782473400@www.uacdc.org
SUMMARY:Fridays in the Park
DESCRIPTION:Fridays in the Park (FREE)\nKinship Free Market\, Garden Volunteering\, & Health Screenings w/ USF Family Medicine \nEvery Friday\nNovember 7th\, 14th\, 21st • 9:00 AM – 11:30 AM\nDecember 5th\, 12th\, 19th • 9:00 AM – 11:30 AM
URL:https://www.uacdc.org/event_general/fridays-in-the-park/2026-06-26/
LOCATION:Harvest Hope Park\, 13704 N 20th St\, Tampa\, FL\, 33613\, United States
CATEGORIES:Families,Family Special Events,Food Distribution,Get Moving,Outreach
ATTACH;FMTTYPE=image/png:https://www.uacdc.org/wp-content/uploads/2025/09/FRidays-in-The-Park.png
END:VEVENT
BEGIN:VEVENT
DTSTART;TZID=America/New_York:20260703T090000
DTEND;TZID=America/New_York:20260703T113000
DTSTAMP:20260422T045403
CREATED:20251103T183239Z
LAST-MODIFIED:20251104T135026Z
UID:10021415-1783069200-1783078200@www.uacdc.org
SUMMARY:Fridays in the Park
DESCRIPTION:Fridays in the Park (FREE)\nKinship Free Market\, Garden Volunteering\, & Health Screenings w/ USF Family Medicine \nEvery Friday\nNovember 7th\, 14th\, 21st • 9:00 AM – 11:30 AM\nDecember 5th\, 12th\, 19th • 9:00 AM – 11:30 AM
URL:https://www.uacdc.org/event_general/fridays-in-the-park/2026-07-03/
LOCATION:Harvest Hope Park\, 13704 N 20th St\, Tampa\, FL\, 33613\, United States
CATEGORIES:Families,Family Special Events,Food Distribution,Get Moving,Outreach
ATTACH;FMTTYPE=image/png:https://www.uacdc.org/wp-content/uploads/2025/09/FRidays-in-The-Park.png
END:VEVENT
BEGIN:VEVENT
DTSTART;TZID=America/New_York:20260710T090000
DTEND;TZID=America/New_York:20260710T113000
DTSTAMP:20260422T045403
CREATED:20251103T183239Z
LAST-MODIFIED:20251104T135026Z
UID:10021416-1783674000-1783683000@www.uacdc.org
SUMMARY:Fridays in the Park
DESCRIPTION:Fridays in the Park (FREE)\nKinship Free Market\, Garden Volunteering\, & Health Screenings w/ USF Family Medicine \nEvery Friday\nNovember 7th\, 14th\, 21st • 9:00 AM – 11:30 AM\nDecember 5th\, 12th\, 19th • 9:00 AM – 11:30 AM
URL:https://www.uacdc.org/event_general/fridays-in-the-park/2026-07-10/
LOCATION:Harvest Hope Park\, 13704 N 20th St\, Tampa\, FL\, 33613\, United States
CATEGORIES:Families,Family Special Events,Food Distribution,Get Moving,Outreach
ATTACH;FMTTYPE=image/png:https://www.uacdc.org/wp-content/uploads/2025/09/FRidays-in-The-Park.png
END:VEVENT
BEGIN:VEVENT
DTSTART;TZID=America/New_York:20260717T090000
DTEND;TZID=America/New_York:20260717T113000
DTSTAMP:20260422T045403
CREATED:20251103T183239Z
LAST-MODIFIED:20251104T135026Z
UID:10021417-1784278800-1784287800@www.uacdc.org
SUMMARY:Fridays in the Park
DESCRIPTION:Fridays in the Park (FREE)\nKinship Free Market\, Garden Volunteering\, & Health Screenings w/ USF Family Medicine \nEvery Friday\nNovember 7th\, 14th\, 21st • 9:00 AM – 11:30 AM\nDecember 5th\, 12th\, 19th • 9:00 AM – 11:30 AM
URL:https://www.uacdc.org/event_general/fridays-in-the-park/2026-07-17/
LOCATION:Harvest Hope Park\, 13704 N 20th St\, Tampa\, FL\, 33613\, United States
CATEGORIES:Families,Family Special Events,Food Distribution,Get Moving,Outreach
ATTACH;FMTTYPE=image/png:https://www.uacdc.org/wp-content/uploads/2025/09/FRidays-in-The-Park.png
END:VEVENT
BEGIN:VEVENT
DTSTART;TZID=America/New_York:20260721T180000
DTEND;TZID=America/New_York:20260721T190000
DTSTAMP:20260422T045403
CREATED:20250516T213724Z
LAST-MODIFIED:20250516T213724Z
UID:10014245-1784656800-1784660400@www.uacdc.org
SUMMARY:Tuesdays Together in the Garden
DESCRIPTION:Tuesdays Together in the Garden FLYER \nEvery Third Tuesday of the Month | 6:00 – 7:00PM \n\nGrow your own\, fresh produce\nTake home delicious recipes\nLearn about healthy food choices\nFind out where your food comes from\nEnjoy immersive garden activities\n\nQUESTIONS? Contact…\nRonnie Oliver (813) 558-5212 x 310\nMadison McGrath (813) 563-3761
URL:https://www.uacdc.org/event_general/tuesdays-together-in-the-garden/2026-07-21/
LOCATION:Harvest Hope Park\, 13704 N 20th St\, Tampa\, FL\, 33613\, United States
CATEGORIES:Adult Special Events,Families,Family Special Events,Food Distribution,Get Moving,Outreach,Youth,Youth Special Events
ATTACH;FMTTYPE=image/png:https://www.uacdc.org/wp-content/uploads/2025/05/tues-2gether.png
ORGANIZER;CN="Get Moving! Program":MAILTO:roliver@uacdc.org
END:VEVENT
BEGIN:VEVENT
DTSTART;TZID=America/New_York:20260724T090000
DTEND;TZID=America/New_York:20260724T113000
DTSTAMP:20260422T045403
CREATED:20251103T183239Z
LAST-MODIFIED:20251104T135026Z
UID:10021418-1784883600-1784892600@www.uacdc.org
SUMMARY:Fridays in the Park
DESCRIPTION:Fridays in the Park (FREE)\nKinship Free Market\, Garden Volunteering\, & Health Screenings w/ USF Family Medicine \nEvery Friday\nNovember 7th\, 14th\, 21st • 9:00 AM – 11:30 AM\nDecember 5th\, 12th\, 19th • 9:00 AM – 11:30 AM
URL:https://www.uacdc.org/event_general/fridays-in-the-park/2026-07-24/
LOCATION:Harvest Hope Park\, 13704 N 20th St\, Tampa\, FL\, 33613\, United States
CATEGORIES:Families,Family Special Events,Food Distribution,Get Moving,Outreach
ATTACH;FMTTYPE=image/png:https://www.uacdc.org/wp-content/uploads/2025/09/FRidays-in-The-Park.png
END:VEVENT
BEGIN:VEVENT
DTSTART;TZID=America/New_York:20260731T090000
DTEND;TZID=America/New_York:20260731T113000
DTSTAMP:20260422T045403
CREATED:20251103T183239Z
LAST-MODIFIED:20251104T135026Z
UID:10021419-1785488400-1785497400@www.uacdc.org
SUMMARY:Fridays in the Park
DESCRIPTION:Fridays in the Park (FREE)\nKinship Free Market\, Garden Volunteering\, & Health Screenings w/ USF Family Medicine \nEvery Friday\nNovember 7th\, 14th\, 21st • 9:00 AM – 11:30 AM\nDecember 5th\, 12th\, 19th • 9:00 AM – 11:30 AM
URL:https://www.uacdc.org/event_general/fridays-in-the-park/2026-07-31/
LOCATION:Harvest Hope Park\, 13704 N 20th St\, Tampa\, FL\, 33613\, United States
CATEGORIES:Families,Family Special Events,Food Distribution,Get Moving,Outreach
ATTACH;FMTTYPE=image/png:https://www.uacdc.org/wp-content/uploads/2025/09/FRidays-in-The-Park.png
END:VEVENT
BEGIN:VEVENT
DTSTART;TZID=America/New_York:20260807T090000
DTEND;TZID=America/New_York:20260807T113000
DTSTAMP:20260422T045403
CREATED:20251103T183239Z
LAST-MODIFIED:20251104T135026Z
UID:10021420-1786093200-1786102200@www.uacdc.org
SUMMARY:Fridays in the Park
DESCRIPTION:Fridays in the Park (FREE)\nKinship Free Market\, Garden Volunteering\, & Health Screenings w/ USF Family Medicine \nEvery Friday\nNovember 7th\, 14th\, 21st • 9:00 AM – 11:30 AM\nDecember 5th\, 12th\, 19th • 9:00 AM – 11:30 AM
URL:https://www.uacdc.org/event_general/fridays-in-the-park/2026-08-07/
LOCATION:Harvest Hope Park\, 13704 N 20th St\, Tampa\, FL\, 33613\, United States
CATEGORIES:Families,Family Special Events,Food Distribution,Get Moving,Outreach
ATTACH;FMTTYPE=image/png:https://www.uacdc.org/wp-content/uploads/2025/09/FRidays-in-The-Park.png
END:VEVENT
BEGIN:VEVENT
DTSTART;TZID=America/New_York:20260814T090000
DTEND;TZID=America/New_York:20260814T113000
DTSTAMP:20260422T045403
CREATED:20251103T183239Z
LAST-MODIFIED:20251104T135026Z
UID:10021421-1786698000-1786707000@www.uacdc.org
SUMMARY:Fridays in the Park
DESCRIPTION:Fridays in the Park (FREE)\nKinship Free Market\, Garden Volunteering\, & Health Screenings w/ USF Family Medicine \nEvery Friday\nNovember 7th\, 14th\, 21st • 9:00 AM – 11:30 AM\nDecember 5th\, 12th\, 19th • 9:00 AM – 11:30 AM
URL:https://www.uacdc.org/event_general/fridays-in-the-park/2026-08-14/
LOCATION:Harvest Hope Park\, 13704 N 20th St\, Tampa\, FL\, 33613\, United States
CATEGORIES:Families,Family Special Events,Food Distribution,Get Moving,Outreach
ATTACH;FMTTYPE=image/png:https://www.uacdc.org/wp-content/uploads/2025/09/FRidays-in-The-Park.png
END:VEVENT
BEGIN:VEVENT
DTSTART;TZID=America/New_York:20260818T180000
DTEND;TZID=America/New_York:20260818T190000
DTSTAMP:20260422T045403
CREATED:20250516T213724Z
LAST-MODIFIED:20250516T213724Z
UID:10014246-1787076000-1787079600@www.uacdc.org
SUMMARY:Tuesdays Together in the Garden
DESCRIPTION:Tuesdays Together in the Garden FLYER \nEvery Third Tuesday of the Month | 6:00 – 7:00PM \n\nGrow your own\, fresh produce\nTake home delicious recipes\nLearn about healthy food choices\nFind out where your food comes from\nEnjoy immersive garden activities\n\nQUESTIONS? Contact…\nRonnie Oliver (813) 558-5212 x 310\nMadison McGrath (813) 563-3761
URL:https://www.uacdc.org/event_general/tuesdays-together-in-the-garden/2026-08-18/
LOCATION:Harvest Hope Park\, 13704 N 20th St\, Tampa\, FL\, 33613\, United States
CATEGORIES:Adult Special Events,Families,Family Special Events,Food Distribution,Get Moving,Outreach,Youth,Youth Special Events
ATTACH;FMTTYPE=image/png:https://www.uacdc.org/wp-content/uploads/2025/05/tues-2gether.png
ORGANIZER;CN="Get Moving! Program":MAILTO:roliver@uacdc.org
END:VEVENT
BEGIN:VEVENT
DTSTART;TZID=America/New_York:20260821T090000
DTEND;TZID=America/New_York:20260821T113000
DTSTAMP:20260422T045403
CREATED:20251103T183239Z
LAST-MODIFIED:20251104T135026Z
UID:10021422-1787302800-1787311800@www.uacdc.org
SUMMARY:Fridays in the Park
DESCRIPTION:Fridays in the Park (FREE)\nKinship Free Market\, Garden Volunteering\, & Health Screenings w/ USF Family Medicine \nEvery Friday\nNovember 7th\, 14th\, 21st • 9:00 AM – 11:30 AM\nDecember 5th\, 12th\, 19th • 9:00 AM – 11:30 AM
URL:https://www.uacdc.org/event_general/fridays-in-the-park/2026-08-21/
LOCATION:Harvest Hope Park\, 13704 N 20th St\, Tampa\, FL\, 33613\, United States
CATEGORIES:Families,Family Special Events,Food Distribution,Get Moving,Outreach
ATTACH;FMTTYPE=image/png:https://www.uacdc.org/wp-content/uploads/2025/09/FRidays-in-The-Park.png
END:VEVENT
BEGIN:VEVENT
DTSTART;TZID=America/New_York:20260828T090000
DTEND;TZID=America/New_York:20260828T113000
DTSTAMP:20260422T045403
CREATED:20251103T183239Z
LAST-MODIFIED:20251104T135026Z
UID:10021423-1787907600-1787916600@www.uacdc.org
SUMMARY:Fridays in the Park
DESCRIPTION:Fridays in the Park (FREE)\nKinship Free Market\, Garden Volunteering\, & Health Screenings w/ USF Family Medicine \nEvery Friday\nNovember 7th\, 14th\, 21st • 9:00 AM – 11:30 AM\nDecember 5th\, 12th\, 19th • 9:00 AM – 11:30 AM
URL:https://www.uacdc.org/event_general/fridays-in-the-park/2026-08-28/
LOCATION:Harvest Hope Park\, 13704 N 20th St\, Tampa\, FL\, 33613\, United States
CATEGORIES:Families,Family Special Events,Food Distribution,Get Moving,Outreach
ATTACH;FMTTYPE=image/png:https://www.uacdc.org/wp-content/uploads/2025/09/FRidays-in-The-Park.png
END:VEVENT
BEGIN:VEVENT
DTSTART;TZID=America/New_York:20260904T090000
DTEND;TZID=America/New_York:20260904T113000
DTSTAMP:20260422T045403
CREATED:20251103T183239Z
LAST-MODIFIED:20251104T135026Z
UID:10021424-1788512400-1788521400@www.uacdc.org
SUMMARY:Fridays in the Park
DESCRIPTION:Fridays in the Park (FREE)\nKinship Free Market\, Garden Volunteering\, & Health Screenings w/ USF Family Medicine \nEvery Friday\nNovember 7th\, 14th\, 21st • 9:00 AM – 11:30 AM\nDecember 5th\, 12th\, 19th • 9:00 AM – 11:30 AM
URL:https://www.uacdc.org/event_general/fridays-in-the-park/2026-09-04/
LOCATION:Harvest Hope Park\, 13704 N 20th St\, Tampa\, FL\, 33613\, United States
CATEGORIES:Families,Family Special Events,Food Distribution,Get Moving,Outreach
ATTACH;FMTTYPE=image/png:https://www.uacdc.org/wp-content/uploads/2025/09/FRidays-in-The-Park.png
END:VEVENT
BEGIN:VEVENT
DTSTART;TZID=America/New_York:20260911T090000
DTEND;TZID=America/New_York:20260911T113000
DTSTAMP:20260422T045403
CREATED:20251103T183239Z
LAST-MODIFIED:20251104T135026Z
UID:10021425-1789117200-1789126200@www.uacdc.org
SUMMARY:Fridays in the Park
DESCRIPTION:Fridays in the Park (FREE)\nKinship Free Market\, Garden Volunteering\, & Health Screenings w/ USF Family Medicine \nEvery Friday\nNovember 7th\, 14th\, 21st • 9:00 AM – 11:30 AM\nDecember 5th\, 12th\, 19th • 9:00 AM – 11:30 AM
URL:https://www.uacdc.org/event_general/fridays-in-the-park/2026-09-11/
LOCATION:Harvest Hope Park\, 13704 N 20th St\, Tampa\, FL\, 33613\, United States
CATEGORIES:Families,Family Special Events,Food Distribution,Get Moving,Outreach
ATTACH;FMTTYPE=image/png:https://www.uacdc.org/wp-content/uploads/2025/09/FRidays-in-The-Park.png
END:VEVENT
BEGIN:VEVENT
DTSTART;TZID=America/New_York:20260915T180000
DTEND;TZID=America/New_York:20260915T190000
DTSTAMP:20260422T045403
CREATED:20250516T213724Z
LAST-MODIFIED:20250516T213724Z
UID:10014247-1789495200-1789498800@www.uacdc.org
SUMMARY:Tuesdays Together in the Garden
DESCRIPTION:Tuesdays Together in the Garden FLYER \nEvery Third Tuesday of the Month | 6:00 – 7:00PM \n\nGrow your own\, fresh produce\nTake home delicious recipes\nLearn about healthy food choices\nFind out where your food comes from\nEnjoy immersive garden activities\n\nQUESTIONS? Contact…\nRonnie Oliver (813) 558-5212 x 310\nMadison McGrath (813) 563-3761
URL:https://www.uacdc.org/event_general/tuesdays-together-in-the-garden/2026-09-15/
LOCATION:Harvest Hope Park\, 13704 N 20th St\, Tampa\, FL\, 33613\, United States
CATEGORIES:Adult Special Events,Families,Family Special Events,Food Distribution,Get Moving,Outreach,Youth,Youth Special Events
ATTACH;FMTTYPE=image/png:https://www.uacdc.org/wp-content/uploads/2025/05/tues-2gether.png
ORGANIZER;CN="Get Moving! Program":MAILTO:roliver@uacdc.org
END:VEVENT
BEGIN:VEVENT
DTSTART;TZID=America/New_York:20260918T090000
DTEND;TZID=America/New_York:20260918T113000
DTSTAMP:20260422T045403
CREATED:20251103T183239Z
LAST-MODIFIED:20251104T135026Z
UID:10021426-1789722000-1789731000@www.uacdc.org
SUMMARY:Fridays in the Park
DESCRIPTION:Fridays in the Park (FREE)\nKinship Free Market\, Garden Volunteering\, & Health Screenings w/ USF Family Medicine \nEvery Friday\nNovember 7th\, 14th\, 21st • 9:00 AM – 11:30 AM\nDecember 5th\, 12th\, 19th • 9:00 AM – 11:30 AM
URL:https://www.uacdc.org/event_general/fridays-in-the-park/2026-09-18/
LOCATION:Harvest Hope Park\, 13704 N 20th St\, Tampa\, FL\, 33613\, United States
CATEGORIES:Families,Family Special Events,Food Distribution,Get Moving,Outreach
ATTACH;FMTTYPE=image/png:https://www.uacdc.org/wp-content/uploads/2025/09/FRidays-in-The-Park.png
END:VEVENT
BEGIN:VEVENT
DTSTART;TZID=America/New_York:20260925T090000
DTEND;TZID=America/New_York:20260925T113000
DTSTAMP:20260422T045403
CREATED:20251103T183239Z
LAST-MODIFIED:20251104T135026Z
UID:10021427-1790326800-1790335800@www.uacdc.org
SUMMARY:Fridays in the Park
DESCRIPTION:Fridays in the Park (FREE)\nKinship Free Market\, Garden Volunteering\, & Health Screenings w/ USF Family Medicine \nEvery Friday\nNovember 7th\, 14th\, 21st • 9:00 AM – 11:30 AM\nDecember 5th\, 12th\, 19th • 9:00 AM – 11:30 AM
URL:https://www.uacdc.org/event_general/fridays-in-the-park/2026-09-25/
LOCATION:Harvest Hope Park\, 13704 N 20th St\, Tampa\, FL\, 33613\, United States
CATEGORIES:Families,Family Special Events,Food Distribution,Get Moving,Outreach
ATTACH;FMTTYPE=image/png:https://www.uacdc.org/wp-content/uploads/2025/09/FRidays-in-The-Park.png
END:VEVENT
BEGIN:VEVENT
DTSTART;TZID=America/New_York:20261002T090000
DTEND;TZID=America/New_York:20261002T113000
DTSTAMP:20260422T045403
CREATED:20251103T183239Z
LAST-MODIFIED:20251104T135026Z
UID:10021428-1790931600-1790940600@www.uacdc.org
SUMMARY:Fridays in the Park
DESCRIPTION:Fridays in the Park (FREE)\nKinship Free Market\, Garden Volunteering\, & Health Screenings w/ USF Family Medicine \nEvery Friday\nNovember 7th\, 14th\, 21st • 9:00 AM – 11:30 AM\nDecember 5th\, 12th\, 19th • 9:00 AM – 11:30 AM
URL:https://www.uacdc.org/event_general/fridays-in-the-park/2026-10-02/
LOCATION:Harvest Hope Park\, 13704 N 20th St\, Tampa\, FL\, 33613\, United States
CATEGORIES:Families,Family Special Events,Food Distribution,Get Moving,Outreach
ATTACH;FMTTYPE=image/png:https://www.uacdc.org/wp-content/uploads/2025/09/FRidays-in-The-Park.png
END:VEVENT
BEGIN:VEVENT
DTSTART;TZID=America/New_York:20261009T090000
DTEND;TZID=America/New_York:20261009T113000
DTSTAMP:20260422T045403
CREATED:20251103T183239Z
LAST-MODIFIED:20251104T135026Z
UID:10021429-1791536400-1791545400@www.uacdc.org
SUMMARY:Fridays in the Park
DESCRIPTION:Fridays in the Park (FREE)\nKinship Free Market\, Garden Volunteering\, & Health Screenings w/ USF Family Medicine \nEvery Friday\nNovember 7th\, 14th\, 21st • 9:00 AM – 11:30 AM\nDecember 5th\, 12th\, 19th • 9:00 AM – 11:30 AM
URL:https://www.uacdc.org/event_general/fridays-in-the-park/2026-10-09/
LOCATION:Harvest Hope Park\, 13704 N 20th St\, Tampa\, FL\, 33613\, United States
CATEGORIES:Families,Family Special Events,Food Distribution,Get Moving,Outreach
ATTACH;FMTTYPE=image/png:https://www.uacdc.org/wp-content/uploads/2025/09/FRidays-in-The-Park.png
END:VEVENT
END:VCALENDAR