BEGIN:VCALENDAR
VERSION:2.0
PRODID:-//UACDC - ECPv6.15.20//NONSGML v1.0//EN
CALSCALE:GREGORIAN
METHOD:PUBLISH
X-WR-CALNAME:UACDC
X-ORIGINAL-URL:https://www.uacdc.org
X-WR-CALDESC:Events for UACDC
REFRESH-INTERVAL;VALUE=DURATION:PT1H
X-Robots-Tag:noindex
X-PUBLISHED-TTL:PT1H
BEGIN:VTIMEZONE
TZID:America/New_York
BEGIN:DAYLIGHT
TZOFFSETFROM:-0500
TZOFFSETTO:-0400
TZNAME:EDT
DTSTART:20250309T070000
END:DAYLIGHT
BEGIN:STANDARD
TZOFFSETFROM:-0400
TZOFFSETTO:-0500
TZNAME:EST
DTSTART:20251102T060000
END:STANDARD
BEGIN:DAYLIGHT
TZOFFSETFROM:-0500
TZOFFSETTO:-0400
TZNAME:EDT
DTSTART:20260308T070000
END:DAYLIGHT
BEGIN:STANDARD
TZOFFSETFROM:-0400
TZOFFSETTO:-0500
TZNAME:EST
DTSTART:20261101T060000
END:STANDARD
BEGIN:DAYLIGHT
TZOFFSETFROM:-0500
TZOFFSETTO:-0400
TZNAME:EDT
DTSTART:20270314T070000
END:DAYLIGHT
BEGIN:STANDARD
TZOFFSETFROM:-0400
TZOFFSETTO:-0500
TZNAME:EST
DTSTART:20271107T060000
END:STANDARD
END:VTIMEZONE
BEGIN:VEVENT
DTSTART;TZID=America/New_York:20260305T180000
DTEND;TZID=America/New_York:20260305T190000
DTSTAMP:20260422T074013
CREATED:20250424T135842Z
LAST-MODIFIED:20250801T183006Z
UID:10013833-1772733600-1772737200@www.uacdc.org
SUMMARY:Thursday Harvest - Join us for a free\, hot meal.
DESCRIPTION:THURSDAY HARVEST\nDinner and good vibes are on us!\nJoin us every Thursday for a free\, hot meal.\nFLYER \nEvery Thursday | 6:00 – 7:00 PM\nAt Harvest Hope Park | 13704 N 20th St\, Tampa\, FL 33613
URL:https://www.uacdc.org/event_general/thursday-harvest/2026-03-05/
LOCATION:Harvest Hope Park\, 13704 N 20th St\, Tampa\, FL\, 33613\, United States
CATEGORIES:Families,Family Special Events,Food Distribution,Outreach
ATTACH;FMTTYPE=image/png:https://www.uacdc.org/wp-content/uploads/2025/04/Thursday-Harvest.png
ORGANIZER;CN="UACDC Community Engagement":MAILTO:sroman@uacdc.org
END:VEVENT
BEGIN:VEVENT
DTSTART;TZID=America/New_York:20260305T180000
DTEND;TZID=America/New_York:20260305T190000
DTSTAMP:20260422T074013
CREATED:20250801T184044Z
LAST-MODIFIED:20250801T184044Z
UID:10018070-1772733600-1772737200@www.uacdc.org
SUMMARY:Thursday Harvest - Acompáñanos todos los jueves para recibir una comida caliente y GRATIS.
DESCRIPTION:THURSDAY HARVEST\n¡La cena y las buenas vibras corren por nuestra cuenta!\nAcompáñanos todos los jueves para recibir una comida caliente y GRATIS.\nFLYER \n \n\n6:00 – 7:00 PM\nNo se requiere registro ni identificación.\nLas comidas se ofrecen por orden de llegada. \n\nArtículos adicionales se distribuirán según disponibilidad:\nHarvest Hope Park | 13704 N 20th St\, Tampa\, FL 33613
URL:https://www.uacdc.org/event_general/thursday-harvest-acompananos-todos-los-jueves-para-recibir-una-comida-caliente-y-gratis/2026-03-05/
LOCATION:Harvest Hope Park\, 13704 N 20th St\, Tampa\, FL\, 33613\, United States
CATEGORIES:Families,Family Special Events,Food Distribution,Outreach
ATTACH;FMTTYPE=image/png:https://www.uacdc.org/wp-content/uploads/2025/06/Thursday-Harvest-SPAN.png
ORGANIZER;CN="UACDC Community Engagement":MAILTO:sroman@uacdc.org
END:VEVENT
BEGIN:VEVENT
DTSTART;TZID=America/New_York:20260312T180000
DTEND;TZID=America/New_York:20260312T190000
DTSTAMP:20260422T074013
CREATED:20250424T135842Z
LAST-MODIFIED:20250801T183006Z
UID:10013834-1773338400-1773342000@www.uacdc.org
SUMMARY:Thursday Harvest - Join us for a free\, hot meal.
DESCRIPTION:THURSDAY HARVEST\nDinner and good vibes are on us!\nJoin us every Thursday for a free\, hot meal.\nFLYER \nEvery Thursday | 6:00 – 7:00 PM\nAt Harvest Hope Park | 13704 N 20th St\, Tampa\, FL 33613
URL:https://www.uacdc.org/event_general/thursday-harvest/2026-03-12/
LOCATION:Harvest Hope Park\, 13704 N 20th St\, Tampa\, FL\, 33613\, United States
CATEGORIES:Families,Family Special Events,Food Distribution,Outreach
ATTACH;FMTTYPE=image/png:https://www.uacdc.org/wp-content/uploads/2025/04/Thursday-Harvest.png
ORGANIZER;CN="UACDC Community Engagement":MAILTO:sroman@uacdc.org
END:VEVENT
BEGIN:VEVENT
DTSTART;TZID=America/New_York:20260312T180000
DTEND;TZID=America/New_York:20260312T190000
DTSTAMP:20260422T074014
CREATED:20250801T184044Z
LAST-MODIFIED:20250801T184044Z
UID:10018071-1773338400-1773342000@www.uacdc.org
SUMMARY:Thursday Harvest - Acompáñanos todos los jueves para recibir una comida caliente y GRATIS.
DESCRIPTION:THURSDAY HARVEST\n¡La cena y las buenas vibras corren por nuestra cuenta!\nAcompáñanos todos los jueves para recibir una comida caliente y GRATIS.\nFLYER \n \n\n6:00 – 7:00 PM\nNo se requiere registro ni identificación.\nLas comidas se ofrecen por orden de llegada. \n\nArtículos adicionales se distribuirán según disponibilidad:\nHarvest Hope Park | 13704 N 20th St\, Tampa\, FL 33613
URL:https://www.uacdc.org/event_general/thursday-harvest-acompananos-todos-los-jueves-para-recibir-una-comida-caliente-y-gratis/2026-03-12/
LOCATION:Harvest Hope Park\, 13704 N 20th St\, Tampa\, FL\, 33613\, United States
CATEGORIES:Families,Family Special Events,Food Distribution,Outreach
ATTACH;FMTTYPE=image/png:https://www.uacdc.org/wp-content/uploads/2025/06/Thursday-Harvest-SPAN.png
ORGANIZER;CN="UACDC Community Engagement":MAILTO:sroman@uacdc.org
END:VEVENT
BEGIN:VEVENT
DTSTART;TZID=America/New_York:20260318T163000
DTEND;TZID=America/New_York:20260318T180000
DTSTAMP:20260422T074014
CREATED:20251110T142221Z
LAST-MODIFIED:20251110T142509Z
UID:10021649-1773851400-1773856800@www.uacdc.org
SUMMARY:Mobile Pantry - Feeding Tampa Bay
DESCRIPTION:Mobile Pantry – Feeding Tampa Bay \nThird Wednesday of Each Month | 4:30pm-6:00pm\nNEW LOCATION! Harvest Hope Park | 13704 N 20th Street\, Tampa FL 33613 \nPlease join us for a free grocery distribution in partnership with University Area CDC. \nThings to Know:\n•  No ID required\n•  No appointment required\n•  One box per family \nUpcoming Dates:\nDecember 17\nJanuary 21\nFebruary 18\nMarch 18\nApril 15\nMay 20 \nFood
URL:https://www.uacdc.org/event_general/mobile-pantry-feeding-tampa-bay-2/2026-03-18/
LOCATION:Harvest Hope Park\, 13704 N 20th St\, Tampa\, FL\, 33613\, United States
CATEGORIES:Families,Food Distribution,Outreach
ATTACH;FMTTYPE=image/png:https://www.uacdc.org/wp-content/uploads/2025/10/FeedingTB_25_10_resource.png
END:VEVENT
BEGIN:VEVENT
DTSTART;TZID=America/New_York:20260319T180000
DTEND;TZID=America/New_York:20260319T190000
DTSTAMP:20260422T074014
CREATED:20250424T135842Z
LAST-MODIFIED:20250801T183006Z
UID:10013835-1773943200-1773946800@www.uacdc.org
SUMMARY:Thursday Harvest - Join us for a free\, hot meal.
DESCRIPTION:THURSDAY HARVEST\nDinner and good vibes are on us!\nJoin us every Thursday for a free\, hot meal.\nFLYER \nEvery Thursday | 6:00 – 7:00 PM\nAt Harvest Hope Park | 13704 N 20th St\, Tampa\, FL 33613
URL:https://www.uacdc.org/event_general/thursday-harvest/2026-03-19/
LOCATION:Harvest Hope Park\, 13704 N 20th St\, Tampa\, FL\, 33613\, United States
CATEGORIES:Families,Family Special Events,Food Distribution,Outreach
ATTACH;FMTTYPE=image/png:https://www.uacdc.org/wp-content/uploads/2025/04/Thursday-Harvest.png
ORGANIZER;CN="UACDC Community Engagement":MAILTO:sroman@uacdc.org
END:VEVENT
BEGIN:VEVENT
DTSTART;TZID=America/New_York:20260319T180000
DTEND;TZID=America/New_York:20260319T190000
DTSTAMP:20260422T074014
CREATED:20250801T184044Z
LAST-MODIFIED:20250801T184044Z
UID:10018072-1773943200-1773946800@www.uacdc.org
SUMMARY:Thursday Harvest - Acompáñanos todos los jueves para recibir una comida caliente y GRATIS.
DESCRIPTION:THURSDAY HARVEST\n¡La cena y las buenas vibras corren por nuestra cuenta!\nAcompáñanos todos los jueves para recibir una comida caliente y GRATIS.\nFLYER \n \n\n6:00 – 7:00 PM\nNo se requiere registro ni identificación.\nLas comidas se ofrecen por orden de llegada. \n\nArtículos adicionales se distribuirán según disponibilidad:\nHarvest Hope Park | 13704 N 20th St\, Tampa\, FL 33613
URL:https://www.uacdc.org/event_general/thursday-harvest-acompananos-todos-los-jueves-para-recibir-una-comida-caliente-y-gratis/2026-03-19/
LOCATION:Harvest Hope Park\, 13704 N 20th St\, Tampa\, FL\, 33613\, United States
CATEGORIES:Families,Family Special Events,Food Distribution,Outreach
ATTACH;FMTTYPE=image/png:https://www.uacdc.org/wp-content/uploads/2025/06/Thursday-Harvest-SPAN.png
ORGANIZER;CN="UACDC Community Engagement":MAILTO:sroman@uacdc.org
END:VEVENT
BEGIN:VEVENT
DTSTART;TZID=America/New_York:20260326T180000
DTEND;TZID=America/New_York:20260326T190000
DTSTAMP:20260422T074014
CREATED:20250424T135842Z
LAST-MODIFIED:20250801T183006Z
UID:10013836-1774548000-1774551600@www.uacdc.org
SUMMARY:Thursday Harvest - Join us for a free\, hot meal.
DESCRIPTION:THURSDAY HARVEST\nDinner and good vibes are on us!\nJoin us every Thursday for a free\, hot meal.\nFLYER \nEvery Thursday | 6:00 – 7:00 PM\nAt Harvest Hope Park | 13704 N 20th St\, Tampa\, FL 33613
URL:https://www.uacdc.org/event_general/thursday-harvest/2026-03-26/
LOCATION:Harvest Hope Park\, 13704 N 20th St\, Tampa\, FL\, 33613\, United States
CATEGORIES:Families,Family Special Events,Food Distribution,Outreach
ATTACH;FMTTYPE=image/png:https://www.uacdc.org/wp-content/uploads/2025/04/Thursday-Harvest.png
ORGANIZER;CN="UACDC Community Engagement":MAILTO:sroman@uacdc.org
END:VEVENT
BEGIN:VEVENT
DTSTART;TZID=America/New_York:20260326T180000
DTEND;TZID=America/New_York:20260326T190000
DTSTAMP:20260422T074014
CREATED:20250801T184044Z
LAST-MODIFIED:20250801T184044Z
UID:10018073-1774548000-1774551600@www.uacdc.org
SUMMARY:Thursday Harvest - Acompáñanos todos los jueves para recibir una comida caliente y GRATIS.
DESCRIPTION:THURSDAY HARVEST\n¡La cena y las buenas vibras corren por nuestra cuenta!\nAcompáñanos todos los jueves para recibir una comida caliente y GRATIS.\nFLYER \n \n\n6:00 – 7:00 PM\nNo se requiere registro ni identificación.\nLas comidas se ofrecen por orden de llegada. \n\nArtículos adicionales se distribuirán según disponibilidad:\nHarvest Hope Park | 13704 N 20th St\, Tampa\, FL 33613
URL:https://www.uacdc.org/event_general/thursday-harvest-acompananos-todos-los-jueves-para-recibir-una-comida-caliente-y-gratis/2026-03-26/
LOCATION:Harvest Hope Park\, 13704 N 20th St\, Tampa\, FL\, 33613\, United States
CATEGORIES:Families,Family Special Events,Food Distribution,Outreach
ATTACH;FMTTYPE=image/png:https://www.uacdc.org/wp-content/uploads/2025/06/Thursday-Harvest-SPAN.png
ORGANIZER;CN="UACDC Community Engagement":MAILTO:sroman@uacdc.org
END:VEVENT
END:VCALENDAR