BEGIN:VCALENDAR
VERSION:2.0
PRODID:-//UACDC - ECPv6.15.20//NONSGML v1.0//EN
CALSCALE:GREGORIAN
METHOD:PUBLISH
X-ORIGINAL-URL:https://www.uacdc.org
X-WR-CALDESC:Events for UACDC
REFRESH-INTERVAL;VALUE=DURATION:PT1H
X-Robots-Tag:noindex
X-PUBLISHED-TTL:PT1H
BEGIN:VTIMEZONE
TZID:America/New_York
BEGIN:DAYLIGHT
TZOFFSETFROM:-0500
TZOFFSETTO:-0400
TZNAME:EDT
DTSTART:20250309T070000
END:DAYLIGHT
BEGIN:STANDARD
TZOFFSETFROM:-0400
TZOFFSETTO:-0500
TZNAME:EST
DTSTART:20251102T060000
END:STANDARD
BEGIN:DAYLIGHT
TZOFFSETFROM:-0500
TZOFFSETTO:-0400
TZNAME:EDT
DTSTART:20260308T070000
END:DAYLIGHT
BEGIN:STANDARD
TZOFFSETFROM:-0400
TZOFFSETTO:-0500
TZNAME:EST
DTSTART:20261101T060000
END:STANDARD
BEGIN:DAYLIGHT
TZOFFSETFROM:-0500
TZOFFSETTO:-0400
TZNAME:EDT
DTSTART:20270314T070000
END:DAYLIGHT
BEGIN:STANDARD
TZOFFSETFROM:-0400
TZOFFSETTO:-0500
TZNAME:EST
DTSTART:20271107T060000
END:STANDARD
END:VTIMEZONE
BEGIN:VEVENT
DTSTART;TZID=America/New_York:20260422T170000
DTEND;TZID=America/New_York:20260422T190000
DTSTAMP:20260421T210332
CREATED:20251024T191214Z
LAST-MODIFIED:20251024T191214Z
UID:10021103-1776877200-1776884400@www.uacdc.org
SUMMARY:Aprender a luchar
DESCRIPTION:
URL:https://www.uacdc.org/event_general/aprender-a-luchar/2026-04-22/
LOCATION:Victor Crist Community Center\, 14013 N 22nd Street\, Tampa\, FL\, 33613\, United States
CATEGORIES:Education,Get Moving,Youth,Youth Classes,Youth Sports
ATTACH;FMTTYPE=image/png:https://www.uacdc.org/wp-content/uploads/2025/10/youth-wrestling-Spanish-v3.png
ORGANIZER;CN="Get Moving! Program":MAILTO:roliver@uacdc.org
END:VEVENT
BEGIN:VEVENT
DTSTART;TZID=America/New_York:20260427T170000
DTEND;TZID=America/New_York:20260427T190000
DTSTAMP:20260421T210332
CREATED:20251024T191214Z
LAST-MODIFIED:20251024T191214Z
UID:10021104-1777309200-1777316400@www.uacdc.org
SUMMARY:Aprender a luchar
DESCRIPTION:
URL:https://www.uacdc.org/event_general/aprender-a-luchar/2026-04-27/
LOCATION:Victor Crist Community Center\, 14013 N 22nd Street\, Tampa\, FL\, 33613\, United States
CATEGORIES:Education,Get Moving,Youth,Youth Classes,Youth Sports
ATTACH;FMTTYPE=image/png:https://www.uacdc.org/wp-content/uploads/2025/10/youth-wrestling-Spanish-v3.png
ORGANIZER;CN="Get Moving! Program":MAILTO:roliver@uacdc.org
END:VEVENT
BEGIN:VEVENT
DTSTART;TZID=America/New_York:20260429T170000
DTEND;TZID=America/New_York:20260429T190000
DTSTAMP:20260421T210332
CREATED:20251024T191214Z
LAST-MODIFIED:20251024T191214Z
UID:10021105-1777482000-1777489200@www.uacdc.org
SUMMARY:Aprender a luchar
DESCRIPTION:
URL:https://www.uacdc.org/event_general/aprender-a-luchar/2026-04-29/
LOCATION:Victor Crist Community Center\, 14013 N 22nd Street\, Tampa\, FL\, 33613\, United States
CATEGORIES:Education,Get Moving,Youth,Youth Classes,Youth Sports
ATTACH;FMTTYPE=image/png:https://www.uacdc.org/wp-content/uploads/2025/10/youth-wrestling-Spanish-v3.png
ORGANIZER;CN="Get Moving! Program":MAILTO:roliver@uacdc.org
END:VEVENT
END:VCALENDAR