BEGIN:VCALENDAR
VERSION:2.0
PRODID:-//UACDC - ECPv6.15.20//NONSGML v1.0//EN
CALSCALE:GREGORIAN
METHOD:PUBLISH
X-WR-CALNAME:UACDC
X-ORIGINAL-URL:https://www.uacdc.org
X-WR-CALDESC:Events for UACDC
REFRESH-INTERVAL;VALUE=DURATION:PT1H
X-Robots-Tag:noindex
X-PUBLISHED-TTL:PT1H
BEGIN:VTIMEZONE
TZID:America/New_York
BEGIN:DAYLIGHT
TZOFFSETFROM:-0500
TZOFFSETTO:-0400
TZNAME:EDT
DTSTART:20250309T070000
END:DAYLIGHT
BEGIN:STANDARD
TZOFFSETFROM:-0400
TZOFFSETTO:-0500
TZNAME:EST
DTSTART:20251102T060000
END:STANDARD
BEGIN:DAYLIGHT
TZOFFSETFROM:-0500
TZOFFSETTO:-0400
TZNAME:EDT
DTSTART:20260308T070000
END:DAYLIGHT
BEGIN:STANDARD
TZOFFSETFROM:-0400
TZOFFSETTO:-0500
TZNAME:EST
DTSTART:20261101T060000
END:STANDARD
BEGIN:DAYLIGHT
TZOFFSETFROM:-0500
TZOFFSETTO:-0400
TZNAME:EDT
DTSTART:20270314T070000
END:DAYLIGHT
BEGIN:STANDARD
TZOFFSETFROM:-0400
TZOFFSETTO:-0500
TZNAME:EST
DTSTART:20271107T060000
END:STANDARD
END:VTIMEZONE
BEGIN:VEVENT
DTSTART;TZID=America/New_York:20260205T180000
DTEND;TZID=America/New_York:20260205T190000
DTSTAMP:20260423T063623
CREATED:20250424T135842Z
LAST-MODIFIED:20250801T183006Z
UID:10013829-1770314400-1770318000@www.uacdc.org
SUMMARY:Thursday Harvest - Join us for a free\, hot meal.
DESCRIPTION:THURSDAY HARVEST\nDinner and good vibes are on us!\nJoin us every Thursday for a free\, hot meal.\nFLYER \nEvery Thursday | 6:00 – 7:00 PM\nAt Harvest Hope Park | 13704 N 20th St\, Tampa\, FL 33613
URL:https://www.uacdc.org/event_general/thursday-harvest/2026-02-05/
LOCATION:Harvest Hope Park\, 13704 N 20th St\, Tampa\, FL\, 33613\, United States
CATEGORIES:Families,Family Special Events,Food Distribution,Outreach
ATTACH;FMTTYPE=image/png:https://www.uacdc.org/wp-content/uploads/2025/04/Thursday-Harvest.png
ORGANIZER;CN="UACDC Community Engagement":MAILTO:sroman@uacdc.org
END:VEVENT
BEGIN:VEVENT
DTSTART;TZID=America/New_York:20260205T180000
DTEND;TZID=America/New_York:20260205T190000
DTSTAMP:20260423T063623
CREATED:20250801T184044Z
LAST-MODIFIED:20250801T184044Z
UID:10018066-1770314400-1770318000@www.uacdc.org
SUMMARY:Thursday Harvest - Acompáñanos todos los jueves para recibir una comida caliente y GRATIS.
DESCRIPTION:THURSDAY HARVEST\n¡La cena y las buenas vibras corren por nuestra cuenta!\nAcompáñanos todos los jueves para recibir una comida caliente y GRATIS.\nFLYER \n \n\n6:00 – 7:00 PM\nNo se requiere registro ni identificación.\nLas comidas se ofrecen por orden de llegada. \n\nArtículos adicionales se distribuirán según disponibilidad:\nHarvest Hope Park | 13704 N 20th St\, Tampa\, FL 33613
URL:https://www.uacdc.org/event_general/thursday-harvest-acompananos-todos-los-jueves-para-recibir-una-comida-caliente-y-gratis/2026-02-05/
LOCATION:Harvest Hope Park\, 13704 N 20th St\, Tampa\, FL\, 33613\, United States
CATEGORIES:Families,Family Special Events,Food Distribution,Outreach
ATTACH;FMTTYPE=image/png:https://www.uacdc.org/wp-content/uploads/2025/06/Thursday-Harvest-SPAN.png
ORGANIZER;CN="UACDC Community Engagement":MAILTO:sroman@uacdc.org
END:VEVENT
BEGIN:VEVENT
DTSTART;TZID=America/New_York:20260212T100000
DTEND;TZID=America/New_York:20260212T113000
DTSTAMP:20260423T063623
CREATED:20251024T183941Z
LAST-MODIFIED:20251024T183941Z
UID:10021000-1770890400-1770895800@www.uacdc.org
SUMMARY:Harvesting Hope Impact Lunch
DESCRIPTION:HARVESTING HOPE – UNIVERSITY AREA CDC 2026 IMPACT BRUNCH \nUniversity Area CDC’s first Harvesting Hope Impact Brunch will bring individuals and organizations together for a morning of giving and community engagement. It will provide leaders in corporate\, civic\, nonprofit\, religious and private sectors with the opportunity to effectively support the initiatives of University Area CDC. This is a wonderful way to get to know our organization by seeing first-hand the ways in which our programs and services impact residents\, as well as learn about current and future plans. We hope you will support this new endeavor and join us! \nDATE:\nFEBRUARY 12\, 2026 || 10:00–11:30AM\nLOCATION:\nTHE ITALIAN CLUB OF TAMPA || 1731 E. 7TH AVENUE\, TAMPA FL 33605 \nCLICK HERE for tickets & sponsorship info
URL:https://www.uacdc.org/event_general/harvesting-hope-impact-lunch/
CATEGORIES:Adult,Adult Special Events
ATTACH;FMTTYPE=image/png:https://www.uacdc.org/wp-content/uploads/2025/07/Harvesting-hope-impact-brunch.png
ORGANIZER;CN="UACDC Fund Development":MAILTO:rsvp@uacdc.org
END:VEVENT
BEGIN:VEVENT
DTSTART;TZID=America/New_York:20260212T180000
DTEND;TZID=America/New_York:20260212T190000
DTSTAMP:20260423T063623
CREATED:20250424T135842Z
LAST-MODIFIED:20250801T183006Z
UID:10013830-1770919200-1770922800@www.uacdc.org
SUMMARY:Thursday Harvest - Join us for a free\, hot meal.
DESCRIPTION:THURSDAY HARVEST\nDinner and good vibes are on us!\nJoin us every Thursday for a free\, hot meal.\nFLYER \nEvery Thursday | 6:00 – 7:00 PM\nAt Harvest Hope Park | 13704 N 20th St\, Tampa\, FL 33613
URL:https://www.uacdc.org/event_general/thursday-harvest/2026-02-12/
LOCATION:Harvest Hope Park\, 13704 N 20th St\, Tampa\, FL\, 33613\, United States
CATEGORIES:Families,Family Special Events,Food Distribution,Outreach
ATTACH;FMTTYPE=image/png:https://www.uacdc.org/wp-content/uploads/2025/04/Thursday-Harvest.png
ORGANIZER;CN="UACDC Community Engagement":MAILTO:sroman@uacdc.org
END:VEVENT
BEGIN:VEVENT
DTSTART;TZID=America/New_York:20260212T180000
DTEND;TZID=America/New_York:20260212T190000
DTSTAMP:20260423T063623
CREATED:20250801T184044Z
LAST-MODIFIED:20250801T184044Z
UID:10018067-1770919200-1770922800@www.uacdc.org
SUMMARY:Thursday Harvest - Acompáñanos todos los jueves para recibir una comida caliente y GRATIS.
DESCRIPTION:THURSDAY HARVEST\n¡La cena y las buenas vibras corren por nuestra cuenta!\nAcompáñanos todos los jueves para recibir una comida caliente y GRATIS.\nFLYER \n \n\n6:00 – 7:00 PM\nNo se requiere registro ni identificación.\nLas comidas se ofrecen por orden de llegada. \n\nArtículos adicionales se distribuirán según disponibilidad:\nHarvest Hope Park | 13704 N 20th St\, Tampa\, FL 33613
URL:https://www.uacdc.org/event_general/thursday-harvest-acompananos-todos-los-jueves-para-recibir-una-comida-caliente-y-gratis/2026-02-12/
LOCATION:Harvest Hope Park\, 13704 N 20th St\, Tampa\, FL\, 33613\, United States
CATEGORIES:Families,Family Special Events,Food Distribution,Outreach
ATTACH;FMTTYPE=image/png:https://www.uacdc.org/wp-content/uploads/2025/06/Thursday-Harvest-SPAN.png
ORGANIZER;CN="UACDC Community Engagement":MAILTO:sroman@uacdc.org
END:VEVENT
BEGIN:VEVENT
DTSTART;TZID=America/New_York:20260219T180000
DTEND;TZID=America/New_York:20260219T190000
DTSTAMP:20260423T063623
CREATED:20250424T135842Z
LAST-MODIFIED:20250801T183006Z
UID:10013831-1771524000-1771527600@www.uacdc.org
SUMMARY:Thursday Harvest - Join us for a free\, hot meal.
DESCRIPTION:THURSDAY HARVEST\nDinner and good vibes are on us!\nJoin us every Thursday for a free\, hot meal.\nFLYER \nEvery Thursday | 6:00 – 7:00 PM\nAt Harvest Hope Park | 13704 N 20th St\, Tampa\, FL 33613
URL:https://www.uacdc.org/event_general/thursday-harvest/2026-02-19/
LOCATION:Harvest Hope Park\, 13704 N 20th St\, Tampa\, FL\, 33613\, United States
CATEGORIES:Families,Family Special Events,Food Distribution,Outreach
ATTACH;FMTTYPE=image/png:https://www.uacdc.org/wp-content/uploads/2025/04/Thursday-Harvest.png
ORGANIZER;CN="UACDC Community Engagement":MAILTO:sroman@uacdc.org
END:VEVENT
BEGIN:VEVENT
DTSTART;TZID=America/New_York:20260219T180000
DTEND;TZID=America/New_York:20260219T190000
DTSTAMP:20260423T063623
CREATED:20250801T184044Z
LAST-MODIFIED:20250801T184044Z
UID:10018068-1771524000-1771527600@www.uacdc.org
SUMMARY:Thursday Harvest - Acompáñanos todos los jueves para recibir una comida caliente y GRATIS.
DESCRIPTION:THURSDAY HARVEST\n¡La cena y las buenas vibras corren por nuestra cuenta!\nAcompáñanos todos los jueves para recibir una comida caliente y GRATIS.\nFLYER \n \n\n6:00 – 7:00 PM\nNo se requiere registro ni identificación.\nLas comidas se ofrecen por orden de llegada. \n\nArtículos adicionales se distribuirán según disponibilidad:\nHarvest Hope Park | 13704 N 20th St\, Tampa\, FL 33613
URL:https://www.uacdc.org/event_general/thursday-harvest-acompananos-todos-los-jueves-para-recibir-una-comida-caliente-y-gratis/2026-02-19/
LOCATION:Harvest Hope Park\, 13704 N 20th St\, Tampa\, FL\, 33613\, United States
CATEGORIES:Families,Family Special Events,Food Distribution,Outreach
ATTACH;FMTTYPE=image/png:https://www.uacdc.org/wp-content/uploads/2025/06/Thursday-Harvest-SPAN.png
ORGANIZER;CN="UACDC Community Engagement":MAILTO:sroman@uacdc.org
END:VEVENT
BEGIN:VEVENT
DTSTART;TZID=America/New_York:20260226T180000
DTEND;TZID=America/New_York:20260226T190000
DTSTAMP:20260423T063623
CREATED:20250424T135842Z
LAST-MODIFIED:20250801T183006Z
UID:10013832-1772128800-1772132400@www.uacdc.org
SUMMARY:Thursday Harvest - Join us for a free\, hot meal.
DESCRIPTION:THURSDAY HARVEST\nDinner and good vibes are on us!\nJoin us every Thursday for a free\, hot meal.\nFLYER \nEvery Thursday | 6:00 – 7:00 PM\nAt Harvest Hope Park | 13704 N 20th St\, Tampa\, FL 33613
URL:https://www.uacdc.org/event_general/thursday-harvest/2026-02-26/
LOCATION:Harvest Hope Park\, 13704 N 20th St\, Tampa\, FL\, 33613\, United States
CATEGORIES:Families,Family Special Events,Food Distribution,Outreach
ATTACH;FMTTYPE=image/png:https://www.uacdc.org/wp-content/uploads/2025/04/Thursday-Harvest.png
ORGANIZER;CN="UACDC Community Engagement":MAILTO:sroman@uacdc.org
END:VEVENT
BEGIN:VEVENT
DTSTART;TZID=America/New_York:20260226T180000
DTEND;TZID=America/New_York:20260226T190000
DTSTAMP:20260423T063623
CREATED:20250801T184044Z
LAST-MODIFIED:20250801T184044Z
UID:10018069-1772128800-1772132400@www.uacdc.org
SUMMARY:Thursday Harvest - Acompáñanos todos los jueves para recibir una comida caliente y GRATIS.
DESCRIPTION:THURSDAY HARVEST\n¡La cena y las buenas vibras corren por nuestra cuenta!\nAcompáñanos todos los jueves para recibir una comida caliente y GRATIS.\nFLYER \n \n\n6:00 – 7:00 PM\nNo se requiere registro ni identificación.\nLas comidas se ofrecen por orden de llegada. \n\nArtículos adicionales se distribuirán según disponibilidad:\nHarvest Hope Park | 13704 N 20th St\, Tampa\, FL 33613
URL:https://www.uacdc.org/event_general/thursday-harvest-acompananos-todos-los-jueves-para-recibir-una-comida-caliente-y-gratis/2026-02-26/
LOCATION:Harvest Hope Park\, 13704 N 20th St\, Tampa\, FL\, 33613\, United States
CATEGORIES:Families,Family Special Events,Food Distribution,Outreach
ATTACH;FMTTYPE=image/png:https://www.uacdc.org/wp-content/uploads/2025/06/Thursday-Harvest-SPAN.png
ORGANIZER;CN="UACDC Community Engagement":MAILTO:sroman@uacdc.org
END:VEVENT
END:VCALENDAR