BEGIN:VCALENDAR
VERSION:2.0
PRODID:-//UACDC - ECPv6.15.20//NONSGML v1.0//EN
CALSCALE:GREGORIAN
METHOD:PUBLISH
X-ORIGINAL-URL:https://www.uacdc.org
X-WR-CALDESC:Events for UACDC
REFRESH-INTERVAL;VALUE=DURATION:PT1H
X-Robots-Tag:noindex
X-PUBLISHED-TTL:PT1H
BEGIN:VTIMEZONE
TZID:UTC
BEGIN:STANDARD
TZOFFSETFROM:+0000
TZOFFSETTO:+0000
TZNAME:UTC
DTSTART:20250101T000000
END:STANDARD
END:VTIMEZONE
BEGIN:VEVENT
DTSTART;TZID=UTC:20260904T170000
DTEND;TZID=UTC:20260904T190000
DTSTAMP:20260423T092351
CREATED:20230829T202315Z
LAST-MODIFIED:20250408T180932Z
UID:10001703-1788541200-1788548400@www.uacdc.org
SUMMARY:Youth Soccer
DESCRIPTION:Get Moving! Youth Soccer w/Coach Romeo/Coach Julian \nYouth Ages 7 – 14\nHarvest Hope Park: 13704 N 20th St.\, Tampa FL 33613\nFridays | 5:00 pm – 7:00 pm \nGet Moving! is a community-based program. If you are interested in participating or have any questions\, please contact Ronnie Oliver\, Health & Wellness Coordinator\, at (813) 558-1149.
URL:https://www.uacdc.org/event_general/youth-soccer-harvest-hope-park/2026-09-04/
LOCATION:Harvest Hope Park\, 13704 N 20th St\, Tampa\, FL\, 33613\, United States
CATEGORIES:Get Moving,Youth,Youth Sports
ATTACH;FMTTYPE=image/png:https://www.uacdc.org/wp-content/uploads/2025/04/GM_soccer.png
ORGANIZER;CN="Get Moving! Program":MAILTO:roliver@uacdc.org
END:VEVENT
BEGIN:VEVENT
DTSTART;TZID=UTC:20260905T170000
DTEND;TZID=UTC:20260905T190000
DTSTAMP:20260423T092351
CREATED:20230829T202315Z
LAST-MODIFIED:20250408T180932Z
UID:10005145-1788627600-1788634800@www.uacdc.org
SUMMARY:Youth Soccer
DESCRIPTION:Get Moving! Youth Soccer w/Coach Romeo/Coach Julian \nYouth Ages 7 – 14\nHarvest Hope Park: 13704 N 20th St.\, Tampa FL 33613\nFridays | 5:00 pm – 7:00 pm \nGet Moving! is a community-based program. If you are interested in participating or have any questions\, please contact Ronnie Oliver\, Health & Wellness Coordinator\, at (813) 558-1149.
URL:https://www.uacdc.org/event_general/youth-soccer-harvest-hope-park/2026-09-05/
LOCATION:Harvest Hope Park\, 13704 N 20th St\, Tampa\, FL\, 33613\, United States
CATEGORIES:Get Moving,Youth,Youth Sports
ATTACH;FMTTYPE=image/png:https://www.uacdc.org/wp-content/uploads/2025/04/GM_soccer.png
ORGANIZER;CN="Get Moving! Program":MAILTO:roliver@uacdc.org
END:VEVENT
BEGIN:VEVENT
DTSTART;TZID=UTC:20260911T170000
DTEND;TZID=UTC:20260911T190000
DTSTAMP:20260423T092351
CREATED:20230829T202315Z
LAST-MODIFIED:20250408T180932Z
UID:10001705-1789146000-1789153200@www.uacdc.org
SUMMARY:Youth Soccer
DESCRIPTION:Get Moving! Youth Soccer w/Coach Romeo/Coach Julian \nYouth Ages 7 – 14\nHarvest Hope Park: 13704 N 20th St.\, Tampa FL 33613\nFridays | 5:00 pm – 7:00 pm \nGet Moving! is a community-based program. If you are interested in participating or have any questions\, please contact Ronnie Oliver\, Health & Wellness Coordinator\, at (813) 558-1149.
URL:https://www.uacdc.org/event_general/youth-soccer-harvest-hope-park/2026-09-11/
LOCATION:Harvest Hope Park\, 13704 N 20th St\, Tampa\, FL\, 33613\, United States
CATEGORIES:Get Moving,Youth,Youth Sports
ATTACH;FMTTYPE=image/png:https://www.uacdc.org/wp-content/uploads/2025/04/GM_soccer.png
ORGANIZER;CN="Get Moving! Program":MAILTO:roliver@uacdc.org
END:VEVENT
BEGIN:VEVENT
DTSTART;TZID=UTC:20260912T170000
DTEND;TZID=UTC:20260912T190000
DTSTAMP:20260423T092351
CREATED:20230829T202315Z
LAST-MODIFIED:20250408T180932Z
UID:10005146-1789232400-1789239600@www.uacdc.org
SUMMARY:Youth Soccer
DESCRIPTION:Get Moving! Youth Soccer w/Coach Romeo/Coach Julian \nYouth Ages 7 – 14\nHarvest Hope Park: 13704 N 20th St.\, Tampa FL 33613\nFridays | 5:00 pm – 7:00 pm \nGet Moving! is a community-based program. If you are interested in participating or have any questions\, please contact Ronnie Oliver\, Health & Wellness Coordinator\, at (813) 558-1149.
URL:https://www.uacdc.org/event_general/youth-soccer-harvest-hope-park/2026-09-12/
LOCATION:Harvest Hope Park\, 13704 N 20th St\, Tampa\, FL\, 33613\, United States
CATEGORIES:Get Moving,Youth,Youth Sports
ATTACH;FMTTYPE=image/png:https://www.uacdc.org/wp-content/uploads/2025/04/GM_soccer.png
ORGANIZER;CN="Get Moving! Program":MAILTO:roliver@uacdc.org
END:VEVENT
BEGIN:VEVENT
DTSTART;TZID=UTC:20260918T170000
DTEND;TZID=UTC:20260918T190000
DTSTAMP:20260423T092351
CREATED:20230829T202315Z
LAST-MODIFIED:20250408T180932Z
UID:10001707-1789750800-1789758000@www.uacdc.org
SUMMARY:Youth Soccer
DESCRIPTION:Get Moving! Youth Soccer w/Coach Romeo/Coach Julian \nYouth Ages 7 – 14\nHarvest Hope Park: 13704 N 20th St.\, Tampa FL 33613\nFridays | 5:00 pm – 7:00 pm \nGet Moving! is a community-based program. If you are interested in participating or have any questions\, please contact Ronnie Oliver\, Health & Wellness Coordinator\, at (813) 558-1149.
URL:https://www.uacdc.org/event_general/youth-soccer-harvest-hope-park/2026-09-18/
LOCATION:Harvest Hope Park\, 13704 N 20th St\, Tampa\, FL\, 33613\, United States
CATEGORIES:Get Moving,Youth,Youth Sports
ATTACH;FMTTYPE=image/png:https://www.uacdc.org/wp-content/uploads/2025/04/GM_soccer.png
ORGANIZER;CN="Get Moving! Program":MAILTO:roliver@uacdc.org
END:VEVENT
BEGIN:VEVENT
DTSTART;TZID=UTC:20260919T170000
DTEND;TZID=UTC:20260919T190000
DTSTAMP:20260423T092351
CREATED:20230829T202315Z
LAST-MODIFIED:20250408T180932Z
UID:10005147-1789837200-1789844400@www.uacdc.org
SUMMARY:Youth Soccer
DESCRIPTION:Get Moving! Youth Soccer w/Coach Romeo/Coach Julian \nYouth Ages 7 – 14\nHarvest Hope Park: 13704 N 20th St.\, Tampa FL 33613\nFridays | 5:00 pm – 7:00 pm \nGet Moving! is a community-based program. If you are interested in participating or have any questions\, please contact Ronnie Oliver\, Health & Wellness Coordinator\, at (813) 558-1149.
URL:https://www.uacdc.org/event_general/youth-soccer-harvest-hope-park/2026-09-19/
LOCATION:Harvest Hope Park\, 13704 N 20th St\, Tampa\, FL\, 33613\, United States
CATEGORIES:Get Moving,Youth,Youth Sports
ATTACH;FMTTYPE=image/png:https://www.uacdc.org/wp-content/uploads/2025/04/GM_soccer.png
ORGANIZER;CN="Get Moving! Program":MAILTO:roliver@uacdc.org
END:VEVENT
BEGIN:VEVENT
DTSTART;TZID=UTC:20260925T170000
DTEND;TZID=UTC:20260925T190000
DTSTAMP:20260423T092351
CREATED:20230829T202315Z
LAST-MODIFIED:20250408T180932Z
UID:10001709-1790355600-1790362800@www.uacdc.org
SUMMARY:Youth Soccer
DESCRIPTION:Get Moving! Youth Soccer w/Coach Romeo/Coach Julian \nYouth Ages 7 – 14\nHarvest Hope Park: 13704 N 20th St.\, Tampa FL 33613\nFridays | 5:00 pm – 7:00 pm \nGet Moving! is a community-based program. If you are interested in participating or have any questions\, please contact Ronnie Oliver\, Health & Wellness Coordinator\, at (813) 558-1149.
URL:https://www.uacdc.org/event_general/youth-soccer-harvest-hope-park/2026-09-25/
LOCATION:Harvest Hope Park\, 13704 N 20th St\, Tampa\, FL\, 33613\, United States
CATEGORIES:Get Moving,Youth,Youth Sports
ATTACH;FMTTYPE=image/png:https://www.uacdc.org/wp-content/uploads/2025/04/GM_soccer.png
ORGANIZER;CN="Get Moving! Program":MAILTO:roliver@uacdc.org
END:VEVENT
BEGIN:VEVENT
DTSTART;TZID=UTC:20260926T170000
DTEND;TZID=UTC:20260926T190000
DTSTAMP:20260423T092351
CREATED:20230829T202315Z
LAST-MODIFIED:20250408T180932Z
UID:10005148-1790442000-1790449200@www.uacdc.org
SUMMARY:Youth Soccer
DESCRIPTION:Get Moving! Youth Soccer w/Coach Romeo/Coach Julian \nYouth Ages 7 – 14\nHarvest Hope Park: 13704 N 20th St.\, Tampa FL 33613\nFridays | 5:00 pm – 7:00 pm \nGet Moving! is a community-based program. If you are interested in participating or have any questions\, please contact Ronnie Oliver\, Health & Wellness Coordinator\, at (813) 558-1149.
URL:https://www.uacdc.org/event_general/youth-soccer-harvest-hope-park/2026-09-26/
LOCATION:Harvest Hope Park\, 13704 N 20th St\, Tampa\, FL\, 33613\, United States
CATEGORIES:Get Moving,Youth,Youth Sports
ATTACH;FMTTYPE=image/png:https://www.uacdc.org/wp-content/uploads/2025/04/GM_soccer.png
ORGANIZER;CN="Get Moving! Program":MAILTO:roliver@uacdc.org
END:VEVENT
END:VCALENDAR