BEGIN:VCALENDAR
VERSION:2.0
PRODID:-//UACDC - ECPv6.15.20//NONSGML v1.0//EN
CALSCALE:GREGORIAN
METHOD:PUBLISH
X-ORIGINAL-URL:https://www.uacdc.org
X-WR-CALDESC:Events for UACDC
REFRESH-INTERVAL;VALUE=DURATION:PT1H
X-Robots-Tag:noindex
X-PUBLISHED-TTL:PT1H
BEGIN:VTIMEZONE
TZID:America/New_York
BEGIN:DAYLIGHT
TZOFFSETFROM:-0500
TZOFFSETTO:-0400
TZNAME:EDT
DTSTART:20250309T070000
END:DAYLIGHT
BEGIN:STANDARD
TZOFFSETFROM:-0400
TZOFFSETTO:-0500
TZNAME:EST
DTSTART:20251102T060000
END:STANDARD
BEGIN:DAYLIGHT
TZOFFSETFROM:-0500
TZOFFSETTO:-0400
TZNAME:EDT
DTSTART:20260308T070000
END:DAYLIGHT
BEGIN:STANDARD
TZOFFSETFROM:-0400
TZOFFSETTO:-0500
TZNAME:EST
DTSTART:20261101T060000
END:STANDARD
BEGIN:DAYLIGHT
TZOFFSETFROM:-0500
TZOFFSETTO:-0400
TZNAME:EDT
DTSTART:20270314T070000
END:DAYLIGHT
BEGIN:STANDARD
TZOFFSETFROM:-0400
TZOFFSETTO:-0500
TZNAME:EST
DTSTART:20271107T060000
END:STANDARD
END:VTIMEZONE
BEGIN:VEVENT
DTSTART;TZID=America/New_York:20260423T120000
DTEND;TZID=America/New_York:20260423T130000
DTSTAMP:20260423T102837
CREATED:20250408T191822Z
LAST-MODIFIED:20250408T191822Z
UID:10006649-1776945600-1776949200@www.uacdc.org
SUMMARY:Yoga Classes - Adult
DESCRIPTION:Yoga Classes – Adult\nAll levels welcome\, even beginners! \nFLYER \nTuesday & Thursday • 12:00-1:00pm\nVICTOR CRIST COMMUNITY CENTER\n14013 N 22ND STREET\, TAMPA FL 33613 \nCome and experience our FREE Yoga class
URL:https://www.uacdc.org/event_general/yoga-classes-adult/2026-04-23/
LOCATION:Victor Crist Community Center\, 14013 N 22nd Street\, Tampa\, FL\, 33613\, United States
CATEGORIES:Adult,Adult Classes,Get Moving
ATTACH;FMTTYPE=image/png:https://www.uacdc.org/wp-content/uploads/2025/04/GM_yoga.png
ORGANIZER;CN="Get Moving! Program":MAILTO:roliver@uacdc.org
END:VEVENT
BEGIN:VEVENT
DTSTART;TZID=America/New_York:20260423T150000
DTEND;TZID=America/New_York:20260423T160000
DTSTAMP:20260423T102837
CREATED:20250410T155935Z
LAST-MODIFIED:20250819T130959Z
UID:10008164-1776956400-1776960000@www.uacdc.org
SUMMARY:Capoeira/Hip-Hop Dance for Adults  w/ Instructor Carrie
DESCRIPTION:Capoeira/Hip-Hop Dance for Adults w/ Instructor Carrie \nThursdays | 3pm – 4pm\nVictor Crist Community Center | 14013 N 22nd St\, Tampa FL 33613
URL:https://www.uacdc.org/event_general/capoeira-hip-hop-dance-for-adults-w-instructor-carrie/2026-04-23/
LOCATION:Victor Crist Community Center\, 14013 N 22nd Street\, Tampa\, FL\, 33613\, United States
CATEGORIES:Adult,Adult Classes,Education,Prodigy,Prodigy Moves
ATTACH;FMTTYPE=image/png:https://www.uacdc.org/wp-content/uploads/2025/04/Pro_dance_capoeira-hiphop.png
ORGANIZER;CN="Prodigy Moves!":MAILTO:jgreen@uacdc.org
END:VEVENT
BEGIN:VEVENT
DTSTART;TZID=America/New_York:20260423T150000
DTEND;TZID=America/New_York:20260423T163000
DTSTAMP:20260423T102837
CREATED:20250819T124608Z
LAST-MODIFIED:20250819T124608Z
UID:10018611-1776956400-1776961800@www.uacdc.org
SUMMARY:Guitar w/ Mr. Freddie (ages 5-9)
DESCRIPTION:Guitar w/ Mr. Freddie – Prodigy® Tampa I (ages 5-9) \nTuesdays & Thursday | 3pm – 4:30pm\nVictor Crist Community Center | 14013 N 22nd St\, Tampa FL 33613 \nFor more info\, contact Bryan at bmartinez@uacdc.org (English). Registration applications can also be found at www.uacdc.org/prodigyregistration. \n 
URL:https://www.uacdc.org/event_general/guitar-w-mr-freddie-ages-5-9-3/2026-04-23/
LOCATION:Victor Crist Community Center\, 14013 N 22nd Street\, Tampa\, FL\, 33613\, United States
CATEGORIES:Education,Prodigy,Youth,Youth Classes
ATTACH;FMTTYPE=image/png:https://www.uacdc.org/wp-content/uploads/2025/06/Pro_guitar_summer.png
ORGANIZER;CN="Prodigy - Tampa I":MAILTO:bmartinez@uacdc.org
END:VEVENT
BEGIN:VEVENT
DTSTART;TZID=America/New_York:20260423T160000
DTEND;TZID=America/New_York:20260423T173000
DTSTAMP:20260423T102837
CREATED:20250819T125347Z
LAST-MODIFIED:20250819T125347Z
UID:10019684-1776960000-1776965400@www.uacdc.org
SUMMARY:Dance Class w/ Ms. Carrie (ages 5-9)
DESCRIPTION:Dance Class w/ Ms. Carrie – Prodigy® Tampa I (ages 5-9) \nTuesdays & Thursday | 4pm – 5:30pm\nVictor Crist Community Center | 14013 N 22nd St\, Tampa FL 33613 \nFor more info\, contact Bryan at bmartinez@uacdc.org (English). Registration applications can also be found at www.uacdc.org/prodigyregistration.
URL:https://www.uacdc.org/event_general/dance-class-w-ms-carrie-ages-5-9-2/2026-04-23/
LOCATION:Victor Crist Community Center\, 14013 N 22nd Street\, Tampa\, FL\, 33613\, United States
CATEGORIES:Education,Prodigy,Youth,Youth Classes
ATTACH;FMTTYPE=image/png:https://www.uacdc.org/wp-content/uploads/2025/08/Pro_dance01-F25.png
ORGANIZER;CN="Prodigy - Tampa I":MAILTO:bmartinez@uacdc.org
END:VEVENT
BEGIN:VEVENT
DTSTART;TZID=America/New_York:20260423T160000
DTEND;TZID=America/New_York:20260423T190000
DTSTAMP:20260423T102837
CREATED:20250819T125102Z
LAST-MODIFIED:20260122T173844Z
UID:10021935-1776960000-1776970800@www.uacdc.org
SUMMARY:Painting w/ Mr. Junior (ages 10-13 & 14-17)
DESCRIPTION:Painting w/ Mr. Junior – Prodigy® Tampa I\n(ages 10-13 & 14-17) \nTuesday & Thursday | 4pm – 7pm\nVictor Crist Community Center | 14013 N 22nd St\, Tampa FL 33613 \nFor more info\, contact Bryan at bmartinez@uacdc.org (English). Registration applications can also be found at www.uacdc.org/prodigyregistration.
URL:https://www.uacdc.org/event_general/painting-w-mr-junior-ages-10-13-14-17-3/2026-04-23/
LOCATION:Victor Crist Community Center\, 14013 N 22nd Street\, Tampa\, FL\, 33613\, United States
CATEGORIES:Education,Prodigy,Youth,Youth Classes
ATTACH;FMTTYPE=image/png:https://www.uacdc.org/wp-content/uploads/2025/08/Pro_Art_teen01-F25.png
ORGANIZER;CN="Prodigy - Tampa I":MAILTO:bmartinez@uacdc.org
END:VEVENT
BEGIN:VEVENT
DTSTART;TZID=America/New_York:20260423T170000
DTEND;TZID=America/New_York:20260423T183000
DTSTAMP:20260423T102837
CREATED:20250819T124808Z
LAST-MODIFIED:20250819T130319Z
UID:10020366-1776963600-1776969000@www.uacdc.org
SUMMARY:Guitar w/ Mr. Freddie (ages 10-13 & 14-17)
DESCRIPTION:Guitar w/ Mr. Freddie – Prodigy® Tampa I (ages 10-13 & 14-17) \nTuesdays & Thursday | 5pm – 6:30pm\nVictor Crist Community Center | 14013 N 22nd St\, Tampa FL 33613 \nFor more info\, contact Bryan at bmartinez@uacdc.org (English). Registration applications can also be found at www.uacdc.org/prodigyregistration. \n 
URL:https://www.uacdc.org/event_general/guitar-w-mr-freddie-ages-10-13-14-17-3/2026-04-23/
LOCATION:Victor Crist Community Center\, 14013 N 22nd Street\, Tampa\, FL\, 33613\, United States
CATEGORIES:Education,Prodigy,Youth,Youth Classes
ATTACH;FMTTYPE=image/png:https://www.uacdc.org/wp-content/uploads/2025/08/Pro_gutiar_teen2-F25.png
ORGANIZER;CN="Prodigy - Tampa I":MAILTO:bmartinez@uacdc.org
END:VEVENT
BEGIN:VEVENT
DTSTART;TZID=America/New_York:20260423T180000
DTEND;TZID=America/New_York:20260423T190000
DTSTAMP:20260423T102837
CREATED:20250424T135842Z
LAST-MODIFIED:20250801T183006Z
UID:10013840-1776967200-1776970800@www.uacdc.org
SUMMARY:Thursday Harvest - Join us for a free\, hot meal.
DESCRIPTION:THURSDAY HARVEST\nDinner and good vibes are on us!\nJoin us every Thursday for a free\, hot meal.\nFLYER \nEvery Thursday | 6:00 – 7:00 PM\nAt Harvest Hope Park | 13704 N 20th St\, Tampa\, FL 33613
URL:https://www.uacdc.org/event_general/thursday-harvest/2026-04-23/
LOCATION:Harvest Hope Park\, 13704 N 20th St\, Tampa\, FL\, 33613\, United States
CATEGORIES:Families,Family Special Events,Food Distribution,Outreach
ATTACH;FMTTYPE=image/png:https://www.uacdc.org/wp-content/uploads/2025/04/Thursday-Harvest.png
ORGANIZER;CN="UACDC Community Engagement":MAILTO:sroman@uacdc.org
END:VEVENT
BEGIN:VEVENT
DTSTART;TZID=America/New_York:20260423T180000
DTEND;TZID=America/New_York:20260423T190000
DTSTAMP:20260423T102837
CREATED:20250801T184044Z
LAST-MODIFIED:20250801T184044Z
UID:10018077-1776967200-1776970800@www.uacdc.org
SUMMARY:Thursday Harvest - Acompáñanos todos los jueves para recibir una comida caliente y GRATIS.
DESCRIPTION:THURSDAY HARVEST\n¡La cena y las buenas vibras corren por nuestra cuenta!\nAcompáñanos todos los jueves para recibir una comida caliente y GRATIS.\nFLYER \n \n\n6:00 – 7:00 PM\nNo se requiere registro ni identificación.\nLas comidas se ofrecen por orden de llegada. \n\nArtículos adicionales se distribuirán según disponibilidad:\nHarvest Hope Park | 13704 N 20th St\, Tampa\, FL 33613
URL:https://www.uacdc.org/event_general/thursday-harvest-acompananos-todos-los-jueves-para-recibir-una-comida-caliente-y-gratis/2026-04-23/
LOCATION:Harvest Hope Park\, 13704 N 20th St\, Tampa\, FL\, 33613\, United States
CATEGORIES:Families,Family Special Events,Food Distribution,Outreach
ATTACH;FMTTYPE=image/png:https://www.uacdc.org/wp-content/uploads/2025/06/Thursday-Harvest-SPAN.png
ORGANIZER;CN="UACDC Community Engagement":MAILTO:sroman@uacdc.org
END:VEVENT
BEGIN:VEVENT
DTSTART;TZID=America/New_York:20260423T180000
DTEND;TZID=America/New_York:20260423T193000
DTSTAMP:20260423T102837
CREATED:20250819T125717Z
LAST-MODIFIED:20250819T125717Z
UID:10019802-1776967200-1776972600@www.uacdc.org
SUMMARY:Dance Class w/ Ms. Carrie (ages 10-13 & 14-17)
DESCRIPTION:Dance Class w/ Ms. Carrie – Prodigy® Tampa I (ages 10-13 & 14-17) \nTuesdays & Thursday | 6pm – 7:30pm\nVictor Crist Community Center | 14013 N 22nd St\, Tampa FL 33613 \nFor more info\, contact Bryan at bmartinez@uacdc.org (English). Registration applications can also be found at www.uacdc.org/prodigyregistration.
URL:https://www.uacdc.org/event_general/dance-class-w-ms-carrie-ages-10-13-14-17-2/2026-04-23/
LOCATION:Victor Crist Community Center\, 14013 N 22nd Street\, Tampa\, FL\, 33613\, United States
CATEGORIES:Education,Prodigy,Youth,Youth Classes
ATTACH;FMTTYPE=image/png:https://www.uacdc.org/wp-content/uploads/2025/08/Pro_dance_teen-F25.png
ORGANIZER;CN="Prodigy - Tampa I":MAILTO:bmartinez@uacdc.org
END:VEVENT
END:VCALENDAR