BEGIN:VCALENDAR
VERSION:2.0
PRODID:-//UACDC - ECPv6.15.20//NONSGML v1.0//EN
CALSCALE:GREGORIAN
METHOD:PUBLISH
X-WR-CALNAME:UACDC
X-ORIGINAL-URL:https://www.uacdc.org
X-WR-CALDESC:Events for UACDC
REFRESH-INTERVAL;VALUE=DURATION:PT1H
X-Robots-Tag:noindex
X-PUBLISHED-TTL:PT1H
BEGIN:VTIMEZONE
TZID:America/New_York
BEGIN:DAYLIGHT
TZOFFSETFROM:-0500
TZOFFSETTO:-0400
TZNAME:EDT
DTSTART:20250309T070000
END:DAYLIGHT
BEGIN:STANDARD
TZOFFSETFROM:-0400
TZOFFSETTO:-0500
TZNAME:EST
DTSTART:20251102T060000
END:STANDARD
BEGIN:DAYLIGHT
TZOFFSETFROM:-0500
TZOFFSETTO:-0400
TZNAME:EDT
DTSTART:20260308T070000
END:DAYLIGHT
BEGIN:STANDARD
TZOFFSETFROM:-0400
TZOFFSETTO:-0500
TZNAME:EST
DTSTART:20261101T060000
END:STANDARD
BEGIN:DAYLIGHT
TZOFFSETFROM:-0500
TZOFFSETTO:-0400
TZNAME:EDT
DTSTART:20270314T070000
END:DAYLIGHT
BEGIN:STANDARD
TZOFFSETFROM:-0400
TZOFFSETTO:-0500
TZNAME:EST
DTSTART:20271107T060000
END:STANDARD
END:VTIMEZONE
BEGIN:VEVENT
DTSTART;TZID=America/New_York:20260413T150000
DTEND;TZID=America/New_York:20260413T180000
DTSTAMP:20260424T041600
CREATED:20250819T124130Z
LAST-MODIFIED:20250819T124130Z
UID:10018431-1776092400-1776103200@www.uacdc.org
SUMMARY:Painting w/ Ms. Lorena (ages 5-9)
DESCRIPTION:Painting w/ Ms. Lorena – Prodigy® Tampa I (ages 5-9) \nMonday | 3pm – 6pm\nVictor Crist Community Center | 14013 N 22nd St\, Tampa FL 33613 \nFor more info\, contact Bryan at bmartinez@uacdc.org (English). Registration applications can also be found at www.uacdc.org/prodigyregistration.
URL:https://www.uacdc.org/event_general/painting-w-ms-lorena-ages-5-9/2026-04-13/
LOCATION:Victor Crist Community Center\, 14013 N 22nd Street\, Tampa\, FL\, 33613\, United States
CATEGORIES:Education,Prodigy,Youth,Youth Special Events
ATTACH;FMTTYPE=image/png:https://www.uacdc.org/wp-content/uploads/2025/08/Pro_Art03-F25.png
ORGANIZER;CN="Prodigy - Tampa I":MAILTO:bmartinez@uacdc.org
END:VEVENT
BEGIN:VEVENT
DTSTART;TZID=America/New_York:20260413T151500
DTEND;TZID=America/New_York:20260413T180000
DTSTAMP:20260424T041600
CREATED:20250819T123756Z
LAST-MODIFIED:20260122T170838Z
UID:10021781-1776093300-1776103200@www.uacdc.org
SUMMARY:Painting w/ Ms. Vivian (ages 5-9)
DESCRIPTION:Painting w/ Ms. Vivian – Prodigy® Tampa I (ages 5-9) \nMonday | 3:15pm – 6pm\nVictor Crist Community Center | 14013 N 22nd St\, Tampa FL 33613 \nFor more info\, contact Bryan at bmartinez@uacdc.org (English). Registration applications can also be found at www.uacdc.org/prodigyregistration.
URL:https://www.uacdc.org/event_general/painting-w-ms-vivian-ages-5-9/2026-04-13/
LOCATION:Victor Crist Community Center\, 14013 N 22nd Street\, Tampa\, FL\, 33613\, United States
CATEGORIES:Education,Prodigy,Youth,Youth Special Events
ATTACH;FMTTYPE=image/png:https://www.uacdc.org/wp-content/uploads/2025/08/Pro_Art01-F25.png
ORGANIZER;CN="Prodigy - Tampa I":MAILTO:bmartinez@uacdc.org
END:VEVENT
BEGIN:VEVENT
DTSTART;TZID=America/New_York:20260414T120000
DTEND;TZID=America/New_York:20260414T130000
DTSTAMP:20260424T041600
CREATED:20250408T191822Z
LAST-MODIFIED:20250408T191822Z
UID:10006646-1776168000-1776171600@www.uacdc.org
SUMMARY:Yoga Classes - Adult
DESCRIPTION:Yoga Classes – Adult\nAll levels welcome\, even beginners! \nFLYER \nTuesday & Thursday • 12:00-1:00pm\nVICTOR CRIST COMMUNITY CENTER\n14013 N 22ND STREET\, TAMPA FL 33613 \nCome and experience our FREE Yoga class
URL:https://www.uacdc.org/event_general/yoga-classes-adult/2026-04-14/
LOCATION:Victor Crist Community Center\, 14013 N 22nd Street\, Tampa\, FL\, 33613\, United States
CATEGORIES:Adult,Adult Classes,Get Moving
ATTACH;FMTTYPE=image/png:https://www.uacdc.org/wp-content/uploads/2025/04/GM_yoga.png
ORGANIZER;CN="Get Moving! Program":MAILTO:roliver@uacdc.org
END:VEVENT
BEGIN:VEVENT
DTSTART;TZID=America/New_York:20260414T150000
DTEND;TZID=America/New_York:20260414T160000
DTSTAMP:20260424T041600
CREATED:20260122T173446Z
LAST-MODIFIED:20260122T173446Z
UID:10021841-1776178800-1776182400@www.uacdc.org
SUMMARY:Zumba for Adults
DESCRIPTION:Zumba for Adults\nInstructor Kim – Prodigy® Moves \n3:00pm  |  Victor Crist Community Center – Dance Room.
URL:https://www.uacdc.org/event_general/zumba-for-adults/2026-04-14/
LOCATION:Victor Crist Community Center\, 14013 N 22nd Street\, Tampa\, FL\, 33613\, United States
CATEGORIES:Adult,Adult Classes,Adult Sports,Education,Get Moving
ATTACH;FMTTYPE=image/png:https://www.uacdc.org/wp-content/uploads/2025/04/Pro_dance_zumba.png
ORGANIZER;CN="Get Moving! Program":MAILTO:roliver@uacdc.org
END:VEVENT
BEGIN:VEVENT
DTSTART;TZID=America/New_York:20260414T150000
DTEND;TZID=America/New_York:20260414T163000
DTSTAMP:20260424T041600
CREATED:20250819T124608Z
LAST-MODIFIED:20250819T124608Z
UID:10018608-1776178800-1776184200@www.uacdc.org
SUMMARY:Guitar w/ Mr. Freddie (ages 5-9)
DESCRIPTION:Guitar w/ Mr. Freddie – Prodigy® Tampa I (ages 5-9) \nTuesdays & Thursday | 3pm – 4:30pm\nVictor Crist Community Center | 14013 N 22nd St\, Tampa FL 33613 \nFor more info\, contact Bryan at bmartinez@uacdc.org (English). Registration applications can also be found at www.uacdc.org/prodigyregistration. \n 
URL:https://www.uacdc.org/event_general/guitar-w-mr-freddie-ages-5-9-3/2026-04-14/
LOCATION:Victor Crist Community Center\, 14013 N 22nd Street\, Tampa\, FL\, 33613\, United States
CATEGORIES:Education,Prodigy,Youth,Youth Classes
ATTACH;FMTTYPE=image/png:https://www.uacdc.org/wp-content/uploads/2025/06/Pro_guitar_summer.png
ORGANIZER;CN="Prodigy - Tampa I":MAILTO:bmartinez@uacdc.org
END:VEVENT
BEGIN:VEVENT
DTSTART;TZID=America/New_York:20260414T160000
DTEND;TZID=America/New_York:20260414T173000
DTSTAMP:20260424T041600
CREATED:20250819T125347Z
LAST-MODIFIED:20250819T125347Z
UID:10019681-1776182400-1776187800@www.uacdc.org
SUMMARY:Dance Class w/ Ms. Carrie (ages 5-9)
DESCRIPTION:Dance Class w/ Ms. Carrie – Prodigy® Tampa I (ages 5-9) \nTuesdays & Thursday | 4pm – 5:30pm\nVictor Crist Community Center | 14013 N 22nd St\, Tampa FL 33613 \nFor more info\, contact Bryan at bmartinez@uacdc.org (English). Registration applications can also be found at www.uacdc.org/prodigyregistration.
URL:https://www.uacdc.org/event_general/dance-class-w-ms-carrie-ages-5-9-2/2026-04-14/
LOCATION:Victor Crist Community Center\, 14013 N 22nd Street\, Tampa\, FL\, 33613\, United States
CATEGORIES:Education,Prodigy,Youth,Youth Classes
ATTACH;FMTTYPE=image/png:https://www.uacdc.org/wp-content/uploads/2025/08/Pro_dance01-F25.png
ORGANIZER;CN="Prodigy - Tampa I":MAILTO:bmartinez@uacdc.org
END:VEVENT
BEGIN:VEVENT
DTSTART;TZID=America/New_York:20260414T160000
DTEND;TZID=America/New_York:20260414T190000
DTSTAMP:20260424T041600
CREATED:20250819T125102Z
LAST-MODIFIED:20260122T173844Z
UID:10018768-1776182400-1776193200@www.uacdc.org
SUMMARY:Painting w/ Mr. Junior (ages 10-13 & 14-17)
DESCRIPTION:Painting w/ Mr. Junior – Prodigy® Tampa I\n(ages 10-13 & 14-17) \nTuesday & Thursday | 4pm – 7pm\nVictor Crist Community Center | 14013 N 22nd St\, Tampa FL 33613 \nFor more info\, contact Bryan at bmartinez@uacdc.org (English). Registration applications can also be found at www.uacdc.org/prodigyregistration.
URL:https://www.uacdc.org/event_general/painting-w-mr-junior-ages-10-13-14-17-3/2026-04-14/
LOCATION:Victor Crist Community Center\, 14013 N 22nd Street\, Tampa\, FL\, 33613\, United States
CATEGORIES:Education,Prodigy,Youth,Youth Classes
ATTACH;FMTTYPE=image/png:https://www.uacdc.org/wp-content/uploads/2025/08/Pro_Art_teen01-F25.png
ORGANIZER;CN="Prodigy - Tampa I":MAILTO:bmartinez@uacdc.org
END:VEVENT
BEGIN:VEVENT
DTSTART;TZID=America/New_York:20260414T170000
DTEND;TZID=America/New_York:20260414T183000
DTSTAMP:20260424T041600
CREATED:20250819T124808Z
LAST-MODIFIED:20250819T130319Z
UID:10020363-1776186000-1776191400@www.uacdc.org
SUMMARY:Guitar w/ Mr. Freddie (ages 10-13 & 14-17)
DESCRIPTION:Guitar w/ Mr. Freddie – Prodigy® Tampa I (ages 10-13 & 14-17) \nTuesdays & Thursday | 5pm – 6:30pm\nVictor Crist Community Center | 14013 N 22nd St\, Tampa FL 33613 \nFor more info\, contact Bryan at bmartinez@uacdc.org (English). Registration applications can also be found at www.uacdc.org/prodigyregistration. \n 
URL:https://www.uacdc.org/event_general/guitar-w-mr-freddie-ages-10-13-14-17-3/2026-04-14/
LOCATION:Victor Crist Community Center\, 14013 N 22nd Street\, Tampa\, FL\, 33613\, United States
CATEGORIES:Education,Prodigy,Youth,Youth Classes
ATTACH;FMTTYPE=image/png:https://www.uacdc.org/wp-content/uploads/2025/08/Pro_gutiar_teen2-F25.png
ORGANIZER;CN="Prodigy - Tampa I":MAILTO:bmartinez@uacdc.org
END:VEVENT
BEGIN:VEVENT
DTSTART;TZID=America/New_York:20260414T180000
DTEND;TZID=America/New_York:20260414T193000
DTSTAMP:20260424T041600
CREATED:20250819T125717Z
LAST-MODIFIED:20250819T125717Z
UID:10019799-1776189600-1776195000@www.uacdc.org
SUMMARY:Dance Class w/ Ms. Carrie (ages 10-13 & 14-17)
DESCRIPTION:Dance Class w/ Ms. Carrie – Prodigy® Tampa I (ages 10-13 & 14-17) \nTuesdays & Thursday | 6pm – 7:30pm\nVictor Crist Community Center | 14013 N 22nd St\, Tampa FL 33613 \nFor more info\, contact Bryan at bmartinez@uacdc.org (English). Registration applications can also be found at www.uacdc.org/prodigyregistration.
URL:https://www.uacdc.org/event_general/dance-class-w-ms-carrie-ages-10-13-14-17-2/2026-04-14/
LOCATION:Victor Crist Community Center\, 14013 N 22nd Street\, Tampa\, FL\, 33613\, United States
CATEGORIES:Education,Prodigy,Youth,Youth Classes
ATTACH;FMTTYPE=image/png:https://www.uacdc.org/wp-content/uploads/2025/08/Pro_dance_teen-F25.png
ORGANIZER;CN="Prodigy - Tampa I":MAILTO:bmartinez@uacdc.org
END:VEVENT
BEGIN:VEVENT
DTSTART;TZID=America/New_York:20260415T110000
DTEND;TZID=America/New_York:20260415T120000
DTSTAMP:20260424T041600
CREATED:20250819T130903Z
LAST-MODIFIED:20250819T130903Z
UID:10020429-1776250800-1776254400@www.uacdc.org
SUMMARY:Adult Visual Arts for Adults w/Lorena
DESCRIPTION:Adult Visual Arts for Adults w/Lorena \nFLYER \nWednesdays | 11am – 12pm\nVictor Crist Community Center | 14013 N 22nd St\, Tampa FL 33613 \nRegistration applications can be found at www.uacdc.org/prodigyregistration.
URL:https://www.uacdc.org/event_general/adult-visual-arts-for-adults-w-lorena-2/2026-04-15/
LOCATION:Victor Crist Community Center\, 14013 N 22nd Street\, Tampa\, FL\, 33613\, United States
CATEGORIES:Adult,Adult Classes,Education,Prodigy,Prodigy Moves
ATTACH;FMTTYPE=image/png:https://www.uacdc.org/wp-content/uploads/2025/08/Pro_vISUAL_Art-Adult-F25.png
ORGANIZER;CN="Prodigy Moves!":MAILTO:jgreen@uacdc.org
END:VEVENT
BEGIN:VEVENT
DTSTART;TZID=America/New_York:20260415T150000
DTEND;TZID=America/New_York:20260415T180000
DTSTAMP:20260424T041600
CREATED:20250819T124230Z
LAST-MODIFIED:20250819T124230Z
UID:10018513-1776265200-1776276000@www.uacdc.org
SUMMARY:Painting w/ Ms. Angela (ages 5-9)
DESCRIPTION:Painting w/ Ms. Angela- Prodigy® Tampa I (ages 5-9) \nWednesday | 3pm – 6pm\nVictor Crist Community Center | 14013 N 22nd St\, Tampa FL 33613 \nFor more info\, contact Bryan at bmartinez@uacdc.org (English). Registration applications can also be found at www.uacdc.org/prodigyregistration.
URL:https://www.uacdc.org/event_general/painting-w-ms-angela-ages-5-9-2/2026-04-15/
LOCATION:Victor Crist Community Center\, 14013 N 22nd Street\, Tampa\, FL\, 33613\, United States
CATEGORIES:Education,Prodigy,Youth,Youth Special Events
ATTACH;FMTTYPE=image/png:https://www.uacdc.org/wp-content/uploads/2025/08/Pro_Art02-F25.png
ORGANIZER;CN="Prodigy - Tampa I":MAILTO:bmartinez@uacdc.org
END:VEVENT
BEGIN:VEVENT
DTSTART;TZID=America/New_York:20260415T151500
DTEND;TZID=America/New_York:20260415T180000
DTSTAMP:20260424T041601
CREATED:20250819T123959Z
LAST-MODIFIED:20260122T170924Z
UID:10021822-1776266100-1776276000@www.uacdc.org
SUMMARY:Painting w/ Ms. Vivian (ages 5-9)
DESCRIPTION:Painting w/ Ms. Vivian – Prodigy® Tampa I (ages 5-9) \nWednesday | 3:15pm – 6pm\nVictor Crist Community Center | 14013 N 22nd St\, Tampa FL 33613 \nFor more info\, contact Bryan at bmartinez@uacdc.org (English). Registration applications can also be found at www.uacdc.org/prodigyregistration.
URL:https://www.uacdc.org/event_general/painting-w-ms-vivian-ages-5-9-2/2026-04-15/
LOCATION:Victor Crist Community Center\, 14013 N 22nd Street\, Tampa\, FL\, 33613\, United States
CATEGORIES:Education,Prodigy,Youth,Youth Classes
ATTACH;FMTTYPE=image/png:https://www.uacdc.org/wp-content/uploads/2025/08/Pro_Art04-F25.png
ORGANIZER;CN="Prodigy - Tampa I":MAILTO:bmartinez@uacdc.org
END:VEVENT
BEGIN:VEVENT
DTSTART;TZID=America/New_York:20260416T120000
DTEND;TZID=America/New_York:20260416T130000
DTSTAMP:20260424T041601
CREATED:20250408T191822Z
LAST-MODIFIED:20250408T191822Z
UID:10006647-1776340800-1776344400@www.uacdc.org
SUMMARY:Yoga Classes - Adult
DESCRIPTION:Yoga Classes – Adult\nAll levels welcome\, even beginners! \nFLYER \nTuesday & Thursday • 12:00-1:00pm\nVICTOR CRIST COMMUNITY CENTER\n14013 N 22ND STREET\, TAMPA FL 33613 \nCome and experience our FREE Yoga class
URL:https://www.uacdc.org/event_general/yoga-classes-adult/2026-04-16/
LOCATION:Victor Crist Community Center\, 14013 N 22nd Street\, Tampa\, FL\, 33613\, United States
CATEGORIES:Adult,Adult Classes,Get Moving
ATTACH;FMTTYPE=image/png:https://www.uacdc.org/wp-content/uploads/2025/04/GM_yoga.png
ORGANIZER;CN="Get Moving! Program":MAILTO:roliver@uacdc.org
END:VEVENT
BEGIN:VEVENT
DTSTART;TZID=America/New_York:20260416T150000
DTEND;TZID=America/New_York:20260416T160000
DTSTAMP:20260424T041601
CREATED:20250410T155935Z
LAST-MODIFIED:20250819T130959Z
UID:10008163-1776351600-1776355200@www.uacdc.org
SUMMARY:Capoeira/Hip-Hop Dance for Adults  w/ Instructor Carrie
DESCRIPTION:Capoeira/Hip-Hop Dance for Adults w/ Instructor Carrie \nThursdays | 3pm – 4pm\nVictor Crist Community Center | 14013 N 22nd St\, Tampa FL 33613
URL:https://www.uacdc.org/event_general/capoeira-hip-hop-dance-for-adults-w-instructor-carrie/2026-04-16/
LOCATION:Victor Crist Community Center\, 14013 N 22nd Street\, Tampa\, FL\, 33613\, United States
CATEGORIES:Adult,Adult Classes,Education,Prodigy,Prodigy Moves
ATTACH;FMTTYPE=image/png:https://www.uacdc.org/wp-content/uploads/2025/04/Pro_dance_capoeira-hiphop.png
ORGANIZER;CN="Prodigy Moves!":MAILTO:jgreen@uacdc.org
END:VEVENT
BEGIN:VEVENT
DTSTART;TZID=America/New_York:20260416T150000
DTEND;TZID=America/New_York:20260416T163000
DTSTAMP:20260424T041601
CREATED:20250819T124608Z
LAST-MODIFIED:20250819T124608Z
UID:10018609-1776351600-1776357000@www.uacdc.org
SUMMARY:Guitar w/ Mr. Freddie (ages 5-9)
DESCRIPTION:Guitar w/ Mr. Freddie – Prodigy® Tampa I (ages 5-9) \nTuesdays & Thursday | 3pm – 4:30pm\nVictor Crist Community Center | 14013 N 22nd St\, Tampa FL 33613 \nFor more info\, contact Bryan at bmartinez@uacdc.org (English). Registration applications can also be found at www.uacdc.org/prodigyregistration. \n 
URL:https://www.uacdc.org/event_general/guitar-w-mr-freddie-ages-5-9-3/2026-04-16/
LOCATION:Victor Crist Community Center\, 14013 N 22nd Street\, Tampa\, FL\, 33613\, United States
CATEGORIES:Education,Prodigy,Youth,Youth Classes
ATTACH;FMTTYPE=image/png:https://www.uacdc.org/wp-content/uploads/2025/06/Pro_guitar_summer.png
ORGANIZER;CN="Prodigy - Tampa I":MAILTO:bmartinez@uacdc.org
END:VEVENT
BEGIN:VEVENT
DTSTART;TZID=America/New_York:20260416T160000
DTEND;TZID=America/New_York:20260416T173000
DTSTAMP:20260424T041601
CREATED:20250819T125347Z
LAST-MODIFIED:20250819T125347Z
UID:10019682-1776355200-1776360600@www.uacdc.org
SUMMARY:Dance Class w/ Ms. Carrie (ages 5-9)
DESCRIPTION:Dance Class w/ Ms. Carrie – Prodigy® Tampa I (ages 5-9) \nTuesdays & Thursday | 4pm – 5:30pm\nVictor Crist Community Center | 14013 N 22nd St\, Tampa FL 33613 \nFor more info\, contact Bryan at bmartinez@uacdc.org (English). Registration applications can also be found at www.uacdc.org/prodigyregistration.
URL:https://www.uacdc.org/event_general/dance-class-w-ms-carrie-ages-5-9-2/2026-04-16/
LOCATION:Victor Crist Community Center\, 14013 N 22nd Street\, Tampa\, FL\, 33613\, United States
CATEGORIES:Education,Prodigy,Youth,Youth Classes
ATTACH;FMTTYPE=image/png:https://www.uacdc.org/wp-content/uploads/2025/08/Pro_dance01-F25.png
ORGANIZER;CN="Prodigy - Tampa I":MAILTO:bmartinez@uacdc.org
END:VEVENT
BEGIN:VEVENT
DTSTART;TZID=America/New_York:20260416T160000
DTEND;TZID=America/New_York:20260416T190000
DTSTAMP:20260424T041601
CREATED:20250819T125102Z
LAST-MODIFIED:20260122T173844Z
UID:10021934-1776355200-1776366000@www.uacdc.org
SUMMARY:Painting w/ Mr. Junior (ages 10-13 & 14-17)
DESCRIPTION:Painting w/ Mr. Junior – Prodigy® Tampa I\n(ages 10-13 & 14-17) \nTuesday & Thursday | 4pm – 7pm\nVictor Crist Community Center | 14013 N 22nd St\, Tampa FL 33613 \nFor more info\, contact Bryan at bmartinez@uacdc.org (English). Registration applications can also be found at www.uacdc.org/prodigyregistration.
URL:https://www.uacdc.org/event_general/painting-w-mr-junior-ages-10-13-14-17-3/2026-04-16/
LOCATION:Victor Crist Community Center\, 14013 N 22nd Street\, Tampa\, FL\, 33613\, United States
CATEGORIES:Education,Prodigy,Youth,Youth Classes
ATTACH;FMTTYPE=image/png:https://www.uacdc.org/wp-content/uploads/2025/08/Pro_Art_teen01-F25.png
ORGANIZER;CN="Prodigy - Tampa I":MAILTO:bmartinez@uacdc.org
END:VEVENT
BEGIN:VEVENT
DTSTART;TZID=America/New_York:20260416T170000
DTEND;TZID=America/New_York:20260416T183000
DTSTAMP:20260424T041601
CREATED:20250819T124808Z
LAST-MODIFIED:20250819T130319Z
UID:10020364-1776358800-1776364200@www.uacdc.org
SUMMARY:Guitar w/ Mr. Freddie (ages 10-13 & 14-17)
DESCRIPTION:Guitar w/ Mr. Freddie – Prodigy® Tampa I (ages 10-13 & 14-17) \nTuesdays & Thursday | 5pm – 6:30pm\nVictor Crist Community Center | 14013 N 22nd St\, Tampa FL 33613 \nFor more info\, contact Bryan at bmartinez@uacdc.org (English). Registration applications can also be found at www.uacdc.org/prodigyregistration. \n 
URL:https://www.uacdc.org/event_general/guitar-w-mr-freddie-ages-10-13-14-17-3/2026-04-16/
LOCATION:Victor Crist Community Center\, 14013 N 22nd Street\, Tampa\, FL\, 33613\, United States
CATEGORIES:Education,Prodigy,Youth,Youth Classes
ATTACH;FMTTYPE=image/png:https://www.uacdc.org/wp-content/uploads/2025/08/Pro_gutiar_teen2-F25.png
ORGANIZER;CN="Prodigy - Tampa I":MAILTO:bmartinez@uacdc.org
END:VEVENT
BEGIN:VEVENT
DTSTART;TZID=America/New_York:20260416T180000
DTEND;TZID=America/New_York:20260416T190000
DTSTAMP:20260424T041601
CREATED:20250424T135842Z
LAST-MODIFIED:20250801T183006Z
UID:10013839-1776362400-1776366000@www.uacdc.org
SUMMARY:Thursday Harvest - Join us for a free\, hot meal.
DESCRIPTION:THURSDAY HARVEST\nDinner and good vibes are on us!\nJoin us every Thursday for a free\, hot meal.\nFLYER \nEvery Thursday | 6:00 – 7:00 PM\nAt Harvest Hope Park | 13704 N 20th St\, Tampa\, FL 33613
URL:https://www.uacdc.org/event_general/thursday-harvest/2026-04-16/
LOCATION:Harvest Hope Park\, 13704 N 20th St\, Tampa\, FL\, 33613\, United States
CATEGORIES:Families,Family Special Events,Food Distribution,Outreach
ATTACH;FMTTYPE=image/png:https://www.uacdc.org/wp-content/uploads/2025/04/Thursday-Harvest.png
ORGANIZER;CN="UACDC Community Engagement":MAILTO:sroman@uacdc.org
END:VEVENT
BEGIN:VEVENT
DTSTART;TZID=America/New_York:20260416T180000
DTEND;TZID=America/New_York:20260416T190000
DTSTAMP:20260424T041601
CREATED:20250801T184044Z
LAST-MODIFIED:20250801T184044Z
UID:10018076-1776362400-1776366000@www.uacdc.org
SUMMARY:Thursday Harvest - Acompáñanos todos los jueves para recibir una comida caliente y GRATIS.
DESCRIPTION:THURSDAY HARVEST\n¡La cena y las buenas vibras corren por nuestra cuenta!\nAcompáñanos todos los jueves para recibir una comida caliente y GRATIS.\nFLYER \n \n\n6:00 – 7:00 PM\nNo se requiere registro ni identificación.\nLas comidas se ofrecen por orden de llegada. \n\nArtículos adicionales se distribuirán según disponibilidad:\nHarvest Hope Park | 13704 N 20th St\, Tampa\, FL 33613
URL:https://www.uacdc.org/event_general/thursday-harvest-acompananos-todos-los-jueves-para-recibir-una-comida-caliente-y-gratis/2026-04-16/
LOCATION:Harvest Hope Park\, 13704 N 20th St\, Tampa\, FL\, 33613\, United States
CATEGORIES:Families,Family Special Events,Food Distribution,Outreach
ATTACH;FMTTYPE=image/png:https://www.uacdc.org/wp-content/uploads/2025/06/Thursday-Harvest-SPAN.png
ORGANIZER;CN="UACDC Community Engagement":MAILTO:sroman@uacdc.org
END:VEVENT
BEGIN:VEVENT
DTSTART;TZID=America/New_York:20260416T180000
DTEND;TZID=America/New_York:20260416T193000
DTSTAMP:20260424T041601
CREATED:20250819T125717Z
LAST-MODIFIED:20250819T125717Z
UID:10019800-1776362400-1776367800@www.uacdc.org
SUMMARY:Dance Class w/ Ms. Carrie (ages 10-13 & 14-17)
DESCRIPTION:Dance Class w/ Ms. Carrie – Prodigy® Tampa I (ages 10-13 & 14-17) \nTuesdays & Thursday | 6pm – 7:30pm\nVictor Crist Community Center | 14013 N 22nd St\, Tampa FL 33613 \nFor more info\, contact Bryan at bmartinez@uacdc.org (English). Registration applications can also be found at www.uacdc.org/prodigyregistration.
URL:https://www.uacdc.org/event_general/dance-class-w-ms-carrie-ages-10-13-14-17-2/2026-04-16/
LOCATION:Victor Crist Community Center\, 14013 N 22nd Street\, Tampa\, FL\, 33613\, United States
CATEGORIES:Education,Prodigy,Youth,Youth Classes
ATTACH;FMTTYPE=image/png:https://www.uacdc.org/wp-content/uploads/2025/08/Pro_dance_teen-F25.png
ORGANIZER;CN="Prodigy - Tampa I":MAILTO:bmartinez@uacdc.org
END:VEVENT
BEGIN:VEVENT
DTSTART;TZID=America/New_York:20260417T164500
DTEND;TZID=America/New_York:20260417T194500
DTSTAMP:20260424T041601
CREATED:20250819T130216Z
LAST-MODIFIED:20250912T181149Z
UID:10020990-1776444300-1776455100@www.uacdc.org
SUMMARY:Visual Art Class for Teens (Advanced) w/ Ms. Vivian (ages 9-13 & 14-17)
DESCRIPTION:Visual Art Class for Teens (Advanced) w/ Ms. Vivian – Prodigy® Tampa I (ages 9-13 & 14-17) \nFriday | 4:45pm – 7:45pm\nVictor Crist Community Center | 14013 N 22nd St\, Tampa FL 33613 \nFor more info\, contact Bryan at bmartinez@uacdc.org (English). Registration applications can also be found at www.uacdc.org/prodigyregistration. \n 
URL:https://www.uacdc.org/event_general/visual-art-class-for-teens-advanced-w-ms-vivian-ages-9-13-14-17-2/2026-04-17/
LOCATION:Victor Crist Community Center\, 14013 N 22nd Street\, Tampa\, FL\, 33613\, United States
CATEGORIES:Education,Prodigy,Youth,Youth Classes
ATTACH;FMTTYPE=image/png:https://www.uacdc.org/wp-content/uploads/2025/08/Pro_Art_teen02-F25.png
ORGANIZER;CN="Prodigy - Tampa I":MAILTO:bmartinez@uacdc.org
END:VEVENT
END:VCALENDAR