BEGIN:VCALENDAR
VERSION:2.0
PRODID:-//UACDC - ECPv6.15.20//NONSGML v1.0//EN
CALSCALE:GREGORIAN
METHOD:PUBLISH
X-ORIGINAL-URL:https://www.uacdc.org
X-WR-CALDESC:Events for UACDC
REFRESH-INTERVAL;VALUE=DURATION:PT1H
X-Robots-Tag:noindex
X-PUBLISHED-TTL:PT1H
BEGIN:VTIMEZONE
TZID:UTC
BEGIN:STANDARD
TZOFFSETFROM:+0000
TZOFFSETTO:+0000
TZNAME:UTC
DTSTART:20220101T000000
END:STANDARD
END:VTIMEZONE
BEGIN:VEVENT
DTSTART;TZID=UTC:20260119T160000
DTEND;TZID=UTC:20260119T180000
DTSTAMP:20260423T030050
CREATED:20260122T171653Z
LAST-MODIFIED:20260122T171723Z
UID:10018004-1768838400-1768845600@www.uacdc.org
SUMMARY:Swim Lessons - Youth
DESCRIPTION:Youth Swim Lessons (Get Moving) \nFLYER \nAges: 7 – 14 \nNew Tampa Family YMCA :16221 Compton Dr.\, Tampa\, FL 33647\nMONDAYS  4:00pm – 6:00pm \nFree swim lessons at the YMCA! Spots are limited\, so it is recommended to sign up for this course ahead of time. For children ages 7-14. Current School Sports Physical and Application required before participation. \nGet Moving! is a community-based program. If you are interested in participating or have any questions\, please contact Devin Curry at 813.455.0202 | dcurry@uacdc.org.
URL:https://www.uacdc.org/event_general/swim-lessons-youth-2/
LOCATION:New Tampa Family YMCA\, 16221 Compton Dr.\, Tampa\, FL\, 33647\, United States
CATEGORIES:Get Moving,Youth,Youth Classes,Youth Sports
ATTACH;FMTTYPE=image/png:https://www.uacdc.org/wp-content/uploads/2025/06/GM_swim_YMCA_summer.png
ORGANIZER;CN="Get Moving! Program":MAILTO:roliver@uacdc.org
END:VEVENT
BEGIN:VEVENT
DTSTART;TZID=UTC:20250728T140000
DTEND;TZID=UTC:20250728T160000
DTSTAMP:20260423T030050
CREATED:20250701T182226Z
LAST-MODIFIED:20250701T182226Z
UID:10018003-1753711200-1753718400@www.uacdc.org
SUMMARY:Swim Lessons - Youth
DESCRIPTION:Youth Swim Lessons (Get Moving) \nFLYER \nAges: 7 – 14 \nNew Tampa Family YMCA :16221 Compton Dr.\, Tampa\, FL 33647\nTime: 2:00pm – 4:00pm \nFree swim lessons at the YMCA! Spots are limited\, so it is recommended to sign up for this course ahead of time. For children ages 7-14. Current School Sports Physical and Application required before participation. \nGet Moving! is a community-based program. If you are interested in participating or have any questions\, please contact Devin Curry at 813.455.0202 | dcurry@uacdc.org.
URL:https://www.uacdc.org/event_general/swim-lessons-youth/2025-07-28/
LOCATION:New Tampa Family YMCA\, 16221 Compton Dr.\, Tampa\, FL\, 33647\, United States
CATEGORIES:Get Moving,Youth,Youth Classes,Youth Sports
ATTACH;FMTTYPE=image/png:https://www.uacdc.org/wp-content/uploads/2025/06/GM_swim_YMCA_summer.png
ORGANIZER;CN="Get Moving! Program":MAILTO:roliver@uacdc.org
END:VEVENT
BEGIN:VEVENT
DTSTART;TZID=UTC:20250716T140000
DTEND;TZID=UTC:20250716T160000
DTSTAMP:20260423T030050
CREATED:20250701T182226Z
LAST-MODIFIED:20250701T182226Z
UID:10018002-1752674400-1752681600@www.uacdc.org
SUMMARY:Swim Lessons - Youth
DESCRIPTION:Youth Swim Lessons (Get Moving) \nFLYER \nAges: 7 – 14 \nNew Tampa Family YMCA :16221 Compton Dr.\, Tampa\, FL 33647\nTime: 2:00pm – 4:00pm \nFree swim lessons at the YMCA! Spots are limited\, so it is recommended to sign up for this course ahead of time. For children ages 7-14. Current School Sports Physical and Application required before participation. \nGet Moving! is a community-based program. If you are interested in participating or have any questions\, please contact Devin Curry at 813.455.0202 | dcurry@uacdc.org.
URL:https://www.uacdc.org/event_general/swim-lessons-youth/2025-07-16/
LOCATION:New Tampa Family YMCA\, 16221 Compton Dr.\, Tampa\, FL\, 33647\, United States
CATEGORIES:Get Moving,Youth,Youth Classes,Youth Sports
ATTACH;FMTTYPE=image/png:https://www.uacdc.org/wp-content/uploads/2025/06/GM_swim_YMCA_summer.png
ORGANIZER;CN="Get Moving! Program":MAILTO:roliver@uacdc.org
END:VEVENT
BEGIN:VEVENT
DTSTART;TZID=UTC:20250714T140000
DTEND;TZID=UTC:20250714T160000
DTSTAMP:20260423T030050
CREATED:20250701T182226Z
LAST-MODIFIED:20250701T182226Z
UID:10018001-1752501600-1752508800@www.uacdc.org
SUMMARY:Swim Lessons - Youth
DESCRIPTION:Youth Swim Lessons (Get Moving) \nFLYER \nAges: 7 – 14 \nNew Tampa Family YMCA :16221 Compton Dr.\, Tampa\, FL 33647\nTime: 2:00pm – 4:00pm \nFree swim lessons at the YMCA! Spots are limited\, so it is recommended to sign up for this course ahead of time. For children ages 7-14. Current School Sports Physical and Application required before participation. \nGet Moving! is a community-based program. If you are interested in participating or have any questions\, please contact Devin Curry at 813.455.0202 | dcurry@uacdc.org.
URL:https://www.uacdc.org/event_general/swim-lessons-youth/2025-07-14/
LOCATION:New Tampa Family YMCA\, 16221 Compton Dr.\, Tampa\, FL\, 33647\, United States
CATEGORIES:Get Moving,Youth,Youth Classes,Youth Sports
ATTACH;FMTTYPE=image/png:https://www.uacdc.org/wp-content/uploads/2025/06/GM_swim_YMCA_summer.png
ORGANIZER;CN="Get Moving! Program":MAILTO:roliver@uacdc.org
END:VEVENT
BEGIN:VEVENT
DTSTART;TZID=UTC:20250702T140000
DTEND;TZID=UTC:20250702T160000
DTSTAMP:20260423T030050
CREATED:20250701T182226Z
LAST-MODIFIED:20250701T182226Z
UID:10018000-1751464800-1751472000@www.uacdc.org
SUMMARY:Swim Lessons - Youth
DESCRIPTION:Youth Swim Lessons (Get Moving) \nFLYER \nAges: 7 – 14 \nNew Tampa Family YMCA :16221 Compton Dr.\, Tampa\, FL 33647\nTime: 2:00pm – 4:00pm \nFree swim lessons at the YMCA! Spots are limited\, so it is recommended to sign up for this course ahead of time. For children ages 7-14. Current School Sports Physical and Application required before participation. \nGet Moving! is a community-based program. If you are interested in participating or have any questions\, please contact Devin Curry at 813.455.0202 | dcurry@uacdc.org.
URL:https://www.uacdc.org/event_general/swim-lessons-youth/2025-07-02/
LOCATION:New Tampa Family YMCA\, 16221 Compton Dr.\, Tampa\, FL\, 33647\, United States
CATEGORIES:Get Moving,Youth,Youth Classes,Youth Sports
ATTACH;FMTTYPE=image/png:https://www.uacdc.org/wp-content/uploads/2025/06/GM_swim_YMCA_summer.png
ORGANIZER;CN="Get Moving! Program":MAILTO:roliver@uacdc.org
END:VEVENT
BEGIN:VEVENT
DTSTART;TZID=UTC:20250630T140000
DTEND;TZID=UTC:20250630T160000
DTSTAMP:20260423T030050
CREATED:20250701T182226Z
LAST-MODIFIED:20250701T182226Z
UID:10017999-1751292000-1751299200@www.uacdc.org
SUMMARY:Swim Lessons - Youth
DESCRIPTION:Youth Swim Lessons (Get Moving) \nFLYER \nAges: 7 – 14 \nNew Tampa Family YMCA :16221 Compton Dr.\, Tampa\, FL 33647\nTime: 2:00pm – 4:00pm \nFree swim lessons at the YMCA! Spots are limited\, so it is recommended to sign up for this course ahead of time. For children ages 7-14. Current School Sports Physical and Application required before participation. \nGet Moving! is a community-based program. If you are interested in participating or have any questions\, please contact Devin Curry at 813.455.0202 | dcurry@uacdc.org.
URL:https://www.uacdc.org/event_general/swim-lessons-youth/2025-06-30/
LOCATION:New Tampa Family YMCA\, 16221 Compton Dr.\, Tampa\, FL\, 33647\, United States
CATEGORIES:Get Moving,Youth,Youth Classes,Youth Sports
ATTACH;FMTTYPE=image/png:https://www.uacdc.org/wp-content/uploads/2025/06/GM_swim_YMCA_summer.png
ORGANIZER;CN="Get Moving! Program":MAILTO:roliver@uacdc.org
END:VEVENT
BEGIN:VEVENT
DTSTART;TZID=UTC:20231213T160000
DTEND;TZID=UTC:20231213T180000
DTSTAMP:20260423T030050
CREATED:20230829T204822Z
LAST-MODIFIED:20231214T232618Z
UID:10001926-1702483200-1702490400@www.uacdc.org
SUMMARY:Youth Swim Lessons
DESCRIPTION:GET MOVING – Youth Swim Lessons (Get Moving) \nAges: 7 – 14 \nNew Tampa F amily YMCA :16221 Compton Dr.\, Tampa\, FL 33647\nTime: 9:00am – 11:00 am \nFree swim lessons at the YMCA! Spots are limited\, so it is recommended to sign up for this course ahead of time. For children ages7-14. Current School Sports Physical and Application required before participation. \nGet Moving! is a community-based program. If you are interested in participating or have any questions\, please contact Ronnie Oliver\, Health & Wellness Coordinator\, at (813) 558-1149 or roliver@uacdc.org.
URL:https://www.uacdc.org/event_general/youth-swim-lessons-new-tampa-ymca/2023-12-13/
LOCATION:New Tampa Family YMCA\, 16221 Compton Dr.\, Tampa\, FL\, 33647\, United States
CATEGORIES:Get Moving,Youth,Youth Classes,Youth Sports
ATTACH;FMTTYPE=image/png:https://www.uacdc.org/wp-content/uploads/2023/08/swim.png
ORGANIZER;CN="Get Moving! Program":MAILTO:roliver@uacdc.org
END:VEVENT
BEGIN:VEVENT
DTSTART;TZID=UTC:20231211T160000
DTEND;TZID=UTC:20231211T180000
DTSTAMP:20260423T030050
CREATED:20230829T204822Z
LAST-MODIFIED:20231214T232618Z
UID:10001925-1702310400-1702317600@www.uacdc.org
SUMMARY:Youth Swim Lessons
DESCRIPTION:GET MOVING – Youth Swim Lessons (Get Moving) \nAges: 7 – 14 \nNew Tampa F amily YMCA :16221 Compton Dr.\, Tampa\, FL 33647\nTime: 9:00am – 11:00 am \nFree swim lessons at the YMCA! Spots are limited\, so it is recommended to sign up for this course ahead of time. For children ages7-14. Current School Sports Physical and Application required before participation. \nGet Moving! is a community-based program. If you are interested in participating or have any questions\, please contact Ronnie Oliver\, Health & Wellness Coordinator\, at (813) 558-1149 or roliver@uacdc.org.
URL:https://www.uacdc.org/event_general/youth-swim-lessons-new-tampa-ymca/2023-12-11/
LOCATION:New Tampa Family YMCA\, 16221 Compton Dr.\, Tampa\, FL\, 33647\, United States
CATEGORIES:Get Moving,Youth,Youth Classes,Youth Sports
ATTACH;FMTTYPE=image/png:https://www.uacdc.org/wp-content/uploads/2023/08/swim.png
ORGANIZER;CN="Get Moving! Program":MAILTO:roliver@uacdc.org
END:VEVENT
BEGIN:VEVENT
DTSTART;TZID=UTC:20231129T160000
DTEND;TZID=UTC:20231129T180000
DTSTAMP:20260423T030050
CREATED:20230829T204822Z
LAST-MODIFIED:20231214T232618Z
UID:10001924-1701273600-1701280800@www.uacdc.org
SUMMARY:Youth Swim Lessons
DESCRIPTION:GET MOVING – Youth Swim Lessons (Get Moving) \nAges: 7 – 14 \nNew Tampa F amily YMCA :16221 Compton Dr.\, Tampa\, FL 33647\nTime: 9:00am – 11:00 am \nFree swim lessons at the YMCA! Spots are limited\, so it is recommended to sign up for this course ahead of time. For children ages7-14. Current School Sports Physical and Application required before participation. \nGet Moving! is a community-based program. If you are interested in participating or have any questions\, please contact Ronnie Oliver\, Health & Wellness Coordinator\, at (813) 558-1149 or roliver@uacdc.org.
URL:https://www.uacdc.org/event_general/youth-swim-lessons-new-tampa-ymca/2023-11-29/
LOCATION:New Tampa Family YMCA\, 16221 Compton Dr.\, Tampa\, FL\, 33647\, United States
CATEGORIES:Get Moving,Youth,Youth Classes,Youth Sports
ATTACH;FMTTYPE=image/png:https://www.uacdc.org/wp-content/uploads/2023/08/swim.png
ORGANIZER;CN="Get Moving! Program":MAILTO:roliver@uacdc.org
END:VEVENT
BEGIN:VEVENT
DTSTART;TZID=UTC:20231127T160000
DTEND;TZID=UTC:20231127T180000
DTSTAMP:20260423T030050
CREATED:20230829T204822Z
LAST-MODIFIED:20231214T232618Z
UID:10001923-1701100800-1701108000@www.uacdc.org
SUMMARY:Youth Swim Lessons
DESCRIPTION:GET MOVING – Youth Swim Lessons (Get Moving) \nAges: 7 – 14 \nNew Tampa F amily YMCA :16221 Compton Dr.\, Tampa\, FL 33647\nTime: 9:00am – 11:00 am \nFree swim lessons at the YMCA! Spots are limited\, so it is recommended to sign up for this course ahead of time. For children ages7-14. Current School Sports Physical and Application required before participation. \nGet Moving! is a community-based program. If you are interested in participating or have any questions\, please contact Ronnie Oliver\, Health & Wellness Coordinator\, at (813) 558-1149 or roliver@uacdc.org.
URL:https://www.uacdc.org/event_general/youth-swim-lessons-new-tampa-ymca/2023-11-27/
LOCATION:New Tampa Family YMCA\, 16221 Compton Dr.\, Tampa\, FL\, 33647\, United States
CATEGORIES:Get Moving,Youth,Youth Classes,Youth Sports
ATTACH;FMTTYPE=image/png:https://www.uacdc.org/wp-content/uploads/2023/08/swim.png
ORGANIZER;CN="Get Moving! Program":MAILTO:roliver@uacdc.org
END:VEVENT
BEGIN:VEVENT
DTSTART;TZID=UTC:20231115T160000
DTEND;TZID=UTC:20231115T180000
DTSTAMP:20260423T030050
CREATED:20230829T204822Z
LAST-MODIFIED:20231214T232618Z
UID:10001922-1700064000-1700071200@www.uacdc.org
SUMMARY:Youth Swim Lessons
DESCRIPTION:GET MOVING – Youth Swim Lessons (Get Moving) \nAges: 7 – 14 \nNew Tampa F amily YMCA :16221 Compton Dr.\, Tampa\, FL 33647\nTime: 9:00am – 11:00 am \nFree swim lessons at the YMCA! Spots are limited\, so it is recommended to sign up for this course ahead of time. For children ages7-14. Current School Sports Physical and Application required before participation. \nGet Moving! is a community-based program. If you are interested in participating or have any questions\, please contact Ronnie Oliver\, Health & Wellness Coordinator\, at (813) 558-1149 or roliver@uacdc.org.
URL:https://www.uacdc.org/event_general/youth-swim-lessons-new-tampa-ymca/2023-11-15/
LOCATION:New Tampa Family YMCA\, 16221 Compton Dr.\, Tampa\, FL\, 33647\, United States
CATEGORIES:Get Moving,Youth,Youth Classes,Youth Sports
ATTACH;FMTTYPE=image/png:https://www.uacdc.org/wp-content/uploads/2023/08/swim.png
ORGANIZER;CN="Get Moving! Program":MAILTO:roliver@uacdc.org
END:VEVENT
BEGIN:VEVENT
DTSTART;TZID=UTC:20231113T160000
DTEND;TZID=UTC:20231113T180000
DTSTAMP:20260423T030050
CREATED:20230829T204822Z
LAST-MODIFIED:20231214T232618Z
UID:10001921-1699891200-1699898400@www.uacdc.org
SUMMARY:Youth Swim Lessons
DESCRIPTION:GET MOVING – Youth Swim Lessons (Get Moving) \nAges: 7 – 14 \nNew Tampa F amily YMCA :16221 Compton Dr.\, Tampa\, FL 33647\nTime: 9:00am – 11:00 am \nFree swim lessons at the YMCA! Spots are limited\, so it is recommended to sign up for this course ahead of time. For children ages7-14. Current School Sports Physical and Application required before participation. \nGet Moving! is a community-based program. If you are interested in participating or have any questions\, please contact Ronnie Oliver\, Health & Wellness Coordinator\, at (813) 558-1149 or roliver@uacdc.org.
URL:https://www.uacdc.org/event_general/youth-swim-lessons-new-tampa-ymca/2023-11-13/
LOCATION:New Tampa Family YMCA\, 16221 Compton Dr.\, Tampa\, FL\, 33647\, United States
CATEGORIES:Get Moving,Youth,Youth Classes,Youth Sports
ATTACH;FMTTYPE=image/png:https://www.uacdc.org/wp-content/uploads/2023/08/swim.png
ORGANIZER;CN="Get Moving! Program":MAILTO:roliver@uacdc.org
END:VEVENT
BEGIN:VEVENT
DTSTART;TZID=UTC:20231101T160000
DTEND;TZID=UTC:20231101T180000
DTSTAMP:20260423T030050
CREATED:20230829T204822Z
LAST-MODIFIED:20231214T232618Z
UID:10001920-1698854400-1698861600@www.uacdc.org
SUMMARY:Youth Swim Lessons
DESCRIPTION:GET MOVING – Youth Swim Lessons (Get Moving) \nAges: 7 – 14 \nNew Tampa F amily YMCA :16221 Compton Dr.\, Tampa\, FL 33647\nTime: 9:00am – 11:00 am \nFree swim lessons at the YMCA! Spots are limited\, so it is recommended to sign up for this course ahead of time. For children ages7-14. Current School Sports Physical and Application required before participation. \nGet Moving! is a community-based program. If you are interested in participating or have any questions\, please contact Ronnie Oliver\, Health & Wellness Coordinator\, at (813) 558-1149 or roliver@uacdc.org.
URL:https://www.uacdc.org/event_general/youth-swim-lessons-new-tampa-ymca/2023-11-01/
LOCATION:New Tampa Family YMCA\, 16221 Compton Dr.\, Tampa\, FL\, 33647\, United States
CATEGORIES:Get Moving,Youth,Youth Classes,Youth Sports
ATTACH;FMTTYPE=image/png:https://www.uacdc.org/wp-content/uploads/2023/08/swim.png
ORGANIZER;CN="Get Moving! Program":MAILTO:roliver@uacdc.org
END:VEVENT
BEGIN:VEVENT
DTSTART;TZID=UTC:20231030T160000
DTEND;TZID=UTC:20231030T180000
DTSTAMP:20260423T030050
CREATED:20230829T204822Z
LAST-MODIFIED:20231214T232618Z
UID:10001919-1698681600-1698688800@www.uacdc.org
SUMMARY:Youth Swim Lessons
DESCRIPTION:GET MOVING – Youth Swim Lessons (Get Moving) \nAges: 7 – 14 \nNew Tampa F amily YMCA :16221 Compton Dr.\, Tampa\, FL 33647\nTime: 9:00am – 11:00 am \nFree swim lessons at the YMCA! Spots are limited\, so it is recommended to sign up for this course ahead of time. For children ages7-14. Current School Sports Physical and Application required before participation. \nGet Moving! is a community-based program. If you are interested in participating or have any questions\, please contact Ronnie Oliver\, Health & Wellness Coordinator\, at (813) 558-1149 or roliver@uacdc.org.
URL:https://www.uacdc.org/event_general/youth-swim-lessons-new-tampa-ymca/2023-10-30/
LOCATION:New Tampa Family YMCA\, 16221 Compton Dr.\, Tampa\, FL\, 33647\, United States
CATEGORIES:Get Moving,Youth,Youth Classes,Youth Sports
ATTACH;FMTTYPE=image/png:https://www.uacdc.org/wp-content/uploads/2023/08/swim.png
ORGANIZER;CN="Get Moving! Program":MAILTO:roliver@uacdc.org
END:VEVENT
BEGIN:VEVENT
DTSTART;TZID=UTC:20231018T160000
DTEND;TZID=UTC:20231018T180000
DTSTAMP:20260423T030050
CREATED:20230829T204822Z
LAST-MODIFIED:20231214T232618Z
UID:10001918-1697644800-1697652000@www.uacdc.org
SUMMARY:Youth Swim Lessons
DESCRIPTION:GET MOVING – Youth Swim Lessons (Get Moving) \nAges: 7 – 14 \nNew Tampa F amily YMCA :16221 Compton Dr.\, Tampa\, FL 33647\nTime: 9:00am – 11:00 am \nFree swim lessons at the YMCA! Spots are limited\, so it is recommended to sign up for this course ahead of time. For children ages7-14. Current School Sports Physical and Application required before participation. \nGet Moving! is a community-based program. If you are interested in participating or have any questions\, please contact Ronnie Oliver\, Health & Wellness Coordinator\, at (813) 558-1149 or roliver@uacdc.org.
URL:https://www.uacdc.org/event_general/youth-swim-lessons-new-tampa-ymca/2023-10-18/
LOCATION:New Tampa Family YMCA\, 16221 Compton Dr.\, Tampa\, FL\, 33647\, United States
CATEGORIES:Get Moving,Youth,Youth Classes,Youth Sports
ATTACH;FMTTYPE=image/png:https://www.uacdc.org/wp-content/uploads/2023/08/swim.png
ORGANIZER;CN="Get Moving! Program":MAILTO:roliver@uacdc.org
END:VEVENT
BEGIN:VEVENT
DTSTART;TZID=UTC:20231016T160000
DTEND;TZID=UTC:20231016T180000
DTSTAMP:20260423T030050
CREATED:20230829T204822Z
LAST-MODIFIED:20231214T232618Z
UID:10001917-1697472000-1697479200@www.uacdc.org
SUMMARY:Youth Swim Lessons
DESCRIPTION:GET MOVING – Youth Swim Lessons (Get Moving) \nAges: 7 – 14 \nNew Tampa F amily YMCA :16221 Compton Dr.\, Tampa\, FL 33647\nTime: 9:00am – 11:00 am \nFree swim lessons at the YMCA! Spots are limited\, so it is recommended to sign up for this course ahead of time. For children ages7-14. Current School Sports Physical and Application required before participation. \nGet Moving! is a community-based program. If you are interested in participating or have any questions\, please contact Ronnie Oliver\, Health & Wellness Coordinator\, at (813) 558-1149 or roliver@uacdc.org.
URL:https://www.uacdc.org/event_general/youth-swim-lessons-new-tampa-ymca/2023-10-16/
LOCATION:New Tampa Family YMCA\, 16221 Compton Dr.\, Tampa\, FL\, 33647\, United States
CATEGORIES:Get Moving,Youth,Youth Classes,Youth Sports
ATTACH;FMTTYPE=image/png:https://www.uacdc.org/wp-content/uploads/2023/08/swim.png
ORGANIZER;CN="Get Moving! Program":MAILTO:roliver@uacdc.org
END:VEVENT
BEGIN:VEVENT
DTSTART;TZID=UTC:20231004T160000
DTEND;TZID=UTC:20231004T180000
DTSTAMP:20260423T030050
CREATED:20230829T204822Z
LAST-MODIFIED:20231214T232618Z
UID:10001916-1696435200-1696442400@www.uacdc.org
SUMMARY:Youth Swim Lessons
DESCRIPTION:GET MOVING – Youth Swim Lessons (Get Moving) \nAges: 7 – 14 \nNew Tampa F amily YMCA :16221 Compton Dr.\, Tampa\, FL 33647\nTime: 9:00am – 11:00 am \nFree swim lessons at the YMCA! Spots are limited\, so it is recommended to sign up for this course ahead of time. For children ages7-14. Current School Sports Physical and Application required before participation. \nGet Moving! is a community-based program. If you are interested in participating or have any questions\, please contact Ronnie Oliver\, Health & Wellness Coordinator\, at (813) 558-1149 or roliver@uacdc.org.
URL:https://www.uacdc.org/event_general/youth-swim-lessons-new-tampa-ymca/2023-10-04/
LOCATION:New Tampa Family YMCA\, 16221 Compton Dr.\, Tampa\, FL\, 33647\, United States
CATEGORIES:Get Moving,Youth,Youth Classes,Youth Sports
ATTACH;FMTTYPE=image/png:https://www.uacdc.org/wp-content/uploads/2023/08/swim.png
ORGANIZER;CN="Get Moving! Program":MAILTO:roliver@uacdc.org
END:VEVENT
BEGIN:VEVENT
DTSTART;TZID=UTC:20231002T160000
DTEND;TZID=UTC:20231002T180000
DTSTAMP:20260423T030050
CREATED:20230829T204822Z
LAST-MODIFIED:20231214T232618Z
UID:10001915-1696262400-1696269600@www.uacdc.org
SUMMARY:Youth Swim Lessons
DESCRIPTION:GET MOVING – Youth Swim Lessons (Get Moving) \nAges: 7 – 14 \nNew Tampa F amily YMCA :16221 Compton Dr.\, Tampa\, FL 33647\nTime: 9:00am – 11:00 am \nFree swim lessons at the YMCA! Spots are limited\, so it is recommended to sign up for this course ahead of time. For children ages7-14. Current School Sports Physical and Application required before participation. \nGet Moving! is a community-based program. If you are interested in participating or have any questions\, please contact Ronnie Oliver\, Health & Wellness Coordinator\, at (813) 558-1149 or roliver@uacdc.org.
URL:https://www.uacdc.org/event_general/youth-swim-lessons-new-tampa-ymca/2023-10-02/
LOCATION:New Tampa Family YMCA\, 16221 Compton Dr.\, Tampa\, FL\, 33647\, United States
CATEGORIES:Get Moving,Youth,Youth Classes,Youth Sports
ATTACH;FMTTYPE=image/png:https://www.uacdc.org/wp-content/uploads/2023/08/swim.png
ORGANIZER;CN="Get Moving! Program":MAILTO:roliver@uacdc.org
END:VEVENT
BEGIN:VEVENT
DTSTART;TZID=UTC:20230920T160000
DTEND;TZID=UTC:20230920T180000
DTSTAMP:20260423T030050
CREATED:20230829T204822Z
LAST-MODIFIED:20231214T232618Z
UID:10001914-1695225600-1695232800@www.uacdc.org
SUMMARY:Youth Swim Lessons
DESCRIPTION:GET MOVING – Youth Swim Lessons (Get Moving) \nAges: 7 – 14 \nNew Tampa F amily YMCA :16221 Compton Dr.\, Tampa\, FL 33647\nTime: 9:00am – 11:00 am \nFree swim lessons at the YMCA! Spots are limited\, so it is recommended to sign up for this course ahead of time. For children ages7-14. Current School Sports Physical and Application required before participation. \nGet Moving! is a community-based program. If you are interested in participating or have any questions\, please contact Ronnie Oliver\, Health & Wellness Coordinator\, at (813) 558-1149 or roliver@uacdc.org.
URL:https://www.uacdc.org/event_general/youth-swim-lessons-new-tampa-ymca/2023-09-20/
LOCATION:New Tampa Family YMCA\, 16221 Compton Dr.\, Tampa\, FL\, 33647\, United States
CATEGORIES:Get Moving,Youth,Youth Classes,Youth Sports
ATTACH;FMTTYPE=image/png:https://www.uacdc.org/wp-content/uploads/2023/08/swim.png
ORGANIZER;CN="Get Moving! Program":MAILTO:roliver@uacdc.org
END:VEVENT
BEGIN:VEVENT
DTSTART;TZID=UTC:20230918T160000
DTEND;TZID=UTC:20230918T180000
DTSTAMP:20260423T030050
CREATED:20230829T204822Z
LAST-MODIFIED:20231214T232618Z
UID:10001913-1695052800-1695060000@www.uacdc.org
SUMMARY:Youth Swim Lessons
DESCRIPTION:GET MOVING – Youth Swim Lessons (Get Moving) \nAges: 7 – 14 \nNew Tampa F amily YMCA :16221 Compton Dr.\, Tampa\, FL 33647\nTime: 9:00am – 11:00 am \nFree swim lessons at the YMCA! Spots are limited\, so it is recommended to sign up for this course ahead of time. For children ages7-14. Current School Sports Physical and Application required before participation. \nGet Moving! is a community-based program. If you are interested in participating or have any questions\, please contact Ronnie Oliver\, Health & Wellness Coordinator\, at (813) 558-1149 or roliver@uacdc.org.
URL:https://www.uacdc.org/event_general/youth-swim-lessons-new-tampa-ymca/2023-09-18/
LOCATION:New Tampa Family YMCA\, 16221 Compton Dr.\, Tampa\, FL\, 33647\, United States
CATEGORIES:Get Moving,Youth,Youth Classes,Youth Sports
ATTACH;FMTTYPE=image/png:https://www.uacdc.org/wp-content/uploads/2023/08/swim.png
ORGANIZER;CN="Get Moving! Program":MAILTO:roliver@uacdc.org
END:VEVENT
BEGIN:VEVENT
DTSTART;TZID=UTC:20230906T160000
DTEND;TZID=UTC:20230906T180000
DTSTAMP:20260423T030050
CREATED:20230829T204822Z
LAST-MODIFIED:20231214T232618Z
UID:10001912-1694016000-1694023200@www.uacdc.org
SUMMARY:Youth Swim Lessons
DESCRIPTION:GET MOVING – Youth Swim Lessons (Get Moving) \nAges: 7 – 14 \nNew Tampa F amily YMCA :16221 Compton Dr.\, Tampa\, FL 33647\nTime: 9:00am – 11:00 am \nFree swim lessons at the YMCA! Spots are limited\, so it is recommended to sign up for this course ahead of time. For children ages7-14. Current School Sports Physical and Application required before participation. \nGet Moving! is a community-based program. If you are interested in participating or have any questions\, please contact Ronnie Oliver\, Health & Wellness Coordinator\, at (813) 558-1149 or roliver@uacdc.org.
URL:https://www.uacdc.org/event_general/youth-swim-lessons-new-tampa-ymca/2023-09-06/
LOCATION:New Tampa Family YMCA\, 16221 Compton Dr.\, Tampa\, FL\, 33647\, United States
CATEGORIES:Get Moving,Youth,Youth Classes,Youth Sports
ATTACH;FMTTYPE=image/png:https://www.uacdc.org/wp-content/uploads/2023/08/swim.png
ORGANIZER;CN="Get Moving! Program":MAILTO:roliver@uacdc.org
END:VEVENT
BEGIN:VEVENT
DTSTART;TZID=UTC:20230904T160000
DTEND;TZID=UTC:20230904T180000
DTSTAMP:20260423T030050
CREATED:20230829T204822Z
LAST-MODIFIED:20231214T232618Z
UID:10001911-1693843200-1693850400@www.uacdc.org
SUMMARY:Youth Swim Lessons
DESCRIPTION:GET MOVING – Youth Swim Lessons (Get Moving) \nAges: 7 – 14 \nNew Tampa F amily YMCA :16221 Compton Dr.\, Tampa\, FL 33647\nTime: 9:00am – 11:00 am \nFree swim lessons at the YMCA! Spots are limited\, so it is recommended to sign up for this course ahead of time. For children ages7-14. Current School Sports Physical and Application required before participation. \nGet Moving! is a community-based program. If you are interested in participating or have any questions\, please contact Ronnie Oliver\, Health & Wellness Coordinator\, at (813) 558-1149 or roliver@uacdc.org.
URL:https://www.uacdc.org/event_general/youth-swim-lessons-new-tampa-ymca/2023-09-04/
LOCATION:New Tampa Family YMCA\, 16221 Compton Dr.\, Tampa\, FL\, 33647\, United States
CATEGORIES:Get Moving,Youth,Youth Classes,Youth Sports
ATTACH;FMTTYPE=image/png:https://www.uacdc.org/wp-content/uploads/2023/08/swim.png
ORGANIZER;CN="Get Moving! Program":MAILTO:roliver@uacdc.org
END:VEVENT
END:VCALENDAR