BEGIN:VCALENDAR
VERSION:2.0
PRODID:-//UACDC - ECPv6.15.20//NONSGML v1.0//EN
CALSCALE:GREGORIAN
METHOD:PUBLISH
X-ORIGINAL-URL:https://www.uacdc.org
X-WR-CALDESC:Events for UACDC
REFRESH-INTERVAL;VALUE=DURATION:PT1H
X-Robots-Tag:noindex
X-PUBLISHED-TTL:PT1H
BEGIN:VTIMEZONE
TZID:UTC
BEGIN:STANDARD
TZOFFSETFROM:+0000
TZOFFSETTO:+0000
TZNAME:UTC
DTSTART:20220101T000000
END:STANDARD
END:VTIMEZONE
BEGIN:VEVENT
DTSTART;TZID=UTC:20231101T160000
DTEND;TZID=UTC:20231101T180000
DTSTAMP:20260423T020107
CREATED:20230829T204822Z
LAST-MODIFIED:20231214T232618Z
UID:10001920-1698854400-1698861600@www.uacdc.org
SUMMARY:Youth Swim Lessons
DESCRIPTION:GET MOVING – Youth Swim Lessons (Get Moving) \nAges: 7 – 14 \nNew Tampa F amily YMCA :16221 Compton Dr.\, Tampa\, FL 33647\nTime: 9:00am – 11:00 am \nFree swim lessons at the YMCA! Spots are limited\, so it is recommended to sign up for this course ahead of time. For children ages7-14. Current School Sports Physical and Application required before participation. \nGet Moving! is a community-based program. If you are interested in participating or have any questions\, please contact Ronnie Oliver\, Health & Wellness Coordinator\, at (813) 558-1149 or roliver@uacdc.org.
URL:https://www.uacdc.org/event_general/youth-swim-lessons-new-tampa-ymca/2023-11-01/
LOCATION:New Tampa Family YMCA\, 16221 Compton Dr.\, Tampa\, FL\, 33647\, United States
CATEGORIES:Get Moving,Youth,Youth Classes,Youth Sports
ATTACH;FMTTYPE=image/png:https://www.uacdc.org/wp-content/uploads/2023/08/swim.png
ORGANIZER;CN="Get Moving! Program":MAILTO:roliver@uacdc.org
END:VEVENT
BEGIN:VEVENT
DTSTART;TZID=UTC:20231030T160000
DTEND;TZID=UTC:20231030T180000
DTSTAMP:20260423T020107
CREATED:20230829T204822Z
LAST-MODIFIED:20231214T232618Z
UID:10001919-1698681600-1698688800@www.uacdc.org
SUMMARY:Youth Swim Lessons
DESCRIPTION:GET MOVING – Youth Swim Lessons (Get Moving) \nAges: 7 – 14 \nNew Tampa F amily YMCA :16221 Compton Dr.\, Tampa\, FL 33647\nTime: 9:00am – 11:00 am \nFree swim lessons at the YMCA! Spots are limited\, so it is recommended to sign up for this course ahead of time. For children ages7-14. Current School Sports Physical and Application required before participation. \nGet Moving! is a community-based program. If you are interested in participating or have any questions\, please contact Ronnie Oliver\, Health & Wellness Coordinator\, at (813) 558-1149 or roliver@uacdc.org.
URL:https://www.uacdc.org/event_general/youth-swim-lessons-new-tampa-ymca/2023-10-30/
LOCATION:New Tampa Family YMCA\, 16221 Compton Dr.\, Tampa\, FL\, 33647\, United States
CATEGORIES:Get Moving,Youth,Youth Classes,Youth Sports
ATTACH;FMTTYPE=image/png:https://www.uacdc.org/wp-content/uploads/2023/08/swim.png
ORGANIZER;CN="Get Moving! Program":MAILTO:roliver@uacdc.org
END:VEVENT
BEGIN:VEVENT
DTSTART;TZID=UTC:20231018T160000
DTEND;TZID=UTC:20231018T180000
DTSTAMP:20260423T020107
CREATED:20230829T204822Z
LAST-MODIFIED:20231214T232618Z
UID:10001918-1697644800-1697652000@www.uacdc.org
SUMMARY:Youth Swim Lessons
DESCRIPTION:GET MOVING – Youth Swim Lessons (Get Moving) \nAges: 7 – 14 \nNew Tampa F amily YMCA :16221 Compton Dr.\, Tampa\, FL 33647\nTime: 9:00am – 11:00 am \nFree swim lessons at the YMCA! Spots are limited\, so it is recommended to sign up for this course ahead of time. For children ages7-14. Current School Sports Physical and Application required before participation. \nGet Moving! is a community-based program. If you are interested in participating or have any questions\, please contact Ronnie Oliver\, Health & Wellness Coordinator\, at (813) 558-1149 or roliver@uacdc.org.
URL:https://www.uacdc.org/event_general/youth-swim-lessons-new-tampa-ymca/2023-10-18/
LOCATION:New Tampa Family YMCA\, 16221 Compton Dr.\, Tampa\, FL\, 33647\, United States
CATEGORIES:Get Moving,Youth,Youth Classes,Youth Sports
ATTACH;FMTTYPE=image/png:https://www.uacdc.org/wp-content/uploads/2023/08/swim.png
ORGANIZER;CN="Get Moving! Program":MAILTO:roliver@uacdc.org
END:VEVENT
BEGIN:VEVENT
DTSTART;TZID=UTC:20231016T160000
DTEND;TZID=UTC:20231016T180000
DTSTAMP:20260423T020107
CREATED:20230829T204822Z
LAST-MODIFIED:20231214T232618Z
UID:10001917-1697472000-1697479200@www.uacdc.org
SUMMARY:Youth Swim Lessons
DESCRIPTION:GET MOVING – Youth Swim Lessons (Get Moving) \nAges: 7 – 14 \nNew Tampa F amily YMCA :16221 Compton Dr.\, Tampa\, FL 33647\nTime: 9:00am – 11:00 am \nFree swim lessons at the YMCA! Spots are limited\, so it is recommended to sign up for this course ahead of time. For children ages7-14. Current School Sports Physical and Application required before participation. \nGet Moving! is a community-based program. If you are interested in participating or have any questions\, please contact Ronnie Oliver\, Health & Wellness Coordinator\, at (813) 558-1149 or roliver@uacdc.org.
URL:https://www.uacdc.org/event_general/youth-swim-lessons-new-tampa-ymca/2023-10-16/
LOCATION:New Tampa Family YMCA\, 16221 Compton Dr.\, Tampa\, FL\, 33647\, United States
CATEGORIES:Get Moving,Youth,Youth Classes,Youth Sports
ATTACH;FMTTYPE=image/png:https://www.uacdc.org/wp-content/uploads/2023/08/swim.png
ORGANIZER;CN="Get Moving! Program":MAILTO:roliver@uacdc.org
END:VEVENT
BEGIN:VEVENT
DTSTART;TZID=UTC:20231004T160000
DTEND;TZID=UTC:20231004T180000
DTSTAMP:20260423T020107
CREATED:20230829T204822Z
LAST-MODIFIED:20231214T232618Z
UID:10001916-1696435200-1696442400@www.uacdc.org
SUMMARY:Youth Swim Lessons
DESCRIPTION:GET MOVING – Youth Swim Lessons (Get Moving) \nAges: 7 – 14 \nNew Tampa F amily YMCA :16221 Compton Dr.\, Tampa\, FL 33647\nTime: 9:00am – 11:00 am \nFree swim lessons at the YMCA! Spots are limited\, so it is recommended to sign up for this course ahead of time. For children ages7-14. Current School Sports Physical and Application required before participation. \nGet Moving! is a community-based program. If you are interested in participating or have any questions\, please contact Ronnie Oliver\, Health & Wellness Coordinator\, at (813) 558-1149 or roliver@uacdc.org.
URL:https://www.uacdc.org/event_general/youth-swim-lessons-new-tampa-ymca/2023-10-04/
LOCATION:New Tampa Family YMCA\, 16221 Compton Dr.\, Tampa\, FL\, 33647\, United States
CATEGORIES:Get Moving,Youth,Youth Classes,Youth Sports
ATTACH;FMTTYPE=image/png:https://www.uacdc.org/wp-content/uploads/2023/08/swim.png
ORGANIZER;CN="Get Moving! Program":MAILTO:roliver@uacdc.org
END:VEVENT
BEGIN:VEVENT
DTSTART;TZID=UTC:20231002T160000
DTEND;TZID=UTC:20231002T180000
DTSTAMP:20260423T020107
CREATED:20230829T204822Z
LAST-MODIFIED:20231214T232618Z
UID:10001915-1696262400-1696269600@www.uacdc.org
SUMMARY:Youth Swim Lessons
DESCRIPTION:GET MOVING – Youth Swim Lessons (Get Moving) \nAges: 7 – 14 \nNew Tampa F amily YMCA :16221 Compton Dr.\, Tampa\, FL 33647\nTime: 9:00am – 11:00 am \nFree swim lessons at the YMCA! Spots are limited\, so it is recommended to sign up for this course ahead of time. For children ages7-14. Current School Sports Physical and Application required before participation. \nGet Moving! is a community-based program. If you are interested in participating or have any questions\, please contact Ronnie Oliver\, Health & Wellness Coordinator\, at (813) 558-1149 or roliver@uacdc.org.
URL:https://www.uacdc.org/event_general/youth-swim-lessons-new-tampa-ymca/2023-10-02/
LOCATION:New Tampa Family YMCA\, 16221 Compton Dr.\, Tampa\, FL\, 33647\, United States
CATEGORIES:Get Moving,Youth,Youth Classes,Youth Sports
ATTACH;FMTTYPE=image/png:https://www.uacdc.org/wp-content/uploads/2023/08/swim.png
ORGANIZER;CN="Get Moving! Program":MAILTO:roliver@uacdc.org
END:VEVENT
BEGIN:VEVENT
DTSTART;TZID=UTC:20230920T160000
DTEND;TZID=UTC:20230920T180000
DTSTAMP:20260423T020107
CREATED:20230829T204822Z
LAST-MODIFIED:20231214T232618Z
UID:10001914-1695225600-1695232800@www.uacdc.org
SUMMARY:Youth Swim Lessons
DESCRIPTION:GET MOVING – Youth Swim Lessons (Get Moving) \nAges: 7 – 14 \nNew Tampa F amily YMCA :16221 Compton Dr.\, Tampa\, FL 33647\nTime: 9:00am – 11:00 am \nFree swim lessons at the YMCA! Spots are limited\, so it is recommended to sign up for this course ahead of time. For children ages7-14. Current School Sports Physical and Application required before participation. \nGet Moving! is a community-based program. If you are interested in participating or have any questions\, please contact Ronnie Oliver\, Health & Wellness Coordinator\, at (813) 558-1149 or roliver@uacdc.org.
URL:https://www.uacdc.org/event_general/youth-swim-lessons-new-tampa-ymca/2023-09-20/
LOCATION:New Tampa Family YMCA\, 16221 Compton Dr.\, Tampa\, FL\, 33647\, United States
CATEGORIES:Get Moving,Youth,Youth Classes,Youth Sports
ATTACH;FMTTYPE=image/png:https://www.uacdc.org/wp-content/uploads/2023/08/swim.png
ORGANIZER;CN="Get Moving! Program":MAILTO:roliver@uacdc.org
END:VEVENT
BEGIN:VEVENT
DTSTART;TZID=UTC:20230918T160000
DTEND;TZID=UTC:20230918T180000
DTSTAMP:20260423T020107
CREATED:20230829T204822Z
LAST-MODIFIED:20231214T232618Z
UID:10001913-1695052800-1695060000@www.uacdc.org
SUMMARY:Youth Swim Lessons
DESCRIPTION:GET MOVING – Youth Swim Lessons (Get Moving) \nAges: 7 – 14 \nNew Tampa F amily YMCA :16221 Compton Dr.\, Tampa\, FL 33647\nTime: 9:00am – 11:00 am \nFree swim lessons at the YMCA! Spots are limited\, so it is recommended to sign up for this course ahead of time. For children ages7-14. Current School Sports Physical and Application required before participation. \nGet Moving! is a community-based program. If you are interested in participating or have any questions\, please contact Ronnie Oliver\, Health & Wellness Coordinator\, at (813) 558-1149 or roliver@uacdc.org.
URL:https://www.uacdc.org/event_general/youth-swim-lessons-new-tampa-ymca/2023-09-18/
LOCATION:New Tampa Family YMCA\, 16221 Compton Dr.\, Tampa\, FL\, 33647\, United States
CATEGORIES:Get Moving,Youth,Youth Classes,Youth Sports
ATTACH;FMTTYPE=image/png:https://www.uacdc.org/wp-content/uploads/2023/08/swim.png
ORGANIZER;CN="Get Moving! Program":MAILTO:roliver@uacdc.org
END:VEVENT
BEGIN:VEVENT
DTSTART;TZID=UTC:20230906T160000
DTEND;TZID=UTC:20230906T180000
DTSTAMP:20260423T020107
CREATED:20230829T204822Z
LAST-MODIFIED:20231214T232618Z
UID:10001912-1694016000-1694023200@www.uacdc.org
SUMMARY:Youth Swim Lessons
DESCRIPTION:GET MOVING – Youth Swim Lessons (Get Moving) \nAges: 7 – 14 \nNew Tampa F amily YMCA :16221 Compton Dr.\, Tampa\, FL 33647\nTime: 9:00am – 11:00 am \nFree swim lessons at the YMCA! Spots are limited\, so it is recommended to sign up for this course ahead of time. For children ages7-14. Current School Sports Physical and Application required before participation. \nGet Moving! is a community-based program. If you are interested in participating or have any questions\, please contact Ronnie Oliver\, Health & Wellness Coordinator\, at (813) 558-1149 or roliver@uacdc.org.
URL:https://www.uacdc.org/event_general/youth-swim-lessons-new-tampa-ymca/2023-09-06/
LOCATION:New Tampa Family YMCA\, 16221 Compton Dr.\, Tampa\, FL\, 33647\, United States
CATEGORIES:Get Moving,Youth,Youth Classes,Youth Sports
ATTACH;FMTTYPE=image/png:https://www.uacdc.org/wp-content/uploads/2023/08/swim.png
ORGANIZER;CN="Get Moving! Program":MAILTO:roliver@uacdc.org
END:VEVENT
BEGIN:VEVENT
DTSTART;TZID=UTC:20230904T160000
DTEND;TZID=UTC:20230904T180000
DTSTAMP:20260423T020107
CREATED:20230829T204822Z
LAST-MODIFIED:20231214T232618Z
UID:10001911-1693843200-1693850400@www.uacdc.org
SUMMARY:Youth Swim Lessons
DESCRIPTION:GET MOVING – Youth Swim Lessons (Get Moving) \nAges: 7 – 14 \nNew Tampa F amily YMCA :16221 Compton Dr.\, Tampa\, FL 33647\nTime: 9:00am – 11:00 am \nFree swim lessons at the YMCA! Spots are limited\, so it is recommended to sign up for this course ahead of time. For children ages7-14. Current School Sports Physical and Application required before participation. \nGet Moving! is a community-based program. If you are interested in participating or have any questions\, please contact Ronnie Oliver\, Health & Wellness Coordinator\, at (813) 558-1149 or roliver@uacdc.org.
URL:https://www.uacdc.org/event_general/youth-swim-lessons-new-tampa-ymca/2023-09-04/
LOCATION:New Tampa Family YMCA\, 16221 Compton Dr.\, Tampa\, FL\, 33647\, United States
CATEGORIES:Get Moving,Youth,Youth Classes,Youth Sports
ATTACH;FMTTYPE=image/png:https://www.uacdc.org/wp-content/uploads/2023/08/swim.png
ORGANIZER;CN="Get Moving! Program":MAILTO:roliver@uacdc.org
END:VEVENT
END:VCALENDAR